BEGIN:VCALENDAR
VERSION:2.0
PRODID:IEEE vTools.Events//EN
CALSCALE:GREGORIAN
BEGIN:VTIMEZONE
TZID:America/Mexico_City
BEGIN:STANDARD
DTSTART:20221030T010000
TZOFFSETFROM:-0500
TZOFFSETTO:-0600
TZNAME:CST
END:STANDARD
END:VTIMEZONE
BEGIN:VEVENT
DTSTAMP:20250312T174223Z
UID:282B1778-A996-4790-9156-1F3DDA0B5907
DTSTART;TZID=America/Mexico_City:20240320T140000
DTEND;TZID=America/Mexico_City:20250321T160000
DESCRIPTION:Serie de conferencias sobre energía nuclear y solar: Innovaci
 ón y sostenibilidad en el aprovechamiento de las fuentes energéticas del
  futuro.\n\nCo-sponsored by: IEEE Sección Veracruz\n\nSpeaker(s): Graciel
 a\, Fortanet\, Wilmer\n\nAv. Miguel Angel de Quevedo 2779\, Formando Hogar
 \, Veracruz\, Ver.\, Veracruz\, Veracruz-Llave\, Mexico\, 91897
LOCATION:Av. Miguel Angel de Quevedo 2779\, Formando Hogar\, Veracruz\, Ver
 .\, Veracruz\, Veracruz-Llave\, Mexico\, 91897
ORGANIZER:olmosmendozamalcolmzahid3@gmail.com
SEQUENCE:21
SUMMARY:Energías del Futuro: Perspectivas Nucleares y Solares para un Mund
 o Sostenible
URL;VALUE=URI:https://events.vtools.ieee.org/m/474380
X-ALT-DESC:Description: &lt;br /&gt;&lt;p&gt;Serie de conferencias sobre energ&amp;iacute\;
 a nuclear y solar: Innovaci&amp;oacute\;n y sostenibilidad en el aprovechamien
 to de las fuentes energ&amp;eacute\;ticas del futuro.&lt;/p&gt;\n&lt;p&gt;&amp;nbsp\;&lt;/p&gt;
END:VEVENT
END:VCALENDAR

