BEGIN:VCALENDAR
VERSION:2.0
PRODID:IEEE vTools.Events//EN
CALSCALE:GREGORIAN
BEGIN:VTIMEZONE
TZID:America/New_York
BEGIN:DAYLIGHT
DTSTART:20250309T030000
TZOFFSETFROM:-0500
TZOFFSETTO:-0400
RRULE:FREQ=YEARLY;BYDAY=2SU;BYMONTH=3
TZNAME:EDT
END:DAYLIGHT
BEGIN:STANDARD
DTSTART:20251102T010000
TZOFFSETFROM:-0400
TZOFFSETTO:-0500
RRULE:FREQ=YEARLY;BYDAY=1SU;BYMONTH=11
TZNAME:EST
END:STANDARD
END:VTIMEZONE
BEGIN:VEVENT
DTSTAMP:20250403T144635Z
UID:44D7BB91-2C17-44AD-A347-17D377A78106
DTSTART;TZID=America/New_York:20250329T110000
DTEND;TZID=America/New_York:20250330T120000
DESCRIPTION:Greetings\, engineers!\n\nAre you ready to dive into two days o
 f innovation\, collaboration\, and pure creative fun? We’re thrilled to 
 announce that ProfHacks 2025 is happening on March 29th-30th—and we want
  you to be a part of it!\n\nWhat is ProfHacks?\nAt its core\, ProfHacks is
  a hackathon: a designated time and space where you have access to resourc
 es\, caffeine\, and free food to create your coolest project yet. But it
 ’s so much more than that. It’s an opportunity to:\n\n- Collaborate an
 d Connect: Work alongside friends and meet new people who share your passi
 on for creating and innovating.\n- Learn and Experiment: Tinker with new i
 deas and skills outside the confines of classroom assignments or job requi
 rements.\n- Celebrate Creativity: Embrace the spirit of making something p
 urely because you dare to and believe in the idea.\n\nWhy Do We Do This?\n
 For 10 years\, students have flocked to ENGR not just for the free chicken
  tenders and prizes (though they’re definitely a perk!)\, but because cr
 eating is in our DNA. Whether it’s the challenge of building something f
 rom scratch or the joy of simply tinkering for fun\, ProfHacks exists beca
 use innovation is a fundamental part of who we are.\n\nNow yes\, we have e
 stablished that you don&#39;t do this for the prizes\, so I am sure this won&#39;t
  interest you whatsoever\, but just to go over them real quick:\n\nGrand P
 rize: PS5s (one for each member of a team of up to 4)\nSecond Place: 3D Pr
 inters\nThird Place: Tool Kits\n\nSo\, are you ready to test your luck\, i
 nnovate\, or simply have a good ol&#39; time?\n[Sign up now](https://forms.gle
 /ScGGCmWkMuVBd2hF9) to reserve your spot!\n\nFor up-to-date information\, 
 join our Discord: https://discord.gg/RcZmVyJSMe\n\nWe can’t wait to see 
 what you create!\n\nBldg: Engineering Hall\, 401 North Campus Drive\, Glas
 sboro\, New Jersey\, United States\, 08028
LOCATION:Bldg: Engineering Hall\, 401 North Campus Drive\, Glassboro\, New 
 Jersey\, United States\, 08028
ORGANIZER:ficarr85@students.rowan.edu
SEQUENCE:6
SUMMARY:ProfHacks 2025 - CASINO ROYALE
URL;VALUE=URI:https://events.vtools.ieee.org/m/474397
X-ALT-DESC:Description: &lt;br /&gt;&lt;p&gt;Greetings\, engineers!&lt;/p&gt;\n&lt;p&gt;Are you rea
 dy to dive into two days of innovation\, collaboration\, and pure creative
  fun? We&amp;rsquo\;re thrilled to announce that&amp;nbsp\;&lt;strong&gt;&lt;span class=&quot;il
 &quot;&gt;ProfHacks&lt;/span&gt;&amp;nbsp\;2025&lt;/strong&gt;&amp;nbsp\;is happening on&amp;nbsp\;&lt;strong
 &gt;March 29th-30th&lt;/strong&gt;&amp;mdash\;and we want you to be a part of it!&lt;/p&gt;\n
 &lt;p&gt;&lt;strong&gt;What is&amp;nbsp\;&lt;span class=&quot;il&quot;&gt;ProfHacks&lt;/span&gt;?&lt;/strong&gt;&lt;br&gt;At
  its core\,&amp;nbsp\;&lt;span class=&quot;il&quot;&gt;ProfHacks&lt;/span&gt;&amp;nbsp\;is a hackathon: 
 a designated time and space where you have access to resources\, caffeine\
 , and free food to create your coolest project yet. But it&amp;rsquo\;s so muc
 h more than that. It&amp;rsquo\;s an opportunity to:&lt;/p&gt;\n&lt;ul type=&quot;disc&quot;&gt;\n&lt;l
 i class=&quot;MsoNormal&quot;&gt;&lt;strong&gt;Collaborate and Connect:&lt;/strong&gt;&amp;nbsp\;Work a
 longside friends and meet new people who share your passion for creating a
 nd innovating.&lt;/li&gt;\n&lt;li class=&quot;MsoNormal&quot;&gt;&lt;strong&gt;Learn and Experiment:&lt;/
 strong&gt;&amp;nbsp\;Tinker with new ideas and skills outside the confines of cla
 ssroom assignments or job requirements.&lt;/li&gt;\n&lt;li class=&quot;MsoNormal&quot;&gt;&lt;stron
 g&gt;Celebrate Creativity:&lt;/strong&gt;&amp;nbsp\;Embrace the spirit of making someth
 ing purely because you dare to and believe in the idea.&lt;/li&gt;\n&lt;/ul&gt;\n&lt;p&gt;&lt;s
 trong&gt;Why Do We Do This?&lt;/strong&gt;&lt;br&gt;For 10 years\, students have flocked 
 to ENGR not just for the free chicken tenders and prizes (though they&amp;rsqu
 o\;re definitely a perk!)\, but because creating is in our DNA. Whether it
 &amp;rsquo\;s the challenge of building something from scratch or the joy of s
 imply tinkering for fun\,&amp;nbsp\;&lt;span class=&quot;il&quot;&gt;ProfHacks&lt;/span&gt;&amp;nbsp\;ex
 ists because innovation is a fundamental part of who we are.&lt;/p&gt;\n&lt;p&gt;Now y
 es\, we have established that you don&#39;t do this for the prizes\, so I am s
 ure this won&#39;t interest you whatsoever\, but just to go over them real qui
 ck:&lt;/p&gt;\n&lt;p class=&quot;MsoNormal&quot;&gt;Grand Prize:&amp;nbsp\;&lt;strong&gt;&lt;em&gt;PS5s&amp;nbsp\;&lt;/
 em&gt;&lt;/strong&gt;(one for each member of a team of up to 4)&lt;br&gt;Second Place: 3D
  Printers&lt;br&gt;Third Place: Tool Kits&lt;/p&gt;\n&lt;p&gt;So\, are you ready to test you
 r luck\, innovate\, or simply have a good&amp;nbsp\;ol&#39; time?&lt;br&gt;&lt;a href=&quot;http
 s://forms.gle/ScGGCmWkMuVBd2hF9&quot; target=&quot;_blank&quot; rel=&quot;noopener&quot; data-safer
 edirecturl=&quot;https://www.google.com/url?q=https://forms.gle/ScGGCmWkMuVBd2h
 F9&amp;amp\;source=gmail&amp;amp\;ust=1741889438891000&amp;amp\;usg=AOvVaw2mVphNL03uXp
 rMIacPCKtB&quot;&gt;Sign up now&lt;/a&gt;&amp;nbsp\;to reserve your spot!&lt;/p&gt;\n&lt;p&gt;For up-to-
 date information\, join our Discord:&amp;nbsp\;&lt;a href=&quot;https://discord.gg/RcZ
 mVyJSMe&quot; target=&quot;_blank&quot; rel=&quot;noopener&quot; data-saferedirecturl=&quot;https://www.
 google.com/url?q=https://discord.gg/RcZmVyJSMe&amp;amp\;source=gmail&amp;amp\;ust=
 1741889438891000&amp;amp\;usg=AOvVaw3JU6CRJBoiIBhLIYMrP2iN&quot;&gt;https://discord.gg
 /&lt;wbr&gt;RcZmVyJSMe&lt;/a&gt;&lt;/p&gt;\n&lt;p&gt;We can&amp;rsquo\;t wait to see what you create!&lt;
 /p&gt;
END:VEVENT
END:VCALENDAR

