BEGIN:VCALENDAR
VERSION:2.0
PRODID:IEEE vTools.Events//EN
CALSCALE:GREGORIAN
BEGIN:VTIMEZONE
TZID:America/Los_Angeles
BEGIN:DAYLIGHT
DTSTART:20250309T030000
TZOFFSETFROM:-0800
TZOFFSETTO:-0700
RRULE:FREQ=YEARLY;BYDAY=2SU;BYMONTH=3
TZNAME:PDT
END:DAYLIGHT
BEGIN:STANDARD
DTSTART:20251102T010000
TZOFFSETFROM:-0700
TZOFFSETTO:-0800
RRULE:FREQ=YEARLY;BYDAY=1SU;BYMONTH=11
TZNAME:PST
END:STANDARD
END:VTIMEZONE
BEGIN:VEVENT
DTSTAMP:20250420T043042Z
UID:FE50FD00-A36A-4460-8E53-130D57CCF3F7
DTSTART;TZID=America/Los_Angeles:20250416T110000
DTEND;TZID=America/Los_Angeles:20250416T140000
DESCRIPTION:Join with other Life Member Affiliate Group members for a socia
 l outing with lunch and a moderated discussion where you can share your ex
 periences with technologies including such topics as:\n\na. bit coins\, us
 es and problems\n\nb. devices for energy efficiency including solar system
 s\n\nc. video surveillance uses and systems\n\nd. how are you using AI for
  security\, travel planning\, financial management\, irrigation management
 ?\n\ne. and anything else\n\nAgenda: \nMeeting and included lunch. Buffet 
 or order from menu depending on upon the number of registrants. Subsidized
  fee for OEB Life Members is $20\, for IEEE non-members the fee is $35.\n\
 nBldg: Golf Course Restaurant\, Beeb&#39;s Sports Bar and Grill\, 915 Clubhous
 e Drive\, Livermore\, California\, United States
LOCATION:Bldg: Golf Course Restaurant\, Beeb&#39;s Sports Bar and Grill\, 915 C
 lubhouse Drive\, Livermore\, California\, United States
ORGANIZER:mwvavra@outlook.com
SEQUENCE:56
SUMMARY:Personal Technology Open Discussion and Lunch
URL;VALUE=URI:https://events.vtools.ieee.org/m/474922
X-ALT-DESC:Description: &lt;br /&gt;&lt;p&gt;&lt;span style=&quot;font-family: arial\, helvetic
 a\, sans-serif\;&quot;&gt;Join with other Life Member Affiliate Group members for 
 a social outing with lunch and a moderated discussion where you can share 
 your experiences with technologies including such topics as:&lt;/span&gt;&lt;/p&gt;\n&lt;
 p&gt;&lt;span style=&quot;font-family: arial\, helvetica\, sans-serif\;&quot;&gt;&amp;nbsp\; &amp;nbs
 p\; &amp;nbsp\; &amp;nbsp\; &amp;nbsp\; &amp;nbsp\; &amp;nbsp\; &amp;nbsp\; &amp;nbsp\;a. bit coins\, 
 uses and problems&lt;/span&gt;&lt;/p&gt;\n&lt;p&gt;&lt;span style=&quot;font-family: arial\, helveti
 ca\, sans-serif\;&quot;&gt;&amp;nbsp\; &amp;nbsp\; &amp;nbsp\; &amp;nbsp\; &amp;nbsp\; &amp;nbsp\; &amp;nbsp\;
  &amp;nbsp\; &amp;nbsp\;b. devices for energy efficiency including solar systems&lt;/
 span&gt;&lt;/p&gt;\n&lt;p&gt;&lt;span style=&quot;font-family: arial\, helvetica\, sans-serif\;&quot;&gt;
 &amp;nbsp\; &amp;nbsp\; &amp;nbsp\; &amp;nbsp\; &amp;nbsp\; &amp;nbsp\; &amp;nbsp\; &amp;nbsp\; &amp;nbsp\;c. 
 video surveillance uses and systems&lt;/span&gt;&lt;/p&gt;\n&lt;p&gt;&lt;span style=&quot;font-famil
 y: arial\, helvetica\, sans-serif\;&quot;&gt;&amp;nbsp\; &amp;nbsp\; &amp;nbsp\; &amp;nbsp\; &amp;nbsp
 \; &amp;nbsp\; &amp;nbsp\; &amp;nbsp\; &amp;nbsp\;d. how are you using AI for security\, t
 ravel planning\, financial management\, irrigation management?&lt;/span&gt;&lt;/p&gt;\
 n&lt;p&gt;&lt;span style=&quot;font-family: arial\, helvetica\, sans-serif\;&quot;&gt;&amp;nbsp\; &amp;n
 bsp\; &amp;nbsp\; &amp;nbsp\; &amp;nbsp\; &amp;nbsp\; &amp;nbsp\; &amp;nbsp\; &amp;nbsp\;e. and anythi
 ng else&lt;/span&gt;&lt;/p&gt;\n&lt;p&gt;&lt;span style=&quot;font-family: arial\, helvetica\, sans-
 serif\;&quot;&gt;&amp;nbsp\; &amp;nbsp\; &amp;nbsp\; &amp;nbsp\; &amp;nbsp\; &amp;nbsp\; &amp;nbsp\; &amp;nbsp\; &amp;
 nbsp\;&lt;/span&gt;&lt;/p&gt;\n&lt;p&gt;&amp;nbsp\;&lt;/p&gt;\n&lt;p&gt;&amp;nbsp\;&lt;/p&gt;\n&lt;p&gt;&amp;nbsp\;&lt;/p&gt;&lt;br /&gt;&lt;br
  /&gt;Agenda: &lt;br /&gt;&lt;p class=&quot;MsoNormal&quot;&gt;&lt;span style=&quot;mso-bidi-font-family: A
 rial\; color: #616161\; background: white\;&quot;&gt;Meeting and included lunch.&amp;n
 bsp\; Buffet or order from menu depending on upon the number of registrant
 s. Subsidized fee for OEB Life Members is $20\, for IEEE non-members the f
 ee is $35&lt;/span&gt;&lt;span style=&quot;font-size: 10.5pt\; font-family: &#39;Open Sans&#39;\
 ,sans-serif\; color: #616161\; background: white\;&quot;&gt;.&lt;/span&gt;&lt;/p&gt;
END:VEVENT
END:VCALENDAR

