BEGIN:VCALENDAR
VERSION:2.0
PRODID:IEEE vTools.Events//EN
CALSCALE:GREGORIAN
BEGIN:VTIMEZONE
TZID:Europe/London
BEGIN:DAYLIGHT
DTSTART:20250330T020000
TZOFFSETFROM:+0000
TZOFFSETTO:+0100
RRULE:FREQ=YEARLY;BYDAY=-1SU;BYMONTH=3
TZNAME:BST
END:DAYLIGHT
BEGIN:STANDARD
DTSTART:20251026T010000
TZOFFSETFROM:+0100
TZOFFSETTO:+0000
RRULE:FREQ=YEARLY;BYDAY=-1SU;BYMONTH=10
TZNAME:GMT
END:STANDARD
END:VTIMEZONE
BEGIN:VEVENT
DTSTAMP:20250527T111838Z
UID:733BF86B-5034-40AB-BEDA-F089B24F8736
DTSTART;TZID=Europe/London:20250508T113000
DTEND;TZID=Europe/London:20250509T150000
DESCRIPTION:[]\n\nTitle: Advancing the Future: Transportation Electrificati
 on\nDates:  8th and 9th May 2025\nTarget Audience: Students and Young Prof
 essionals\nLocation: National Graphene Institute\, The University of Manch
 ester\, Booth Street East\, Manchester\, M13 9PL\n\nJoin us for a two-day 
 event hosted by IAS CMD and the University of Manchester IAS Student Branc
 h Chapter. The event will explore the future of transportation electrifica
 tion\, focusing on sustainability\, career growth\, innovation\, collabora
 tion\, and emerging technological challenges.\n\n**NOTE ON REGISTRATION FE
 ES**\nIf you are attending only the workshop = SOLD OUT.\nIf you are atten
 ding the workshop and Gala Dinner = SOLD OUT.\n\nCo-sponsored by: IEEE IAS
  CMD\n\nAgenda: \nDay 1: Thursday\, 8th May\n\nChair: Tony Chen\, Reader\,
  The University of Manchester\n\n11:30-13:00 Registration and Networking L
 unch\n\n13:00-13:30 Linking Research to Practise - Andy Knight\, IAS Past 
 President\, Professor\, University of Calgary\n\n13:30-14:00 Is there a ro
 le for electrification in delivering Paris-Agreement aligned aviation and 
 shipping? - Alice Larkin\, Professor in Climate Science &amp; Energy Policy\, 
 The University of Manchester\n\n14:00-14:30 Condition Monitoring of Electr
 ic Drive Systems - Sinisa Durovic\, Reader\, The University of Manchester\
 n\n14:30-15:00 Coffee Break\n\n15:00-15:30 Engineering Dreams: My Path\, P
 assion and Perseverance - Sarah Mlundira\, Head of Technical\, Sentric Saf
 ety Group\n\n15:30-16:00 The components of a high voltage coil - Arwyn Tho
 mas\, Chief Technology Officer\, Preformed Windings\n\n16:00-17:00 Panel d
 iscussion: Maximizing Productivity - Achieving Work Efficiency &amp; Life Bala
 nce - Moderator: Yanni Zhong\, IAS WiE Representative\, Siemens Energy.\n\
 n18:20-21:00 Gala Dinner at the Hyatt Regency Hotel  SOLD OUT.\n\nDay 2: F
 riday\, 9th May\n\nChair: Tony Chen\, Reader\, The University of Mancheste
 r\n\n09:00-09:30 Hydrogen Electric Aircraft with Zero-Emission Propulsion 
 System - Sandy Smith\, Professor of Electrical Machines\, The University o
 f Manchester\n\n09:30-10:00 The National Materials Innovation Strategy - I
 an Kinloch\, Professor and Chief Scientific Officer\, Henry Royce Institut
 e\n\n10:00-10:30 Renewable Energy in Transportation - Subhra Samanta\, Sen
 ior Key Expert\, Siemens Energy\, Vice Chair IEEE Denmark\n\n10:30-11:00 C
 offee Break\n\n11:00-11:40 Driving the Electric Revolution – Supporting 
 PEMD Manufacturing in the UK - Derrick Holliday\, Professor and North East
  Centre Lead for DER-IC\, Newcastle University\n\n11:40-12:40 Codes &amp; Stan
 dards - What They Are and How They Can Help Your Career - Nehad El-Sherif\
 , IEEE IAS Executive Board Member\n\n12:40-13:20 Lunch Break\n\n13:20-14:5
 0 Chapter Workshops &amp; Networking\n\nModerator: Costa Onoufriou\n\nEach stu
 dent chapter presents initiatives\, research\, collaborative efforts\, fut
 ure plans\, and past attempts\, followed by networking opportunities.\n-Ne
 had El-Sherif: IAS Ambassador Program\n-Yanni Zhong &amp; Linda Dan Li: IAS St
 udent Chapter Activity Ideas and Resources\n-Discussion\, Q &amp; A\n\n14:50-1
 5:00 Closing Remarks by the IAS President\n\nBldg: National Graphene Insti
 tute\, National Graphene Institute\, The University of Manchester\, Booth 
 Street East\, Manchester\, England\, United Kingdom\, M13 9PL
LOCATION:Bldg: National Graphene Institute\, National Graphene Institute\, 
 The University of Manchester\, Booth Street East\, Manchester\, England\, 
 United Kingdom\, M13 9PL
ORGANIZER:elizabeth.michalenko@manchester.ac.uk
SEQUENCE:227
SUMMARY:Advancing the Future: Transportation Electrification
URL;VALUE=URI:https://events.vtools.ieee.org/m/475055
X-ALT-DESC:Description: &lt;br /&gt;&lt;p style=&quot;line-height: 1.3\;&quot;&gt;&lt;span style=&quot;fo
 nt-family: arial\, helvetica\, sans-serif\; font-size: 10pt\; color: rgb(0
 \, 0\, 0)\;&quot;&gt;&lt;img style=&quot;border-style: none\;&quot; src=&quot;https://events.vtools.
 ieee.org/vtools_ui/media/display/bd57dc2f-b3c6-4b70-a202-34a9fc93a416&quot; alt
 =&quot;&quot; width=&quot;676&quot; height=&quot;110&quot;&gt;&lt;br&gt;&lt;/span&gt;&lt;/p&gt;\n&lt;p style=&quot;line-height: 1.3\;
  text-align: left\;&quot;&gt;&lt;span style=&quot;color: rgb(0\, 0\, 0)\;&quot;&gt;&lt;span style=&quot;fo
 nt-family: arial\, helvetica\, sans-serif\; font-size: 10pt\;&quot;&gt;Title:&amp;nbsp
 \; &amp;nbsp\; &amp;nbsp\; &amp;nbsp\; &amp;nbsp\; &amp;nbsp\; &amp;nbsp\; &amp;nbsp\; &amp;nbsp\; &amp;nbsp\;
  &amp;nbsp\; &amp;nbsp\; &amp;nbsp\; &amp;nbsp\; &amp;nbsp\; &amp;nbsp\;Advancing the Future: Tran
 sportation Electrification&lt;br&gt;&lt;/span&gt;&lt;span style=&quot;font-family: arial\, hel
 vetica\, sans-serif\; font-size: 10pt\;&quot;&gt;Dates&lt;/span&gt;&lt;span style=&quot;font-fam
 ily: arial\, helvetica\, sans-serif\; font-size: 10pt\;&quot;&gt;: &lt;/span&gt;&lt;span st
 yle=&quot;font-family: arial\, helvetica\, sans-serif\; font-size: 10pt\;&quot;&gt;&amp;nbs
 p\; &amp;nbsp\; &amp;nbsp\; &amp;nbsp\; &amp;nbsp\; &amp;nbsp\; &amp;nbsp\; &amp;nbsp\; &amp;nbsp\; &amp;nbsp\
 ; &amp;nbsp\; &amp;nbsp\; &amp;nbsp\; &amp;nbsp\;&lt;/span&gt;&lt;span style=&quot;font-family: arial\, 
 helvetica\, sans-serif\; font-size: 10pt\;&quot;&gt;8&lt;/span&gt;&lt;span style=&quot;font-fami
 ly: arial\, helvetica\, sans-serif\; font-size: 10pt\;&quot;&gt;th&lt;/span&gt;&lt;span sty
 le=&quot;font-family: arial\, helvetica\, sans-serif\; font-size: 10pt\;&quot;&gt; and 
 9&lt;/span&gt;&lt;span style=&quot;font-family: arial\, helvetica\, sans-serif\; font-si
 ze: 10pt\;&quot;&gt;th&lt;/span&gt;&lt;span style=&quot;font-family: arial\, helvetica\, sans-se
 rif\; font-size: 10pt\;&quot;&gt; May 2025&lt;br&gt;&lt;/span&gt;&lt;span style=&quot;font-family: ari
 al\, helvetica\, sans-serif\; font-size: 10pt\;&quot;&gt;Target Audience: &amp;nbsp\;&amp;
 nbsp\;&amp;nbsp\;&amp;nbsp\;&amp;nbsp\;&amp;nbsp\;&amp;nbsp\;&amp;nbsp\;&amp;nbsp\;&amp;nbsp\;&amp;nbsp\;Stude
 nts and Young Professionals&lt;br&gt;&lt;/span&gt;&lt;span style=&quot;font-family: arial\, he
 lvetica\, sans-serif\; font-size: 10pt\;&quot;&gt;Location:&amp;nbsp\; &amp;nbsp\; &amp;nbsp\;
  &amp;nbsp\; &amp;nbsp\; &amp;nbsp\; &amp;nbsp\; &amp;nbsp\; &amp;nbsp\; &amp;nbsp\; &amp;nbsp\; &amp;nbsp\; N
 ational Graphene Institute\, The University of Manchester\, Booth Street E
 ast\, Manchester\, M13 9PL&lt;/span&gt;&lt;/span&gt;&lt;/p&gt;\n&lt;p style=&quot;line-height: 1.3\;
  text-align: left\;&quot;&gt;&lt;span style=&quot;font-family: arial\, helvetica\, sans-se
 rif\; font-size: 10pt\; color: rgb(0\, 0\, 0)\;&quot;&gt;Join us for a two-day eve
 nt hosted by IAS CMD and the University of Manchester IAS Student Branch C
 hapter. The event will explore the future of transportation electrificatio
 n\, focusing on sustainability\, career growth\, innovation\, collaboratio
 n\, and emerging technological challenges.&lt;/span&gt;&lt;/p&gt;\n&lt;p style=&quot;line-heig
 ht: 1.3\; text-align: left\;&quot;&gt;&amp;nbsp\;&lt;/p&gt;\n&lt;p style=&quot;line-height: 1.3\; te
 xt-align: left\;&quot;&gt;&lt;strong&gt;&lt;span style=&quot;color: rgb(0\, 0\, 0)\;&quot;&gt;&lt;span styl
 e=&quot;font-family: arial\, helvetica\, sans-serif\; font-size: 10pt\;&quot;&gt;&lt;em&gt;**
 NOTE ON REGISTRATION FEES**&lt;br&gt;&lt;/em&gt;&lt;/span&gt;&lt;/span&gt;&lt;/strong&gt;&lt;span style=&quot;co
 lor: rgb(0\, 0\, 0)\;&quot;&gt;&lt;span style=&quot;font-family: arial\, helvetica\, sans-
 serif\; font-size: 10pt\;&quot;&gt;If you are attending only the workshop&amp;nbsp\; &amp;
 nbsp\; &amp;nbsp\; &amp;nbsp\; &amp;nbsp\; &amp;nbsp\; &amp;nbsp\; &amp;nbsp\; &amp;nbsp\; &amp;nbsp\; &amp;nb
 sp\; &amp;nbsp\;= &amp;nbsp\;&lt;strong&gt;&lt;span style=&quot;color: rgb(224\, 62\, 45)\;&quot;&gt;SOL
 D OUT.&lt;/span&gt;&lt;/strong&gt;&lt;br&gt;&lt;/span&gt;&lt;/span&gt;&lt;span style=&quot;color: rgb(0\, 0\, 0)
 \;&quot;&gt;&lt;span style=&quot;font-family: arial\, helvetica\, sans-serif\; font-size: 
 10pt\;&quot;&gt;If you are attending the workshop and Gala Dinner&amp;nbsp\; &amp;nbsp\; =
 &amp;nbsp\; &lt;strong&gt;&lt;span style=&quot;color: rgb(224\, 62\, 45)\;&quot;&gt;SOLD OUT.&lt;/span&gt;
 &lt;/strong&gt;&lt;/span&gt;&lt;/span&gt;&lt;/p&gt;\n&lt;p style=&quot;line-height: 1.3\; text-align: left
 \;&quot;&gt;&amp;nbsp\;&lt;/p&gt;&lt;br /&gt;&lt;br /&gt;Agenda: &lt;br /&gt;&lt;p style=&quot;line-height: 1.1\;&quot;&gt;&lt;sp
 an style=&quot;color: rgb(0\, 0\, 0)\;&quot;&gt;&lt;strong&gt;&lt;span style=&quot;text-decoration: u
 nderline\;&quot;&gt;&lt;span style=&quot;font-family: arial\, helvetica\, sans-serif\; fon
 t-size: 10pt\;&quot;&gt;Day 1: Thursday\, 8th May&lt;/span&gt;&lt;/span&gt;&lt;/strong&gt;&lt;/span&gt;&lt;/p
 &gt;\n&lt;p style=&quot;line-height: 1.1\;&quot;&gt;&lt;span style=&quot;font-family: arial\, helveti
 ca\, sans-serif\; font-size: 10pt\; color: rgb(0\, 0\, 0)\;&quot;&gt;Chair: Tony C
 hen\, Reader\, The University of Manchester&lt;/span&gt;&lt;/p&gt;\n&lt;p style=&quot;line-hei
 ght: 1.1\;&quot;&gt;&lt;span style=&quot;font-family: arial\, helvetica\, sans-serif\; fon
 t-size: 10pt\; color: rgb(0\, 0\, 0)\;&quot;&gt;11:30-13:00 &amp;nbsp\; &amp;nbsp\;Registr
 ation and Networking Lunch&lt;/span&gt;&lt;/p&gt;\n&lt;p style=&quot;line-height: 1.1\;&quot;&gt;&lt;span
  style=&quot;color: rgb(0\, 0\, 0)\;&quot;&gt;&lt;span style=&quot;font-family: arial\, helveti
 ca\, sans-serif\; font-size: 10pt\;&quot;&gt;13:00-13:30&amp;nbsp\; &amp;nbsp\; &lt;strong&gt;Li
 nking Research to Practise&lt;/strong&gt; -&amp;nbsp\; Andy Knight\, IAS Past Pre&lt;/s
 pan&gt;&lt;span style=&quot;font-family: arial\, helvetica\, sans-serif\; font-size: 
 10pt\;&quot;&gt;sident\, Professor\, University of Calgary&lt;/span&gt;&lt;/span&gt;&lt;/p&gt;\n&lt;p s
 tyle=&quot;line-height: 1.1\;&quot;&gt;&lt;span style=&quot;font-family: arial\, helvetica\, sa
 ns-serif\; font-size: 10pt\; color: rgb(0\, 0\, 0)\;&quot;&gt;13:30-14:00 &amp;nbsp\; 
 &amp;nbsp\;&lt;strong&gt;Is there a role for electrification in delivering Paris-Agr
 eement aligned aviation and shipping?&lt;/strong&gt; - Alice Larkin\, Professor 
 in Climate Science &amp;amp\; Energy Policy\, The University of Manchester&lt;/sp
 an&gt;&lt;/p&gt;\n&lt;p style=&quot;line-height: 1.1\;&quot;&gt;&lt;span style=&quot;font-family: arial\, h
 elvetica\, sans-serif\; font-size: 10pt\; color: rgb(0\, 0\, 0)\;&quot;&gt;14:00-1
 4:30&amp;nbsp\; &amp;nbsp\; &lt;strong&gt;Condition Monitoring of Electric Drive Systems
  &lt;/strong&gt;- Sinisa Durovic\, Reader\, The University of Manchester&lt;/span&gt;&lt;
 /p&gt;\n&lt;p style=&quot;line-height: 1.1\;&quot;&gt;&lt;span style=&quot;font-family: arial\, helve
 tica\, sans-serif\; font-size: 10pt\; color: rgb(0\, 0\, 0)\;&quot;&gt;14:30-15:00
 &amp;nbsp\; &amp;nbsp\; Coffee Break&lt;/span&gt;&lt;/p&gt;\n&lt;p style=&quot;line-height: 1.1\;&quot;&gt;&lt;sp
 an style=&quot;font-family: arial\, helvetica\, sans-serif\; font-size: 10pt\; 
 color: rgb(0\, 0\, 0)\;&quot;&gt;15:00-15:30 &amp;nbsp\; &amp;nbsp\;&lt;strong&gt;Engineering Dr
 eams: My Path\, Passion and Perseverance -&lt;/strong&gt; Sarah Mlundira\, Head 
 of Technical\, Sentric Safety Group&lt;/span&gt;&lt;/p&gt;\n&lt;p style=&quot;line-height: 1.1
 \;&quot;&gt;&lt;span style=&quot;font-family: arial\, helvetica\, sans-serif\; font-size: 
 10pt\; color: rgb(0\, 0\, 0)\;&quot;&gt;15:30-16:00 &amp;nbsp\; &amp;nbsp\;&lt;strong&gt;The com
 ponents of a high voltage coil &lt;/strong&gt;- Arwyn Thomas\, Chief Technology 
 Officer\, Preformed Windings&lt;/span&gt;&lt;/p&gt;\n&lt;p style=&quot;line-height: 1.1\;&quot;&gt;&lt;sp
 an style=&quot;font-family: arial\, helvetica\, sans-serif\; font-size: 10pt\; 
 color: rgb(0\, 0\, 0)\;&quot;&gt;16:00-17:00&amp;nbsp\; &amp;nbsp\; &lt;strong&gt;Panel discussi
 on: Maximizing Productivity - Achieving Work Efficiency &amp;amp\; Life Balanc
 e &lt;/strong&gt;- Moderator: Yanni Zhong\, IAS WiE Representative\, Siemens Ene
 rgy.&lt;/span&gt;&lt;/p&gt;\n&lt;p style=&quot;line-height: 1.1\;&quot;&gt;&lt;span style=&quot;font-family: a
 rial\, helvetica\, sans-serif\; font-size: 10pt\; color: rgb(0\, 0\, 0)\;&quot;
 &gt;18:20-21:00&amp;nbsp\; &amp;nbsp\; Gala Dinner at the Hyatt Regency Hotel &lt;span s
 tyle=&quot;color: rgb(224\, 62\, 45)\;&quot;&gt;&lt;strong&gt;&lt;span style=&quot;color: rgb(0\, 0\,
  0)\;&quot;&gt;&lt;span style=&quot;font-family: arial\, helvetica\, sans-serif\; font-siz
 e: 10pt\;&quot;&gt;&lt;span style=&quot;color: rgb(224\, 62\, 45)\;&quot;&gt;&amp;nbsp\;SOLD OUT.&lt;/spa
 n&gt;&lt;/span&gt;&lt;/span&gt;&lt;/strong&gt;&lt;/span&gt;&lt;/span&gt;&lt;/p&gt;\n&lt;p style=&quot;line-height: 1.1\;&quot;
 &gt;&lt;span style=&quot;color: rgb(0\, 0\, 0)\;&quot;&gt;&lt;strong&gt;&lt;span style=&quot;text-decoratio
 n: underline\;&quot;&gt;&lt;span style=&quot;font-family: arial\, helvetica\, sans-serif\;
  font-size: 10pt\;&quot;&gt;Day 2: Friday\, 9th May&lt;/span&gt;&lt;/span&gt;&lt;/strong&gt;&lt;/span&gt;&lt;
 /p&gt;\n&lt;p style=&quot;line-height: 1.1\;&quot;&gt;&lt;span style=&quot;color: rgb(0\, 0\, 0)\; fo
 nt-size: 10pt\; font-family: arial\, helvetica\, sans-serif\;&quot;&gt;Chair: Tony
  Chen\, Reader\, The University of Manchester&lt;/span&gt;&lt;/p&gt;\n&lt;p style=&quot;line-h
 eight: 1.1\;&quot;&gt;&lt;span style=&quot;font-size: 10pt\; font-family: arial\, helvetic
 a\, sans-serif\; color: rgb(0\, 0\, 0)\;&quot;&gt;09:00-09:30 &amp;nbsp\; &lt;strong&gt;Hydr
 ogen Electric Aircraft with Zero-Emission Propulsion System&lt;/strong&gt; - San
 dy Smith\, Professor of Electrical Machines\, The University of Manchester
 &lt;/span&gt;&lt;/p&gt;\n&lt;div style=&quot;line-height: 1.4\;&quot;&gt;\n&lt;div style=&quot;line-height: 1.
 1\;&quot;&gt;\n&lt;p style=&quot;line-height: 1.1\;&quot;&gt;&lt;span style=&quot;font-size: 10pt\; font-f
 amily: arial\, helvetica\, sans-serif\; color: rgb(0\, 0\, 0)\;&quot;&gt;09:30-10:
 00 &amp;nbsp\; &lt;strong&gt;The National Materials Innovation Strategy&lt;/strong&gt; - I
 an Kinloch\, Professor and Chief Scientific Officer\, Henry Royce Institut
 e&lt;/span&gt;&lt;/p&gt;\n&lt;p style=&quot;line-height: 1.1\;&quot;&gt;&lt;span style=&quot;font-size: 10pt\;
  font-family: arial\, helvetica\, sans-serif\; color: rgb(0\, 0\, 0)\;&quot;&gt;10
 :00-10:30 &amp;nbsp\; &lt;strong&gt;Renewable Energy in Transportation &lt;/strong&gt;- Su
 bhra Samanta\, Senior Key Expert\, Siemens Energy\, Vice Chair IEEE Denmar
 k&lt;/span&gt;&lt;/p&gt;\n&lt;p style=&quot;line-height: 1.1\;&quot;&gt;&lt;span style=&quot;font-size: 10pt\;
  font-family: arial\, helvetica\, sans-serif\; color: rgb(0\, 0\, 0)\;&quot;&gt;10
 :30-11:00&amp;nbsp\; &amp;nbsp\; Coffee Break&lt;/span&gt;&lt;/p&gt;\n&lt;p style=&quot;line-height: 1
 .1\;&quot;&gt;&lt;span style=&quot;font-size: 10pt\; font-family: arial\, helvetica\, sans
 -serif\; color: rgb(0\, 0\, 0)\;&quot;&gt;11:00-11:40 &amp;nbsp\; &amp;nbsp\;&lt;strong&gt;Drivi
 ng the Electric Revolution &amp;ndash\; Supporting PEMD Manufacturing in the U
 K&lt;/strong&gt; - Derrick Holliday\, Professor and North East Centre Lead for D
 ER-IC\, Newcastle University&lt;/span&gt;&lt;/p&gt;\n&lt;p style=&quot;line-height: 1.1\;&quot;&gt;&lt;sp
 an style=&quot;font-size: 10pt\; font-family: arial\, helvetica\, sans-serif\; 
 color: rgb(0\, 0\, 0)\;&quot;&gt;11:40-12:40 &amp;nbsp\; &amp;nbsp\;&lt;strong&gt;Codes &amp;amp\; S
 tandards - What They Are and How They Can Help Your Career&lt;/strong&gt; - Neha
 d El-Sherif\, IEEE IAS Executive Board Member&amp;nbsp\;&lt;/span&gt;&lt;/p&gt;\n&lt;p style=
 &quot;line-height: 1.1\;&quot;&gt;&lt;span style=&quot;font-size: 10pt\; font-family: arial\, h
 elvetica\, sans-serif\; color: rgb(0\, 0\, 0)\;&quot;&gt;12:40-13:20&amp;nbsp\; &amp;nbsp\
 ; Lunch Break&amp;nbsp\;&lt;/span&gt;&lt;/p&gt;\n&lt;p style=&quot;line-height: 1.1\;&quot;&gt;&lt;span style
 =&quot;font-size: 10pt\; font-family: arial\, helvetica\, sans-serif\; color: r
 gb(0\, 0\, 0)\;&quot;&gt;13:20-14:50&amp;nbsp\; &amp;nbsp\; Chapter Workshops &amp;amp\; Netwo
 rking&lt;/span&gt;&lt;/p&gt;\n&lt;p style=&quot;line-height: 1.1\;&quot;&gt;&lt;span style=&quot;font-size: 10
 pt\; font-family: arial\, helvetica\, sans-serif\; color: rgb(0\, 0\, 0)\;
 &quot;&gt;Moderator: Costa Onoufriou&lt;/span&gt;&lt;/p&gt;\n&lt;p&gt;&lt;span style=&quot;color: rgb(0\, 0\
 , 0)\;&quot;&gt;&lt;span style=&quot;font-size: 10pt\; font-family: arial\, helvetica\, sa
 ns-serif\;&quot;&gt;Each student chapter presents initiatives\, research\, collabo
 rative efforts\, future plans\, and past attempts\, followed by networking
  opportunities.&lt;br&gt;&lt;/span&gt;&lt;span style=&quot;font-size: 10pt\; font-family: aria
 l\, helvetica\, sans-serif\;&quot;&gt;-Nehad El-Sherif: IAS Ambassador Program&lt;br&gt;
 &lt;/span&gt;&lt;span style=&quot;font-size: 10pt\; font-family: arial\, helvetica\, san
 s-serif\;&quot;&gt;-Yanni Zhong &amp;amp\; Linda Dan Li: IAS Student Chapter Activity 
 Ideas and Resources&lt;br&gt;&lt;/span&gt;&lt;span style=&quot;font-size: 10pt\; font-family: 
 arial\, helvetica\, sans-serif\;&quot;&gt;-Discussion\, Q &amp;amp\; A&lt;/span&gt;&lt;/span&gt;&lt;/
 p&gt;\n&lt;/div&gt;\n&lt;p style=&quot;line-height: 1.1\;&quot;&gt;&lt;span style=&quot;font-family: arial\
 , helvetica\, sans-serif\; font-size: 10pt\; color: rgb(0\, 0\, 0)\;&quot;&gt;14:5
 0-15:00&amp;nbsp\; &amp;nbsp\; Closing Remarks by the IAS President&lt;br&gt;&lt;/span&gt;&lt;/p&gt;
 \n&lt;/div&gt;\n&lt;p style=&quot;line-height: 1.4\;&quot;&gt;&amp;nbsp\;&lt;/p&gt;
END:VEVENT
END:VCALENDAR

