BEGIN:VCALENDAR
VERSION:2.0
PRODID:IEEE vTools.Events//EN
CALSCALE:GREGORIAN
BEGIN:VTIMEZONE
TZID:America/Chicago
BEGIN:DAYLIGHT
DTSTART:20250309T030000
TZOFFSETFROM:-0600
TZOFFSETTO:-0500
RRULE:FREQ=YEARLY;BYDAY=2SU;BYMONTH=3
TZNAME:CDT
END:DAYLIGHT
BEGIN:STANDARD
DTSTART:20251102T010000
TZOFFSETFROM:-0500
TZOFFSETTO:-0600
RRULE:FREQ=YEARLY;BYDAY=1SU;BYMONTH=11
TZNAME:CST
END:STANDARD
END:VTIMEZONE
BEGIN:VEVENT
DTSTAMP:20250326T142112Z
UID:07A8593A-03C2-4047-8761-5172DEE66D7D
DTSTART;TZID=America/Chicago:20250321T173000
DTEND;TZID=America/Chicago:20250321T200000
DESCRIPTION:&quot;Cybersocial Third Friday&quot; is a monthly reoccurring networking/
 social meetup hosted by the IEEE R4 Iowa-Illinois Section and Computer Soc
 iety Chapter. Cybersocial is a monthly event held the third Friday of each
  month.\n\nJoin us for our monthly social hour and see your friends and co
 lleagues. You don&#39;t need to be a Computer Society member or even an IEEE m
 ember to join us. Open to all engineers and technical professionals.\n\n[]
 \n\nThere will be appetizers and non-alcoholic beverages provided.\n\nAgen
 da: \nWe plan to meet IN PERSON at Five Cities in Bettendorf.\n\nFive Citi
 es Brewery \, Bettendorf\, Iowa\, United States\, 52722
LOCATION:Five Cities Brewery \, Bettendorf\, Iowa\, United States\, 52722
ORGANIZER:j.johnson@ieee.org
SEQUENCE:7
SUMMARY:Monthly IA-IL Section - March Third Friday Social
URL;VALUE=URI:https://events.vtools.ieee.org/m/475212
X-ALT-DESC:Description: &lt;br /&gt;&lt;p&gt;&quot;Cybersocial Third Friday&quot; is a monthly re
 occurring networking/social meetup hosted by the IEEE R4 Iowa-Illinois Sec
 tion and Computer Society Chapter. Cybersocial is a monthly event held the
  third Friday of each month.&amp;nbsp\;&lt;/p&gt;\n&lt;p&gt;Join us for our monthly social
  hour and see your friends and colleagues. You don&#39;t need to be a Computer
  Society member or even an IEEE member to join us. Open to all engineers a
 nd technical professionals.&lt;/p&gt;\n&lt;p&gt;&lt;img style=&quot;display: block\; margin-le
 ft: auto\; margin-right: auto\;&quot; src=&quot;https://events.vtools.ieee.org/vtool
 s_ui/media/display/26f8e935-9cf7-4dab-9107-203a1dbe556a&quot; alt=&quot;&quot; width=&quot;494
 &quot; height=&quot;318&quot;&gt;&lt;/p&gt;\n&lt;p&gt;There will be appetizers and non-alcoholic beverag
 es provided.&lt;/p&gt;&lt;br /&gt;&lt;br /&gt;Agenda: &lt;br /&gt;&lt;p&gt;We plan to meet IN PERSON at 
 Five Cities in Bettendorf.&lt;/p&gt;
END:VEVENT
END:VCALENDAR

