BEGIN:VCALENDAR
VERSION:2.0
PRODID:IEEE vTools.Events//EN
CALSCALE:GREGORIAN
BEGIN:VTIMEZONE
TZID:Canada/Saskatchewan
BEGIN:STANDARD
DTSTART:19600424T030000
TZOFFSETFROM:-0700
TZOFFSETTO:-0600
TZNAME:CST
END:STANDARD
END:VTIMEZONE
BEGIN:VEVENT
DTSTAMP:20171230T194806Z
UID:F175B92E-A9DD-11E7-A02F-0050568D7F66
DTSTART;TZID=Canada/Saskatchewan:20171010T150000
DTEND;TZID=Canada/Saskatchewan:20171010T160000
DESCRIPTION:Control strategies for wound rotor induction generator (WRIG) w
 ith certain power converter topologies will be discussed for effective uti
 lization of wind energy. Firstly\, for the effective utilization of availa
 ble wind power in grid-connected WRIG\, space heating and battery loads to
  be connected at rotor side through power electronic converter\, which is 
 a three-phase diode bridge rectifier along with IGBT chopper. Further\, to
  operate the grid-connected &amp; stand-alone WRIG system in wide speed operat
 ion (both in sub-synchronous speed and super-synchronous speed)\, a simple
  topology which consists of single SPWM inverter and battery banks at the 
 rotor side of doubly fed induction generators will be presented.\n\nFurthe
 r\, small-scale wind-PV distributed generation system for supplying AC/DC 
 loads of telecommunication tower will be discussed.\n\nSpeaker(s): Dr. Vij
 ayakumar Krishnasamy \, \n\nRoom: 2C88\, Bldg: Engineering Building\, Univ
 ersity of Saskatchewan\, 57 Campus Drive\, Saskatoon\, Saskatchewan\, Cana
 da\, S7N 5A9
LOCATION:Room: 2C88\, Bldg: Engineering Building\, University of Saskatchew
 an\, 57 Campus Drive\, Saskatoon\, Saskatchewan\, Canada\, S7N 5A9
ORGANIZER:j.y.palmer@ieee.org
SEQUENCE:3
SUMMARY:Wind Energy Conversion Technologies for Grid and Stand-Alone Applic
 ations
URL;VALUE=URI:https://events.vtools.ieee.org/m/47535
X-ALT-DESC:Description: &lt;br /&gt;&lt;p&gt;Control strategies for wound rotor inducti
 on generator (WRIG) with certain power converter topologies will be discus
 sed for effective utilization of wind energy. Firstly\, for the effective 
 utilization of available wind power in grid-connected WRIG\, space heating
  and battery loads to be connected at rotor side through power electronic 
 converter\, which is a three-phase diode bridge rectifier along with IGBT 
 chopper. Further\, to operate the grid-connected &amp;amp\; stand-alone WRIG s
 ystem in wide speed operation (both in sub-synchronous speed and super-syn
 chronous speed)\, a simple topology which consists of single SPWM inverter
  and battery banks at the rotor side of doubly fed induction generators wi
 ll be presented.&lt;br /&gt;&lt;br /&gt;Further\, small-scale wind-PV distributed gene
 ration system for supplying AC/DC loads of telecommunication tower will be
  discussed.&lt;/p&gt;
END:VEVENT
END:VCALENDAR

