BEGIN:VCALENDAR
VERSION:2.0
PRODID:IEEE vTools.Events//EN
CALSCALE:GREGORIAN
BEGIN:VTIMEZONE
TZID:America/Chicago
BEGIN:DAYLIGHT
DTSTART:20250309T030000
TZOFFSETFROM:-0600
TZOFFSETTO:-0500
RRULE:FREQ=YEARLY;BYDAY=2SU;BYMONTH=3
TZNAME:CDT
END:DAYLIGHT
BEGIN:STANDARD
DTSTART:20251102T010000
TZOFFSETFROM:-0500
TZOFFSETTO:-0600
RRULE:FREQ=YEARLY;BYDAY=1SU;BYMONTH=11
TZNAME:CST
END:STANDARD
END:VTIMEZONE
BEGIN:VEVENT
DTSTAMP:20260308T020622Z
UID:BEFE717E-6225-4A7A-A7E0-990995CA677F
DTSTART;TZID=America/Chicago:20250920T090000
DTEND;TZID=America/Chicago:20250920T103000
DESCRIPTION:The IEEE Twin Cities Section is hosting a virtual Senior Member
  Elevation Event to elevate qualified section members to the Senior Member
  grade. At this event\, Senior Members will be available to conduct interv
 iews and to serve as references for candidates. Please indicate during reg
 istration if you are a candidate seeking elevation\, or a Senior Member wi
 lling to serve as a reference provider.\n\nCandidates should review elevat
 ion [requirements](https://enotice.mmsend.com/link.cfm?r=2GxopnmVUgoSwHpb4
 _hh0g~~&amp;pe=HZVf52SIyFfVg6GH8s-SEsBP7XLe0C3Ef-0SfAqZQjytnW9BBevhuIIRETo3DMG
 qTzDnUhgDhb_jZJE0Eyjllw~~&amp;t=VMpde0OwmrG4gtatMYtY6A~~) before registering t
 o verify they are eligible. Candidates are requested to send a resume one 
 week in advance\, by Sept 14\, to the meeting organizer (dunne@ieee.org) t
 o enable reference providers time to review candidate resumes.\n\nCo-spons
 ored by: Ria Ghosh and Dipankar Saha\n\nVirtual: https://events.vtools.iee
 e.org/m/476204
LOCATION:Virtual: https://events.vtools.ieee.org/m/476204
ORGANIZER:dunne@ieee.org
SEQUENCE:35
SUMMARY:Senior Member Elevation Event - Registration Open
URL;VALUE=URI:https://events.vtools.ieee.org/m/476204
X-ALT-DESC:Description: &lt;br /&gt;&lt;p&gt;The IEEE Twin Cities Section is hosting a 
 virtual Senior Member Elevation Event to elevate qualified section members
  to the Senior Member grade.&amp;nbsp\;&amp;nbsp\; At this event\, Senior Members 
 will be available to conduct interviews and to serve as references for can
 didates.&amp;nbsp\; &lt;strong&gt;Please indicate during registration if you are a c
 andidate seeking elevation\, or a Senior Member willing to serve as a refe
 rence provider.&lt;/strong&gt;&lt;/p&gt;\n&lt;p&gt;Candidates should review elevation &lt;a hre
 f=&quot;https://enotice.mmsend.com/link.cfm?r=2GxopnmVUgoSwHpb4_hh0g~~&amp;amp\;pe=
 HZVf52SIyFfVg6GH8s-SEsBP7XLe0C3Ef-0SfAqZQjytnW9BBevhuIIRETo3DMGqTzDnUhgDhb
 _jZJE0Eyjllw~~&amp;amp\;t=VMpde0OwmrG4gtatMYtY6A~~&quot;&gt;requirements&lt;/a&gt; before re
 gistering to verify they are eligible.&amp;nbsp\;&amp;nbsp\; Candidates are reques
 ted to send a resume one week in advance\, by Sept 14\, to the meeting org
 anizer (&lt;a href=&quot;mailto:dunne@ieee.org&quot;&gt;dunne@ieee.org&lt;/a&gt;) to enable refe
 rence providers time to review candidate resumes.&lt;/p&gt;
END:VEVENT
END:VCALENDAR

