BEGIN:VCALENDAR
VERSION:2.0
PRODID:IEEE vTools.Events//EN
CALSCALE:GREGORIAN
BEGIN:VTIMEZONE
TZID:Europe/Ljubljana
BEGIN:DAYLIGHT
DTSTART:20250330T030000
TZOFFSETFROM:+0100
TZOFFSETTO:+0200
RRULE:FREQ=YEARLY;BYDAY=-1SU;BYMONTH=3
TZNAME:CEST
END:DAYLIGHT
BEGIN:STANDARD
DTSTART:20251026T020000
TZOFFSETFROM:+0200
TZOFFSETTO:+0100
RRULE:FREQ=YEARLY;BYDAY=-1SU;BYMONTH=10
TZNAME:CET
END:STANDARD
END:VTIMEZONE
BEGIN:VEVENT
DTSTAMP:20250425T125508Z
UID:6CD229D0-66A0-4086-9B32-667D50862B43
DTSTART;TZID=Europe/Ljubljana:20250422T100000
DTEND;TZID=Europe/Ljubljana:20250422T180000
DESCRIPTION:Kratek opis: Ta tečaj nudi praktičen uvod v globoko učenje\,
  zmogljivo tehniko umetne inteligence\, ki se uporablja v panogah\, kot so
  zdravstvo\, maloprodaja in avtomobilizem. Študenti se bodo naučili tren
 irati modele globokega učenja z uporabo orodij\, kot je PyTorch\, s pouda
 rkom na ključnih konceptih\, kot so konvolucijske nevronske mreže (CNN)\
 , povečevanje podatkov in prenos učenja. Skozi praktične vaje bodo udel
 eženci pridobili izkušnje pri gradnji modelov za klasifikacijo slik\, ob
 delavo naravnega jezika ipd. Ob koncu tečaja boste pridobili veščine za
  reševanje projektov globokega učenja s sodobnimi okviri in pristopi.\n\
 nPodrobnejši opis: Ta tečaj ponuja obsežen uvod v poglobljeno učenje\,
  ključno tehnologijo\, ki spodbuja napredek v panogah\, kot so zdravstvo\
 , maloprodaja in avtomobilizem. Globoko učenje uporablja večplastne nevr
 onske mreže za reševanje kompleksnih nalog\, kot so prepoznavanje slik\,
  prevajanje jezikov in obdelava govora. Cilj tečaja je opremiti študente
  s temeljnimi veščinami\, potrebnimi za usposabljanje in uvajanje modelo
 v globokega učenja z uporabo sodobnih orodij\, kot je PyTorch. S praktič
 nimi aplikacijami\, ki segajo od zaznavanja predmetov do prilagojenih izku
 šenj\, se boste naučili\, kako uporabiti umetno inteligenco za težave v
  resničnem svetu.\n\nSkozi tečaj boste raziskovali pomembne koncepte glo
 bokega učenja\, kot so konvolucijske nevronske mreže (CNN)\, povečanje 
 podatkov in prenos učenja. Te tehnike so bistvene za izboljšanje natanč
 nosti in učinkovitosti modela\, zlasti pri delu z velikimi\, zapletenimi 
 nabori podatkov. Kurikulum zajema tudi uporabo vnaprej pripravljenih model
 ov\, ki omogočajo hitrejše usposabljanje modelov z izkoriščanjem obsto
 ječega znanja. Poleg tega boste raziskali napredne teme\, kot so ponavlja
 joče se nevronske mreže (RNN) in obdelava naravnega jezika (NLP)\, ki so
  ključne za zaporedne podatkovne naloge in besedilne aplikacije.\n\nOb ko
 ncu tečaja boste svoje znanje uporabili v končnem projektu\, kjer boste 
 s tehnikami računalniškega vida zgradili model klasifikacije objektov. I
 zboljšali boste delovanje modela z učenjem prenosa in povečanjem podatk
 ov ter pridobili dragocene izkušnje pri optimizaciji modelov z omejenimi 
 podatki. Tečaj vas bo vodil tudi skozi nastavitev lastnega razvojnega oko
 lja AI in vas tako pripravil na samostojno izvajanje projektov globokega u
 čenja. Ne glede na to\, ali ste začetnik pri umetni inteligenci ali žel
 ite razširiti svoje spretnosti\, ta tečaj zagotavlja trdno osnovo za vse
 \, ki jih zanima hitro razvijajoče se področje globokega učenja.\n\nOb 
 koncu delavnice lahko udeleženci pridobijo uradni certifikat Deep Learnin
 g Institute pri NVIDIA.\n\nZahtevnost: Osnovna\n\nJezik: Slovenski\n\nOpis
  poteka izobraževanja: Delavnica poteka na daljavo preko brskalnika na ob
 lačni infrastrukturi AWS.\n\nPriporočeno predznanje: Razumevanje osnovni
 h konceptov programiranja v Python 3\, kot so funkcije\, zanke\, slovarji 
 in polja\; poznavanje podatkovnih struktur Panda\; in razumevanje\, kako i
 zračunati regresijsko črto.\n\nCiljna publika: Študenti računalništva
 \, inženirji\, raziskovalci\, razvijalci ter vsi\, ki želijo razumeti\, 
 kako ta tehnologija deluje.\n\nNa izobraževanju pridobljena znanja:\n\n- 
 Naučite se osnovnih tehnik in orodij\, potrebnih za usposabljanje modela 
 globokega učenja\n-  Pridobite izkušnje s pogostimi podatkovnimi tipi gl
 obokega učenja in arhitekturami modelov\n- Izboljšajte nabore podatkov z
  razširitvijo podatkov\, da izboljšate natančnost modela\n- Izkoristite
  prenos učenja med modeli za doseganje učinkovitih rezultatov z manj pod
 atkov in računanja\n- Zgradite samozavest\, da se lotite lastnega projekt
 a s sodobnim ogrodjem poglobljenega učenja\n\nSpeaker(s): Domen Verber\, 
 Jani Dugonik\n\nVirtual: https://events.vtools.ieee.org/m/476448
LOCATION:Virtual: https://events.vtools.ieee.org/m/476448
ORGANIZER:jani.dugonik@ieee.org
SEQUENCE:5
SUMMARY:Delavnica: Osnove globokega učenja
URL;VALUE=URI:https://events.vtools.ieee.org/m/476448
X-ALT-DESC:Description: &lt;br /&gt;&lt;p&gt;&lt;strong&gt;Kratek opis:&amp;nbsp\;&lt;/strong&gt;Ta te
 čaj nudi praktičen uvod v globoko učenje\, zmogljivo tehniko umetne int
 eligence\, ki se uporablja v panogah\, kot so zdravstvo\, maloprodaja in a
 vtomobilizem. &amp;Scaron\;tudenti se bodo naučili trenirati modele globokega
  učenja z uporabo orodij\, kot je PyTorch\, s poudarkom na ključnih konc
 eptih\, kot so konvolucijske nevronske mreže (CNN)\, povečevanje podatko
 v in prenos učenja. Skozi praktične vaje bodo udeleženci pridobili izku
 &amp;scaron\;nje pri gradnji modelov za klasifikacijo slik\, obdelavo naravneg
 a jezika ipd. Ob koncu tečaja boste pridobili ve&amp;scaron\;čine za re&amp;scar
 on\;evanje projektov globokega učenja s sodobnimi okviri in pristopi.&lt;/p&gt;
 \n&lt;p&gt;&lt;strong&gt;Podrobnej&amp;scaron\;i opis:&lt;/strong&gt;&amp;nbsp\;Ta tečaj ponuja obs
 ežen uvod v poglobljeno učenje\, ključno tehnologijo\, ki spodbuja napr
 edek v panogah\, kot so zdravstvo\, maloprodaja in avtomobilizem. Globoko 
 učenje uporablja večplastne nevronske mreže za re&amp;scaron\;evanje komple
 ksnih nalog\, kot so prepoznavanje slik\, prevajanje jezikov in obdelava g
 ovora. Cilj tečaja je opremiti &amp;scaron\;tudente s temeljnimi ve&amp;scaron\;
 činami\, potrebnimi za usposabljanje in uvajanje modelov globokega učenj
 a z uporabo sodobnih orodij\, kot je PyTorch. S praktičnimi aplikacijami\
 , ki segajo od zaznavanja predmetov do prilagojenih izku&amp;scaron\;enj\, se 
 boste naučili\, kako uporabiti umetno inteligenco za težave v resničnem
  svetu.&lt;/p&gt;\n&lt;p&gt;Skozi tečaj boste raziskovali pomembne koncepte globokega
  učenja\, kot so konvolucijske nevronske mreže (CNN)\, povečanje podatk
 ov in prenos učenja. Te tehnike so bistvene za izbolj&amp;scaron\;anje natan
 čnosti in učinkovitosti modela\, zlasti pri delu z velikimi\, zapletenim
 i nabori podatkov. Kurikulum zajema tudi uporabo vnaprej pripravljenih mod
 elov\, ki omogočajo hitrej&amp;scaron\;e usposabljanje modelov z izkori&amp;scaro
 n\;čanjem obstoječega znanja. Poleg tega boste raziskali napredne teme\,
  kot so ponavljajoče se nevronske mreže (RNN) in obdelava naravnega jezi
 ka (NLP)\, ki so ključne za zaporedne podatkovne naloge in besedilne apli
 kacije.&lt;/p&gt;\n&lt;p&gt;Ob koncu tečaja boste svoje znanje uporabili v končnem p
 rojektu\, kjer boste s tehnikami računalni&amp;scaron\;kega vida zgradili mod
 el klasifikacije objektov. Izbolj&amp;scaron\;ali boste delovanje modela z uč
 enjem prenosa in povečanjem podatkov ter pridobili dragocene izku&amp;scaron\
 ;nje pri optimizaciji modelov z omejenimi podatki. Tečaj vas bo vodil tud
 i skozi nastavitev lastnega razvojnega okolja AI in vas tako pripravil na 
 samostojno izvajanje projektov globokega učenja. Ne glede na to\, ali ste
  začetnik pri umetni inteligenci ali želite raz&amp;scaron\;iriti svoje spre
 tnosti\, ta tečaj zagotavlja trdno osnovo za vse\, ki jih zanima hitro ra
 zvijajoče se področje globokega učenja.&lt;/p&gt;\n&lt;p&gt;Ob koncu delavnice lahk
 o udeleženci pridobijo uradni certifikat Deep Learning Institute pri NVID
 IA.&lt;/p&gt;\n&lt;p&gt;&lt;strong&gt;Zahtevnost:&lt;/strong&gt;&amp;nbsp\;Osnovna&lt;/p&gt;\n&lt;p&gt;&lt;strong&gt;Jez
 ik:&lt;/strong&gt;&amp;nbsp\;Slovenski&lt;/p&gt;\n&lt;p&gt;&lt;strong&gt;Opis poteka izobraževanja:&amp;n
 bsp\;&lt;/strong&gt;Delavnica poteka na daljavo preko brskalnika na oblačni inf
 rastrukturi AWS.&lt;strong&gt;&lt;br&gt;&lt;/strong&gt;&lt;/p&gt;\n&lt;p&gt;&lt;strong&gt;Priporočeno predzna
 nje:&amp;nbsp\;&lt;/strong&gt;Razumevanje osnovnih konceptov programiranja v Python 
 3\, kot so funkcije\, zanke\, slovarji in polja\; poznavanje podatkovnih s
 truktur Panda\; in razumevanje\, kako izračunati regresijsko črto.&lt;/p&gt;\n
 &lt;p&gt;&lt;strong&gt;Ciljna publika:&lt;/strong&gt;&lt;span class=&quot;markedContent&quot;&gt;&amp;nbsp\;&amp;Sca
 ron\;tudenti računalni&amp;scaron\;tva\, inženirji\, raziskovalci\, razvijal
 ci ter vsi\, ki želijo razumeti\, kako ta tehnologija deluje.&lt;br&gt;&lt;/span&gt;&lt;
 /p&gt;\n&lt;p&gt;&lt;strong&gt;Na izobraževanju pridobljena znanja:&lt;/strong&gt;&lt;/p&gt;\n&lt;ul&gt;\n
 &lt;li&gt;Naučite se osnovnih tehnik in orodij\, potrebnih za usposabljanje mod
 ela globokega učenja&lt;/li&gt;\n&lt;li&gt;&amp;nbsp\;Pridobite izku&amp;scaron\;nje s pogost
 imi podatkovnimi tipi globokega učenja in arhitekturami modelov&lt;/li&gt;\n&lt;li
 &gt;Izbolj&amp;scaron\;ajte nabore podatkov z raz&amp;scaron\;iritvijo podatkov\, da 
 izbolj&amp;scaron\;ate natančnost modela&lt;/li&gt;\n&lt;li&gt;Izkoristite prenos učenja
  med modeli za doseganje učinkovitih rezultatov z manj podatkov in račun
 anja&lt;/li&gt;\n&lt;li&gt;Zgradite samozavest\, da se lotite lastnega projekta s sodo
 bnim ogrodjem poglobljenega učenja&lt;/li&gt;\n&lt;/ul&gt;
END:VEVENT
END:VCALENDAR

