BEGIN:VCALENDAR
VERSION:2.0
PRODID:IEEE vTools.Events//EN
CALSCALE:GREGORIAN
BEGIN:VTIMEZONE
TZID:America/Chicago
BEGIN:DAYLIGHT
DTSTART:20250309T030000
TZOFFSETFROM:-0600
TZOFFSETTO:-0500
RRULE:FREQ=YEARLY;BYDAY=2SU;BYMONTH=3
TZNAME:CDT
END:DAYLIGHT
BEGIN:STANDARD
DTSTART:20251102T010000
TZOFFSETFROM:-0500
TZOFFSETTO:-0600
RRULE:FREQ=YEARLY;BYDAY=1SU;BYMONTH=11
TZNAME:CST
END:STANDARD
END:VTIMEZONE
BEGIN:VEVENT
DTSTAMP:20250319T131950Z
UID:F101AE3D-6962-4CDD-82B1-CFEAAF02E9CA
DTSTART;TZID=America/Chicago:20250318T220000
DTEND;TZID=America/Chicago:20250318T230000
DESCRIPTION:Planning meeting\, predominantly for Dec workshop.\n\nVirtual: 
 https://events.vtools.ieee.org/m/476526
LOCATION:Virtual: https://events.vtools.ieee.org/m/476526
ORGANIZER:polhamus@ieee.org
SEQUENCE:9
SUMMARY:EMB EXCOM Planning Meeting
URL;VALUE=URI:https://events.vtools.ieee.org/m/476526
X-ALT-DESC:Description: &lt;br /&gt;&lt;p&gt;Planning meeting\, predominantly for Dec w
 orkshop.&lt;/p&gt;
END:VEVENT
END:VCALENDAR

