BEGIN:VCALENDAR
VERSION:2.0
PRODID:IEEE vTools.Events//EN
CALSCALE:GREGORIAN
BEGIN:VTIMEZONE
TZID:America/Los_Angeles
BEGIN:DAYLIGHT
DTSTART:20250309T030000
TZOFFSETFROM:-0800
TZOFFSETTO:-0700
RRULE:FREQ=YEARLY;BYDAY=2SU;BYMONTH=3
TZNAME:PDT
END:DAYLIGHT
BEGIN:STANDARD
DTSTART:20251102T010000
TZOFFSETFROM:-0700
TZOFFSETTO:-0800
RRULE:FREQ=YEARLY;BYDAY=1SU;BYMONTH=11
TZNAME:PST
END:STANDARD
END:VTIMEZONE
BEGIN:VEVENT
DTSTAMP:20250501T200405Z
UID:704719D7-B9D0-4D45-A0FE-212848E1754F
DTSTART;TZID=America/Los_Angeles:20250420T080000
DTEND;TZID=America/Los_Angeles:20250423T180000
DESCRIPTION:[]\n\n12th IEEE Conference on Technologies for Sustainability\n
 Inspiring Technology Solutions for Climate Sustainability\nSanta Ana\, CA 
 — April 20-23\, 2025\nhttp://ieee.org/sustech\n\nThe 12th IEEE Conferenc
 e on Technologies for Sustainability (SusTech 2025) will take place in per
 son with remote access at the Embassy Suites by Hilton Santa Ana Orange Co
 unty Airport\, Santa Ana CA\, from April 20-23\, 2025.\n\nRegistration is 
 open – Early rates end March 30.\nSee the SusTech 2025 [Registration pag
 e](https://ieee-sustech.org/register/) for details on fees and options.\n\
 nSee the [SusTech 2025 Program](https://ieee-sustech.org/program/) pages f
 or details. Four day program with workshop\, poster contest\, receptions\,
  dinner\, technical presentations\, keynotes and plenary talks and panels.
 \n\nWhy Attend?\n\n- Participate in an extensive\, vibrant\, and innovativ
 e technical program\n- Prominent experts will be giving keynotes\, plenary
  presentations and invited talks\n- Exchange information\, share experienc
 es and network with attendees actively involved in the fields\n- Gain visi
 bility and recognition for your sustainability work\, projects and ideas\n
 - Find new resources and potential partners or investors\n\nConference Ses
 sions: Tuesday and Wednesday\, April 22-23\, Over 120 paper presentations 
 in 24 sessions in the IEEE SusTech Thematic areas\; plus 5 keynotes and 2 
 panel sessions.\n\nSustainability Forum: Monday April 21\, featuring disti
 nguished speakers and panel (with CEU/PDH). Included with SusTech 2025 reg
 istration. For Forum-only registration option\, see [registration page](ht
 tps://ieee-sustech.org/register/).\n\nSpecial Events:\n\n- Interactive Wor
 kshop on “[Technologies for a Circular Economy](https://ieee-sustech.org
 /workshops/)”\, Sunday April 20\, 8:00 am-4:00 pm\, a Hybrid workshop in
 cluded with SusTech registration\, organized by the IEEE Future Directions
  [SusTech Initiative](https://cmte.ieee.org/futuredirections/projects/clim
 ate-tech/) in collaboration with SusTech 2025. (limit: 65 on-site attendee
 s).\n\n- [SusTech 2025 Student Poster Competition](https://ieee-sustech.or
 g/2025-student-poster-contestants/) Virtual Session\, on Sunday April 20\,
  2025 from 4:00-6:00 pm.\n\n- Welcome Reception\, Sunday April 20\, 6:30-7
 :30 pm\n\n- SusTech Networking Reception &amp; Panel\, Monday April 21\, 5:30-
 7:00 pm\, sponsored by IEEE YP &amp; WIE. Speaker: “How to get funding for y
 our ideas”\, with Maurice Gunderson\, PE\, Autotech Ventures\, Managing 
 Director Emeritus. Panel discussion afterwards.\n\n- Conference Dinner\, S
 peaker and Awards\, Tuesday April 22\, 6:30-9:00 pm. Keynote: [IEEE Humani
 tarian Technology Board (HTB)](https://ieee-sustech.org/program/keynotes/#
 usmanhtb) with Adil Usman\, Chair for the HTB Outreach Committee. IEEE-USA
  Award presentation and SusTech Student Poster Contest awards.\n\nSustaina
 bility Forum\n\nThe 2025 [IEEE SusTech Sustainability Forum](https://ieee-
 sustech.org/program/sustainability-forum/) brings together researchers\, i
 ndustry professionals\, and legal experts to explore innovative solutions 
 for environmental challenges. Through discussions\, presentations\, and ne
 tworking opportunities\, participants share cutting-edge research\, indust
 ry best practices\, and emerging technologies that drive sustainability ac
 ross various sectors. The forum also includes a legal perspective\, with a
 n attorney discussing key environmental regulations and policies that impa
 ct sustainability efforts.\n\nThe 2025 Sustainability Forum is organized i
 n partnership with the [Armenian Engineers and Scientists of America](http
 s://aesa.org/) (AESA).\n\nForum speakers will address the following topics
 :\n\n- “[Green Hydrogen](https://ieee-sustech.org/program/sustainability
 -forum/#adamian)”\n- “[Decarbonization](https://ieee-sustech.org/progr
 am/sustainability-forum/#ghafafian)”\n- “[Offshore Wind](https://ieee-
 sustech.org/program/sustainability-forum/#zohrabian)”\n- “[Administrat
 ive Law and the Clean Air Act](https://ieee-sustech.org/program/sustainabi
 lity-forum/#abrahamian)”\n- “[Hydrogen: Paving the Way to Net Zero Car
 bon Emissions](https://ieee-sustech.org/program/sustainability-forum/#etez
 adi)”\n- “UCSD DER Project”\n\nKeynote Speakers\n\n- [“Designing f
 or Regeneration”](https://ieee-sustech.org/program/keynotes/#booker)\, A
 lan Booker\n- [“Carbon Dioxide Measurement for Climate Restoration”](h
 ttps://ieee-sustech.org/program/keynotes/#snyder)\, Snyder &amp; Fiekowsky\n- 
 [“The IEEE Humanitarian Technologies Board (HTB)”](https://ieee-sustec
 h.org/program/keynotes/#usmanhtb)\, Adil Usman\, IEEE HTB\n- [“Advanced 
 Electric Machines for Next Generation Electric Vehicles”](https://ieee-s
 ustech.org/program/keynotes/#usman)\, Adil Usman\, Varroc Engineering\n- 
 “Hot Topics” in sustainability\n\nPanels\n\nSusTech 2025 will feature 
 two plenary panel sessions:\n\n- Is Sustainability Socialism? – organize
 d by the IEEE SSIT\n- Sustainability Standards – organized by IEEE SA\n\
 nTechnical Program\n\nSusTech 2025 features over 120 paper presentations i
 n these thematic sessions:\n\n- Agriculture\n- Alternate Energy\n- Carbon\
 n- Ecology\n- Electronics\n- Energy Efficiency\n- eWaste\n- Machine Learni
 ng\n- Management\n- Smart Grid\n- Society Implications/Quality of Life\n- 
 Software\n- Transportation\n- Water\n\nSponsors for SusTech 2025 include t
 he IEEE Oregon\, San Fernando Valley\, Foothill\, and Orange County Sectio
 ns\, IEEE Region 6\, IEEE-USA\, IEEE SSIT\; and co-sponsored by the IEEE S
 tandards Association\, and the IEEE IAS\, OES\, PES\, and TEMS Societies a
 nd supported by the IEEE SusTech Initiative.\n\n[]\n\nCo-sponsored by: IEE
 E-USA\, IEEE SSIT\, IEEE IAS\, IEEE OES\, IEEE PES\, IEEE TEMS\, IEEE SA\,
  IEEE SusTech Initiative\n\nAgenda: \nSunday April 20\n\n- Workshop on Tec
 hnologies for a Circular Economy\n- Student Poster Competition (virtual)\n
 \nMonday April 21\n\n- Sustainability Forum\n- Networking Reception with S
 peaker &amp; Panel\n\nTuesday April 22\n\n- Conference sessions - keynotes\, p
 anel and 12 paper sessions\n- Conference dinner with Keynote and Awards\n\
 nWednesday April 23\n\n- Conference Sessions - keynotes\, panel and 12 pap
 er sessions\n\nEmbassy Suites by Hilton Santa Ana Orange County Airport\, 
 1325 E Dyer Rd\, Santa Ana\, California\, United States\, 92705\, Virtual:
  https://events.vtools.ieee.org/m/476605
LOCATION:Embassy Suites by Hilton Santa Ana Orange County Airport\, 1325 E 
 Dyer Rd\, Santa Ana\, California\, United States\, 92705\, Virtual: https:
 //events.vtools.ieee.org/m/476605
ORGANIZER:e.perkins@ieee.org
SEQUENCE:12
SUMMARY:IEEE SusTech 2025 Conference on Technologies for Sustainability
URL;VALUE=URI:https://events.vtools.ieee.org/m/476605
X-ALT-DESC:Description: &lt;br /&gt;&lt;p&gt;&lt;img style=&quot;display: block\; margin-left: 
 auto\; margin-right: auto\;&quot; src=&quot;https://events.vtools.ieee.org/vtools_ui
 /media/display/07cd022c-1d23-43b8-a536-8b5d0aaee943&quot; alt=&quot;&quot; width=&quot;800&quot; he
 ight=&quot;304&quot;&gt;&lt;/p&gt;\n&lt;h3 style=&quot;text-align: center\;&quot;&gt;&lt;strong&gt;12&lt;sup&gt;th&lt;/sup&gt; 
 IEEE Conference on Technologies for Sustainability&lt;/strong&gt;&lt;br&gt;&lt;strong&gt;Ins
 piring Technology Solutions for Climate Sustainability&lt;/strong&gt;&lt;br&gt;&lt;strong
 &gt;Santa Ana\, CA &amp;mdash\; April 20-23\, 2025&lt;/strong&gt;&lt;br&gt;&lt;a href=&quot;http://ie
 ee.org/sustech&quot;&gt;&lt;strong&gt;http://ieee.org/sustech&lt;/strong&gt;&lt;/a&gt;&lt;/h3&gt;\n&lt;p styl
 e=&quot;text-align: center\;&quot;&gt;The &lt;strong&gt;12&lt;sup&gt;th&lt;/sup&gt; IEEE Conference on Te
 chnologies for Sustainability&lt;/strong&gt; (SusTech 2025) will take place &lt;str
 ong&gt;in person&lt;/strong&gt; with remote access at the Embassy Suites by Hilton 
 Santa Ana Orange County Airport\, Santa Ana CA\, from April 20-23\, 2025.&lt;
 /p&gt;\n&lt;p style=&quot;text-align: center\;&quot;&gt;Registration is open &amp;ndash\; Early r
 ates end March 30.&lt;br&gt;See the SusTech 2025 &lt;a href=&quot;https://ieee-sustech.o
 rg/register/&quot;&gt;&lt;strong&gt;Registration page&lt;/strong&gt;&lt;/a&gt; for details on fees a
 nd options.&lt;/p&gt;\n&lt;p&gt;See the &lt;a href=&quot;https://ieee-sustech.org/program/&quot;&gt;Su
 sTech 2025 Program&lt;/a&gt; pages for details. Four day program with workshop\,
  poster contest\, receptions\, dinner\, technical presentations\, keynotes
  and plenary talks and panels.&lt;/p&gt;\n&lt;p&gt;&lt;strong&gt;Why Attend?&lt;/strong&gt;&lt;/p&gt;\n&lt;
 ul&gt;\n&lt;li&gt;Participate in an extensive\, vibrant\, and innovative technical 
 program&lt;/li&gt;\n&lt;li&gt;Prominent experts will be giving keynotes\, plenary pres
 entations and invited talks&lt;/li&gt;\n&lt;li&gt;Exchange information\, share experie
 nces and network with attendees actively involved in the fields&lt;/li&gt;\n&lt;li&gt;
 Gain visibility and recognition for your sustainability work\, projects an
 d ideas&lt;/li&gt;\n&lt;li&gt;Find new resources and potential partners or investors&lt;/
 li&gt;\n&lt;/ul&gt;\n&lt;p&gt;&lt;strong&gt;Conference Sessions: &lt;/strong&gt;Tuesday and Wednesday
 \, April 22-23\, Over 120 paper presentations in 24 sessions in the IEEE S
 usTech Thematic areas\; plus 5 keynotes and 2 panel sessions.&lt;/p&gt;\n&lt;p&gt;&lt;str
 ong&gt;Sustainability Forum:&lt;/strong&gt; Monday April 21\, featuring distinguish
 ed speakers and panel (with CEU/PDH). Included with SusTech 2025 registrat
 ion.&amp;nbsp\; &lt;strong&gt;For Forum-only registration option&lt;/strong&gt;\, see &lt;a h
 ref=&quot;https://ieee-sustech.org/register/&quot;&gt;&lt;strong&gt;registration page&lt;/strong
 &gt;&lt;/a&gt;&lt;strong&gt;.&lt;/strong&gt;&lt;/p&gt;\n&lt;p&gt;&lt;strong&gt;Special Events:&lt;/strong&gt;&lt;/p&gt;\n&lt;ul&gt;
 \n&lt;li&gt;&lt;strong&gt;Interactive Workshop on &amp;ldquo\;&lt;a href=&quot;https://ieee-sustec
 h.org/workshops/&quot;&gt;Technologies for a Circular Economy&lt;/a&gt;&amp;rdquo\;&lt;/strong&gt;
 &lt;strong&gt;\, &lt;/strong&gt;Sunday April 20\, 8:00 am-4:00 pm&lt;strong&gt;\, &lt;/strong&gt;a
  &lt;strong&gt;Hybrid workshop included with SusTech registration&lt;/strong&gt;\, org
 anized by the &lt;strong&gt;IEEE Future Directions&lt;/strong&gt; &lt;a href=&quot;https://cmt
 e.ieee.org/futuredirections/projects/climate-tech/&quot;&gt;SusTech Initiative&lt;/a&gt;
  in collaboration with SusTech 2025. (limit: 65 on-site attendees).&lt;/li&gt;\n
 &lt;/ul&gt;\n&lt;ul&gt;\n&lt;li&gt;&lt;strong&gt;&lt;a href=&quot;https://ieee-sustech.org/2025-student-po
 ster-contestants/&quot;&gt;SusTech 2025 Student Poster Competition&lt;/a&gt; &lt;em&gt;Virtual
 &lt;/em&gt; Session&lt;/strong&gt;\, on &lt;strong&gt;Sunday April 20\, 2025&lt;/strong&gt; from 4
 :00-6:00 pm.&lt;/li&gt;\n&lt;/ul&gt;\n&lt;ul&gt;\n&lt;li&gt;&lt;strong&gt;Welcome Reception&lt;/strong&gt;\, S
 unday April 20\, 6:30-7:30 pm&lt;/li&gt;\n&lt;/ul&gt;\n&lt;ul&gt;\n&lt;li&gt;&lt;strong&gt;SusTech Netwo
 rking Reception &amp;amp\; Panel\,&lt;/strong&gt; Monday April 21\, 5:30-7:00 pm\, s
 ponsored by IEEE YP &amp;amp\; WIE. Speaker: &amp;ldquo\;How to get funding for yo
 ur ideas&amp;rdquo\;\, with Maurice Gunderson\, PE\, Autotech Ventures\, Manag
 ing Director Emeritus. Panel discussion afterwards.&lt;/li&gt;\n&lt;/ul&gt;\n&lt;ul&gt;\n&lt;li
 &gt;&lt;strong&gt;Conference Dinner\, Speaker and Awards&lt;/strong&gt;\, Tuesday April 2
 2\, 6:30-9:00 pm. Keynote: &lt;a href=&quot;https://ieee-sustech.org/program/keyno
 tes/#usmanhtb&quot;&gt;IEEE Humanitarian Technology Board (HTB)&lt;/a&gt; with Adil Usma
 n\, Chair for the HTB Outreach Committee. IEEE-USA Award presentation and 
 SusTech Student Poster Contest awards.&lt;/li&gt;\n&lt;/ul&gt;\n&lt;p&gt;&lt;strong&gt;Sustainabil
 ity Forum&lt;/strong&gt;&lt;/p&gt;\n&lt;p style=&quot;text-align: justify\;&quot;&gt;The 2025 &lt;a href=
 &quot;https://ieee-sustech.org/program/sustainability-forum/&quot;&gt;IEEE SusTech Sust
 ainability Forum&lt;/a&gt; brings together researchers\, industry professionals\
 , and legal experts to explore innovative solutions for environmental chal
 lenges. Through discussions\, presentations\, and networking opportunities
 \, participants share cutting-edge research\, industry best practices\, an
 d emerging technologies that drive sustainability across various sectors. 
 The forum also includes a legal perspective\, with an attorney discussing 
 key environmental regulations and policies that impact sustainability effo
 rts.&lt;/p&gt;\n&lt;p&gt;The 2025 Sustainability Forum is organized in partnership wit
 h the &lt;a href=&quot;https://aesa.org/&quot; target=&quot;_blank&quot; rel=&quot;noopener&quot;&gt;Armenian 
 Engineers and Scientists of America&lt;/a&gt; (AESA).&lt;/p&gt;\n&lt;p&gt;Forum speakers wil
 l address the following topics:&lt;/p&gt;\n&lt;ul&gt;\n&lt;li&gt;&amp;ldquo\;&lt;a href=&quot;https://ie
 ee-sustech.org/program/sustainability-forum/#adamian&quot;&gt;Green Hydrogen&lt;/a&gt;&amp;r
 dquo\;&lt;/li&gt;\n&lt;li&gt;&amp;ldquo\;&lt;a href=&quot;https://ieee-sustech.org/program/sustain
 ability-forum/#ghafafian&quot;&gt;Decarbonization&lt;/a&gt;&amp;rdquo\;&lt;/li&gt;\n&lt;li&gt;&amp;ldquo\;&lt;a
  href=&quot;https://ieee-sustech.org/program/sustainability-forum/#zohrabian&quot;&gt;O
 ffshore Wind&lt;/a&gt;&amp;rdquo\;&lt;/li&gt;\n&lt;li&gt;&amp;ldquo\;&lt;a href=&quot;https://ieee-sustech.o
 rg/program/sustainability-forum/#abrahamian&quot;&gt;Administrative Law and the Cl
 ean Air Act&lt;/a&gt;&amp;rdquo\;&lt;/li&gt;\n&lt;li&gt;&amp;ldquo\;&lt;a href=&quot;https://ieee-sustech.or
 g/program/sustainability-forum/#etezadi&quot;&gt;Hydrogen: Paving the Way to Net Z
 ero Carbon Emissions&lt;/a&gt;&amp;rdquo\;&lt;/li&gt;\n&lt;li&gt;&amp;ldquo\;UCSD DER Project&amp;rdquo\
 ;&lt;/li&gt;\n&lt;/ul&gt;\n&lt;p&gt;&lt;strong&gt;Keynote Speakers&lt;/strong&gt;&lt;/p&gt;\n&lt;ul&gt;\n&lt;li&gt;&lt;a href
 =&quot;https://ieee-sustech.org/program/keynotes/#booker&quot;&gt;&amp;ldquo\;Designing for
  Regeneration&amp;rdquo\;&lt;/a&gt;\, Alan Booker&lt;/li&gt;\n&lt;li&gt;&lt;a href=&quot;https://ieee-su
 stech.org/program/keynotes/#snyder&quot;&gt;&amp;ldquo\;Carbon Dioxide Measurement for
  Climate Restoration&amp;rdquo\;&lt;/a&gt;\, Snyder &amp;amp\; Fiekowsky&lt;/li&gt;\n&lt;li&gt;&lt;a hr
 ef=&quot;https://ieee-sustech.org/program/keynotes/#usmanhtb&quot;&gt;&amp;ldquo\;The IEEE 
 Humanitarian Technologies Board (HTB)&amp;rdquo\;&lt;/a&gt;\, Adil Usman\, IEEE HTB&lt;
 /li&gt;\n&lt;li&gt;&lt;a href=&quot;https://ieee-sustech.org/program/keynotes/#usman&quot;&gt;&amp;ldqu
 o\;Advanced Electric Machines for Next Generation Electric Vehicles&amp;rdquo\
 ;&lt;/a&gt;\, Adil Usman\, Varroc Engineering&lt;/li&gt;\n&lt;li&gt;&amp;ldquo\;Hot Topics&amp;rdquo
 \; in sustainability&lt;/li&gt;\n&lt;/ul&gt;\n&lt;p&gt;&lt;strong&gt;Panels&lt;/strong&gt;&lt;/p&gt;\n&lt;p&gt;SusTe
 ch 2025 will feature two plenary panel sessions:&lt;/p&gt;\n&lt;ul&gt;\n&lt;li&gt;Is Sustain
 ability Socialism? &amp;ndash\; organized by the IEEE SSIT&lt;/li&gt;\n&lt;li&gt;Sustainab
 ility Standards &amp;ndash\; organized by IEEE SA&lt;/li&gt;\n&lt;/ul&gt;\n&lt;p&gt;&lt;strong&gt;Tech
 nical Program&lt;/strong&gt;&lt;/p&gt;\n&lt;p&gt;SusTech 2025 features over 120 paper presen
 tations in these thematic sessions:&lt;/p&gt;\n&lt;ul&gt;\n&lt;li&gt;Agriculture&lt;/li&gt;\n&lt;li&gt;A
 lternate Energy&lt;/li&gt;\n&lt;li&gt;Carbon&lt;/li&gt;\n&lt;li&gt;Ecology&lt;/li&gt;\n&lt;li&gt;Electronics&lt;/
 li&gt;\n&lt;li&gt;Energy Efficiency&lt;/li&gt;\n&lt;li&gt;eWaste&lt;/li&gt;\n&lt;li&gt;Machine Learning&lt;/li
 &gt;\n&lt;li&gt;Management&lt;/li&gt;\n&lt;li&gt;Smart Grid&lt;/li&gt;\n&lt;li&gt;Society Implications/Qual
 ity of Life&lt;/li&gt;\n&lt;li&gt;Software&lt;/li&gt;\n&lt;li&gt;Transportation&lt;/li&gt;\n&lt;li&gt;Water&lt;/l
 i&gt;\n&lt;/ul&gt;\n&lt;p&gt;&amp;nbsp\;&lt;/p&gt;\n&lt;p style=&quot;text-align: justify\;&quot;&gt;Sponsors for S
 usTech 2025 include the IEEE Oregon\, San Fernando Valley\, Foothill\, and
  Orange County Sections\, IEEE Region 6\, IEEE-USA\, IEEE SSIT\; and co-sp
 onsored by the IEEE Standards Association\, and the IEEE IAS\, OES\, PES\,
  and TEMS Societies and supported by the IEEE SusTech Initiative.&lt;/p&gt;\n&lt;p&gt;
 &lt;img style=&quot;display: block\; margin-left: auto\; margin-right: auto\;&quot; src
 =&quot;https://events.vtools.ieee.org/vtools_ui/media/display/9ca292dd-5b29-4eb
 8-9dfa-65eda6d3e585&quot; alt=&quot;&quot; width=&quot;800&quot; height=&quot;68&quot;&gt;&lt;/p&gt;&lt;br /&gt;&lt;br /&gt;Agenda
 : &lt;br /&gt;&lt;p&gt;Sunday April 20&lt;/p&gt;\n&lt;ul&gt;\n&lt;li&gt;Workshop on Technologies for a C
 ircular Economy&lt;/li&gt;\n&lt;li&gt;Student Poster Competition (virtual)&lt;/li&gt;\n&lt;/ul&gt;
 \n&lt;p&gt;Monday April 21&lt;/p&gt;\n&lt;ul&gt;\n&lt;li&gt;Sustainability Forum&lt;/li&gt;\n&lt;li&gt;Network
 ing Reception with Speaker &amp;amp\; Panel&lt;/li&gt;\n&lt;/ul&gt;\n&lt;p&gt;Tuesday April 22&lt;/
 p&gt;\n&lt;ul&gt;\n&lt;li&gt;Conference sessions - keynotes\, panel and 12 paper sessions
 &lt;/li&gt;\n&lt;li&gt;Conference dinner with Keynote and Awards&lt;/li&gt;\n&lt;/ul&gt;\n&lt;p&gt;Wedne
 sday April 23&lt;/p&gt;\n&lt;ul&gt;\n&lt;li&gt;Conference Sessions - keynotes\, panel and 12
  paper sessions&lt;/li&gt;\n&lt;/ul&gt;\n&lt;p&gt;&amp;nbsp\;&lt;/p&gt;
END:VEVENT
END:VCALENDAR

