BEGIN:VCALENDAR
VERSION:2.0
PRODID:IEEE vTools.Events//EN
CALSCALE:GREGORIAN
BEGIN:VTIMEZONE
TZID:Africa/Cairo
BEGIN:DAYLIGHT
DTSTART:20250425T010000
TZOFFSETFROM:+0200
TZOFFSETTO:+0300
RRULE:FREQ=YEARLY;BYDAY=-1FR;BYMONTH=4
TZNAME:EEST
END:DAYLIGHT
BEGIN:STANDARD
DTSTART:20241031T230000
TZOFFSETFROM:+0300
TZOFFSETTO:+0200
RRULE:FREQ=YEARLY;BYDAY=-1TH;BYMONTH=10
TZNAME:EET
END:STANDARD
END:VTIMEZONE
BEGIN:VEVENT
DTSTAMP:20250319T134450Z
UID:07122F2E-8498-452A-815E-F2F8A8EB7878
DTSTART;TZID=Africa/Cairo:20250416T164300
DTEND;TZID=Africa/Cairo:20250516T164500
DESCRIPTION:&quot;Orbit Talks&quot; is a scientific astronomy podcast broadcasted via
  Webex\, bringing together members of the Andromeda Astronomy Club\, IEEE 
 Jordan Section AESS Group\, and the Jordanian Astronomical Society to expl
 ore the latest topics in astronomy and technology. Episodes will alternate
  between Jordan and Palestine\, featuring a host from one country and expe
 rt guests from the Jordanian Astronomical Society\, Palestinian specialist
 s\, and IEEE Jordan Section AESS Group representatives\n\nJordan\, Jordan\
 , Amman\, Jordan\, Jordan\, 21110
LOCATION:Jordan\, Jordan\, Amman\, Jordan\, Jordan\, 21110
ORGANIZER:hassanabusarris@ieee.org
SEQUENCE:3
SUMMARY:Orbit Talks 
URL;VALUE=URI:https://events.vtools.ieee.org/m/476650
X-ALT-DESC:Description: &lt;br /&gt;&lt;p class=&quot;MsoNormal&quot;&gt;&lt;span style=&quot;font-size: 
 10.0pt\; line-height: 115%\; mso-bidi-language: AR-JO\;&quot;&gt;&lt;em&gt;&lt;span style=&quot;
 font-size: 10.0pt\; line-height: 115%\; font-family: &#39;Times New Roman&#39;\,se
 rif\; mso-ascii-theme-font: major-bidi\; mso-fareast-font-family: Aptos\; 
 mso-fareast-theme-font: minor-latin\; mso-hansi-theme-font: major-bidi\; m
 so-bidi-font-family: Arial\; mso-bidi-theme-font: minor-bidi\; mso-ansi-la
 nguage: EN-US\; mso-fareast-language: EN-US\; mso-bidi-language: AR-JO\;&quot;&gt;
 &quot;Orbit Talks&quot;&lt;/span&gt;&lt;/em&gt;&lt;span style=&quot;font-size: 10.0pt\; line-height: 115
 %\; font-family: &#39;Times New Roman&#39;\,serif\; mso-ascii-theme-font: major-bi
 di\; mso-fareast-font-family: Aptos\; mso-fareast-theme-font: minor-latin\
 ; mso-hansi-theme-font: major-bidi\; mso-bidi-font-family: Arial\; mso-bid
 i-theme-font: minor-bidi\; mso-ansi-language: EN-US\; mso-fareast-language
 : EN-US\; mso-bidi-language: AR-JO\;&quot;&gt; is a &lt;strong&gt;scientific astronomy p
 odcast&lt;/strong&gt; broadcasted via &lt;strong&gt;Webex&lt;/strong&gt;\, bringing together
  members of the &lt;strong&gt;Andromeda Astronomy Club&lt;/strong&gt;\, &lt;/span&gt;&lt;strong
 &gt;&lt;span style=&quot;font-size: 10.0pt\; line-height: 115%\; font-family: &#39;Times 
 New Roman&#39;\,serif\; mso-ascii-theme-font: major-bidi\; mso-fareast-font-fa
 mily: Aptos\; mso-fareast-theme-font: minor-latin\; mso-hansi-theme-font: 
 major-bidi\; mso-bidi-theme-font: major-bidi\; mso-ansi-language: EN-US\; 
 mso-fareast-language: EN-US\; mso-bidi-language: AR-JO\;&quot;&gt;IEEE Jordan Sect
 ion AESS Group&lt;/span&gt;&lt;/strong&gt;&lt;span style=&quot;font-size: 10.0pt\; line-height
 : 115%\; font-family: &#39;Times New Roman&#39;\,serif\; mso-ascii-theme-font: maj
 or-bidi\; mso-fareast-font-family: Aptos\; mso-fareast-theme-font: minor-l
 atin\; mso-hansi-theme-font: major-bidi\; mso-bidi-font-family: Arial\; ms
 o-bidi-theme-font: minor-bidi\; mso-ansi-language: EN-US\; mso-fareast-lan
 guage: EN-US\; mso-bidi-language: AR-JO\;&quot;&gt;\, and the &lt;strong&gt;Jordanian As
 tronomical Society&lt;/strong&gt; to explore the latest topics in &lt;strong&gt;astron
 omy and technology&lt;/strong&gt;. Episodes will alternate between &lt;strong&gt;Jorda
 n and Palestine&lt;/strong&gt;\, featuring a host from one country and expert gu
 ests from the &lt;strong&gt;Jordanian Astronomical Society\, Palestinian special
 ists\, and &lt;/strong&gt;&lt;/span&gt;&lt;strong&gt;&lt;span style=&quot;font-size: 10.0pt\; line-h
 eight: 115%\; font-family: &#39;Times New Roman&#39;\,serif\; mso-ascii-theme-font
 : major-bidi\; mso-fareast-font-family: Aptos\; mso-fareast-theme-font: mi
 nor-latin\; mso-hansi-theme-font: major-bidi\; mso-bidi-theme-font: major-
 bidi\; mso-ansi-language: EN-US\; mso-fareast-language: EN-US\; mso-bidi-l
 anguage: AR-JO\;&quot;&gt;IEEE Jordan Section AESS Group&lt;/span&gt;&lt;span style=&quot;font-s
 ize: 10.0pt\; line-height: 115%\; font-family: &#39;Times New Roman&#39;\,serif\; 
 mso-ascii-theme-font: major-bidi\; mso-fareast-font-family: Aptos\; mso-fa
 reast-theme-font: minor-latin\; mso-hansi-theme-font: major-bidi\; mso-bid
 i-font-family: Arial\; mso-bidi-theme-font: minor-bidi\; mso-ansi-language
 : EN-US\; mso-fareast-language: EN-US\; mso-bidi-language: AR-JO\;&quot;&gt; repre
 sentatives&lt;/span&gt;&lt;/strong&gt;&lt;br&gt;&lt;br&gt;&lt;img src=&quot;https://events.vtools.ieee.org
 /vtools_ui/media/display/de7160a6-7b56-49d8-b861-b17a91c7ee5a&quot; width=&quot;680&quot;
  height=&quot;680&quot;&gt;&lt;br&gt;&lt;/span&gt;&lt;/p&gt;
END:VEVENT
END:VCALENDAR

