BEGIN:VCALENDAR
VERSION:2.0
PRODID:IEEE vTools.Events//EN
CALSCALE:GREGORIAN
BEGIN:VTIMEZONE
TZID:America/New_York
BEGIN:DAYLIGHT
DTSTART:20250309T030000
TZOFFSETFROM:-0500
TZOFFSETTO:-0400
RRULE:FREQ=YEARLY;BYDAY=2SU;BYMONTH=3
TZNAME:EDT
END:DAYLIGHT
BEGIN:STANDARD
DTSTART:20251102T010000
TZOFFSETFROM:-0400
TZOFFSETTO:-0500
RRULE:FREQ=YEARLY;BYDAY=1SU;BYMONTH=11
TZNAME:EST
END:STANDARD
END:VTIMEZONE
BEGIN:VEVENT
DTSTAMP:20250324T162801Z
UID:2B5D0B2B-45D6-4B26-846D-580C19734613
DTSTART;TZID=America/New_York:20250321T140000
DTEND;TZID=America/New_York:20250321T153000
DESCRIPTION:A seminar on Recent advances in transcranial magnetic stimulati
 on: Devices\, modeling\, and applications”\n\nCo-sponsored by: Mechanica
 l and Nuclear Engineering\, VCU\n\nSpeaker(s): Zhi\, \n\nRoom: E3229 \, Bl
 dg: East Engineering Building \, 401 W Main Street\, Mechanical and Nuclea
 r Engineer \, Virginia Commonwealth University \, Richmond \, Virginia\, U
 nited States\, 23284
LOCATION:Room: E3229 \, Bldg: East Engineering Building \, 401 W Main Stree
 t\, Mechanical and Nuclear Engineer \, Virginia Commonwealth University \,
  Richmond \, Virginia\, United States\, 23284
ORGANIZER:rhadimani@vcu.edu
SEQUENCE:1
SUMMARY:Recent advances in transcranial magnetic stimulation: Devices\, mod
 eling\, and applications
URL;VALUE=URI:https://events.vtools.ieee.org/m/476704
X-ALT-DESC:Description: &lt;br /&gt;&lt;p&gt;A seminar on Recent advances in transcrani
 al magnetic stimulation: Devices\, modeling\, and applications&amp;rdquo\;&lt;/p&gt;
END:VEVENT
END:VCALENDAR

