BEGIN:VCALENDAR
VERSION:2.0
PRODID:IEEE vTools.Events//EN
CALSCALE:GREGORIAN
BEGIN:VTIMEZONE
TZID:America/Mexico_City
BEGIN:STANDARD
DTSTART:20221030T010000
TZOFFSETFROM:-0500
TZOFFSETTO:-0600
TZNAME:CST
END:STANDARD
END:VTIMEZONE
BEGIN:VEVENT
DTSTAMP:20250413T040941Z
UID:87875C8B-1676-4541-AEA0-FDFCAECB761A
DTSTART;TZID=America/Mexico_City:20250408T110000
DTEND;TZID=America/Mexico_City:20250409T120000
DESCRIPTION:En este webinar se describirán los pasos a seguir para descone
 ctar un banco de transformadores\, cumpliendo con el marco normativo vigen
 te y la teoría técnica que lo sustenta. Lo anterior\, para la realizaci
 ón del mantenimiento predictivo o preventivo de dicho elemento eléctrico
 .\n\n[]\n\nCo-sponsored by: Industrial Relations IEEE Puebla Section\n\nSp
 eaker(s): Dr. José Luis Mar Villegas\, \n\nAgenda: \nBienvienida\n\nSesi
 ón y preguntas\n\nCierre\n\nVirtual: https://events.vtools.ieee.org/m/476
 918
LOCATION:Virtual: https://events.vtools.ieee.org/m/476918
ORGANIZER:mariamperezt@ieee.org
SEQUENCE:22
SUMMARY:Maniobras de Libranza de Transformadores en la ZOTPT de la CFE
URL;VALUE=URI:https://events.vtools.ieee.org/m/476918
X-ALT-DESC:Description: &lt;br /&gt;&lt;p&gt;En este webinar se describir&amp;aacute\;n los
  pasos a seguir para desconectar un banco de transformadores\, cumpliendo 
 con el marco normativo vigente y la teor&amp;iacute\;a t&amp;eacute\;cnica que lo 
 sustenta. Lo anterior\, para la realizaci&amp;oacute\;n del mantenimiento pred
 ictivo o preventivo de dicho elemento el&amp;eacute\;ctrico.&lt;/p&gt;\n&lt;p&gt;&amp;nbsp\;&lt;/
 p&gt;\n&lt;p&gt;&lt;img src=&quot;https://events.vtools.ieee.org/vtools_ui/media/display/08
 543d9d-3022-4734-b2aa-0144af36750b&quot; alt=&quot;&quot; width=&quot;607&quot; height=&quot;607&quot;&gt;&lt;/p&gt;&lt;b
 r /&gt;&lt;br /&gt;Agenda: &lt;br /&gt;&lt;p&gt;Bienvienida&lt;/p&gt;\n&lt;p&gt;Sesi&amp;oacute\;n y preguntas&lt;
 /p&gt;\n&lt;p&gt;Cierre&lt;/p&gt;
END:VEVENT
END:VCALENDAR

