BEGIN:VCALENDAR
VERSION:2.0
PRODID:IEEE vTools.Events//EN
CALSCALE:GREGORIAN
BEGIN:VTIMEZONE
TZID:America/New_York
BEGIN:DAYLIGHT
DTSTART:20250309T030000
TZOFFSETFROM:-0500
TZOFFSETTO:-0400
RRULE:FREQ=YEARLY;BYDAY=2SU;BYMONTH=3
TZNAME:EDT
END:DAYLIGHT
BEGIN:STANDARD
DTSTART:20251102T010000
TZOFFSETFROM:-0400
TZOFFSETTO:-0500
RRULE:FREQ=YEARLY;BYDAY=1SU;BYMONTH=11
TZNAME:EST
END:STANDARD
END:VTIMEZONE
BEGIN:VEVENT
DTSTAMP:20250412T153507Z
UID:BBFD4BC0-7A85-4810-8E4F-E0622EB67DE5
DTSTART;TZID=America/New_York:20250412T084500
DTEND;TZID=America/New_York:20250412T104500
DESCRIPTION:Root Cause Analysis (RCA) is a popular and often-used technique
  that helps people answer the question of why the problem occurred in the 
 first place. Root Cause Analysis seeks to identify the origin of a problem
 . It uses a specific set of steps\, with tools such as the 5 Whys and Caus
 e &amp; Effect Diagram\, to find the primary cause of the problem\, so that yo
 u can determine what happened\, why it happened and figure out what to do 
 to prevent its recurrence.\n\nAudience\nThis tutorial has been prepared fo
 r beginners to help them understand the basics of Root Cause Analysis. Aft
 er completing this tutorial\, you will find yourself at a moderate level o
 f expertise\, from where you can advance further.\n\nKey Target/Objective:
  This entire seminar is designed to enable folks to be well informed on th
 e higher level technical aspects of RCA Philosophy\, so they can step into
  this world with full confidence\, with the right perspective. Part of the
  PACE activities (Professional Activities Committe for Engineers). So what
  is PACE?\n\nThe Professional Activities Committee for Engineers (PACE) of
  the IEEE Southeastern Michigan Section\, promotes the professional intere
 sts of IEEE USA members in this Section. PACE activities may include:\n\n*
  Workshops on career issues (e.g.\, networking\, career planning\, career 
 transitions\, interviewing skills)\n* Skill training workshops (e.g.\, ent
 repreneurship\, effective speaking\, technical writing\, soft skills\, cri
 tical thinking\, leadership skills\, etc)\n* Government policy as it affec
 ts Engineering and Technology.\n\nSpeaker(s): Sharan Kalwani\, \n\nAgenda:
  \n08:45 AM - Registration/Sign In\, verification of attendee\n09:05 AM - 
 Welcome and Introductions\, Chapter business update\n09:10 AM - Session st
 art\n10:45 AM - End of session\, Q&amp;A\, formal conclusion\, feedback sessio
 n and Wrap Up\n\nA printed copy of the notes will be provided to each conf
 irmed attendee. There is a small fee to cover costs of and the printed mat
 erial. Registration is confirmed only after fee is pre-paid\n\nRoom: 239\,
  Bldg: Elliot Hall\, 115 Library Drive\, Rochester\, Michigan\, United Sta
 tes\, 48309
LOCATION:Room: 239\, Bldg: Elliot Hall\, 115 Library Drive\, Rochester\, Mi
 chigan\, United States\, 48309
ORGANIZER:sharan.kalwani@ieee.org
SEQUENCE:22
SUMMARY:PACE: Introduction to Root Cause Analysis
URL;VALUE=URI:https://events.vtools.ieee.org/m/477059
X-ALT-DESC:Description: &lt;br /&gt;&lt;p&gt;&lt;span style=&quot;font-size: 10pt\;&quot;&gt;Root Cause
  Analysis (RCA) is a popular and often-used technique that helps people an
 swer the question of why the problem occurred in the first place. Root Cau
 se Analysis seeks to identify the origin of a problem. It uses a specific 
 set of steps\, with tools such as the 5 Whys and Cause &amp;amp\; Effect Diagr
 am\, to find the primary cause of the problem\, so that you can determine 
 what happened\, why it happened and figure out what to do to prevent its r
 ecurrence.&lt;/span&gt;&lt;/p&gt;\n&lt;p&gt;&lt;span style=&quot;font-size: 10pt\;&quot;&gt;Audience&lt;/span&gt;&lt;
 br&gt;&lt;span style=&quot;font-size: 10pt\;&quot;&gt;This tutorial has been prepared for beg
 inners to help them understand the basics of Root Cause Analysis. After co
 mpleting this tutorial\, you will find yourself at a moderate level of exp
 ertise\, from where you can advance further.&lt;/span&gt;&lt;/p&gt;\n&lt;p&gt;&lt;span style=&quot;f
 ont-size: 10pt\;&quot;&gt;&lt;strong&gt;Key Target/Objective&lt;/strong&gt;: This entire semin
 ar is designed to enable folks to be well informed on the higher level tec
 hnical aspects of RCA Philosophy\, so they can step into this world with f
 ull confidence\, with the right perspective. Part of the PACE activities (
 Professional Activities Committe for Engineers). So what is PACE?&lt;br&gt;&lt;/spa
 n&gt;&lt;/p&gt;\n&lt;p&gt;&lt;span style=&quot;font-size: 10pt\;&quot;&gt;The Professional Activities Com
 mittee for Engineers (PACE) of the IEEE Southeastern Michigan Section\, pr
 omotes the professional interests of IEEE USA members in this Section. PAC
 E activities may include:&lt;/span&gt;&lt;/p&gt;\n&lt;p&gt;&lt;span style=&quot;font-size: 10pt\;&quot;&gt;&amp;
 nbsp\; &amp;nbsp\; * Workshops on career issues (e.g.\, networking\, career pl
 anning\, career transitions\, interviewing skills)&lt;/span&gt;&lt;br&gt;&lt;span style=&quot;
 font-size: 10pt\;&quot;&gt;&amp;nbsp\; &amp;nbsp\; * Skill training workshops (e.g.\, entr
 epreneurship\, effective speaking\, technical writing\, soft skills\, crit
 ical thinking\, leadership skills\, etc)&lt;/span&gt;&lt;br&gt;&lt;span style=&quot;font-size:
  10pt\;&quot;&gt;&amp;nbsp\; &amp;nbsp\; * Government policy as it affects Engineering and
  Technology.&lt;/span&gt;&lt;/p&gt;&lt;br /&gt;&lt;br /&gt;Agenda: &lt;br /&gt;&lt;p&gt;&lt;span style=&quot;font-fami
 ly: courier new\, courier\, monospace\; font-size: 14pt\;&quot;&gt;08:45 AM - Regi
 stration/Sign In\, verification of attendee&lt;br&gt;&lt;/span&gt;&lt;span style=&quot;font-fa
 mily: courier new\, courier\, monospace\; font-size: 14pt\;&quot;&gt;09:05 AM - We
 lcome and Introductions\, Chapter business update&lt;br&gt;&lt;/span&gt;&lt;span style=&quot;f
 ont-family: courier new\, courier\, monospace\; font-size: 14pt\;&quot;&gt;09:10 A
 M - Session start&lt;br&gt;&lt;/span&gt;&lt;span style=&quot;font-family: courier new\, courie
 r\, monospace\; font-size: 14pt\;&quot;&gt;10:45 AM - End of session\, Q&amp;amp\;A\, 
 f&lt;/span&gt;&lt;span style=&quot;font-family: courier new\, courier\, monospace\; font
 -size: 14pt\;&quot;&gt;ormal conclusion\, feedback session and Wrap Up&lt;/span&gt;&lt;/p&gt;\
 n&lt;p&gt;&lt;span style=&quot;font-family: courier new\, courier\, monospace\; font-siz
 e: 14pt\;&quot;&gt;A printed copy of the notes will be provided to each confirmed 
 attendee. There is a small fee to cover costs of and the printed material.
  Registration is confirmed &lt;strong&gt;only after&lt;/strong&gt; fee is pre-paid&lt;/sp
 an&gt;&lt;/p&gt;\n&lt;p&gt;&amp;nbsp\;&lt;/p&gt;
END:VEVENT
END:VCALENDAR

