BEGIN:VCALENDAR
VERSION:2.0
PRODID:IEEE vTools.Events//EN
CALSCALE:GREGORIAN
BEGIN:VTIMEZONE
TZID:America/Los_Angeles
BEGIN:DAYLIGHT
DTSTART:20250309T030000
TZOFFSETFROM:-0800
TZOFFSETTO:-0700
RRULE:FREQ=YEARLY;BYDAY=2SU;BYMONTH=3
TZNAME:PDT
END:DAYLIGHT
BEGIN:STANDARD
DTSTART:20251102T010000
TZOFFSETFROM:-0700
TZOFFSETTO:-0800
RRULE:FREQ=YEARLY;BYDAY=1SU;BYMONTH=11
TZNAME:PST
END:STANDARD
END:VTIMEZONE
BEGIN:VEVENT
DTSTAMP:20250408T195849Z
UID:FBD47FB1-3406-4FD3-B50D-170C4198742F
DTSTART;TZID=America/Los_Angeles:20250402T173000
DTEND;TZID=America/Los_Angeles:20250402T183000
DESCRIPTION:Time Domain analysis is a powerful analytical tool available in
  Vector Network Analyzers provided by Copper Mountain Technologies. Some m
 ay be familiar with TDR measurement using a short-duration pulse with fast
  rise and fall times. TDR might be used to analyze an RF cable&#39;s health an
 d determine where an impairment is located along its length. A VNA can per
 form a similar task and has distinct advantages over traditional TDR. We
 ’ll look at how time domain analysis is done using a VNA\, examine some 
 typical applications\, and briefly explain the mathematical underpinnings.
 \n\nSpeaker(s): Brian Walker \, \n\nAgenda: \n- Invited talk from Brian Wa
 lker\, from Copper Mountain Technologies\n- Q/A Session\n\nVirtual: https:
 //events.vtools.ieee.org/m/477332
LOCATION:Virtual: https://events.vtools.ieee.org/m/477332
ORGANIZER:ananyamukh6@gmail.com
SEQUENCE:34
SUMMARY:Time Domain Analysis for Vector Network Analyzers
URL;VALUE=URI:https://events.vtools.ieee.org/m/477332
X-ALT-DESC:Description: &lt;br /&gt;&lt;p&gt;Time Domain analysis is a powerful analyti
 cal tool available in Vector Network Analyzers provided by Copper Mountain
  Technologies. Some may be familiar with TDR measurement using a short-dur
 ation pulse with fast rise and fall times. TDR might be used to analyze an
  RF cable&#39;s health and determine where an impairment is located along its 
 length. A VNA can perform a similar task and has distinct advantages over 
 traditional TDR. We&amp;rsquo\;ll look at how time domain analysis is done usi
 ng a VNA\, examine some typical applications\, and briefly explain the mat
 hematical underpinnings.&lt;/p&gt;&lt;br /&gt;&lt;br /&gt;Agenda: &lt;br /&gt;&lt;ul&gt;\n&lt;li&gt;Invited ta
 lk from &lt;span style=&quot;font-size: 12.0pt\; font-family: &#39;Calibri&#39;\,sans-seri
 f\; mso-ascii-theme-font: minor-latin\; mso-fareast-font-family: Calibri\;
  mso-fareast-theme-font: minor-latin\; mso-hansi-theme-font: minor-latin\;
  mso-bidi-font-family: &#39;Times New Roman&#39;\; mso-bidi-theme-font: minor-bidi
 \; mso-ansi-language: EN-US\; mso-fareast-language: EN-US\; mso-bidi-langu
 age: AR-SA\;&quot;&gt;Brian Walker&lt;/span&gt;\, from &lt;span style=&quot;font-size: 12.0pt\; 
 font-family: &#39;Calibri&#39;\,sans-serif\; mso-ascii-theme-font: minor-latin\; m
 so-fareast-font-family: Calibri\; mso-fareast-theme-font: minor-latin\; ms
 o-hansi-theme-font: minor-latin\; mso-bidi-font-family: &#39;Times New Roman&#39;\
 ; mso-bidi-theme-font: minor-bidi\; mso-ansi-language: EN-US\; mso-fareast
 -language: EN-US\; mso-bidi-language: AR-SA\;&quot;&gt;Copper Mountain Technologie
 s&lt;/span&gt;&lt;/li&gt;\n&lt;li&gt;Q/A Session&lt;/li&gt;\n&lt;/ul&gt;
END:VEVENT
END:VCALENDAR

