BEGIN:VCALENDAR
VERSION:2.0
PRODID:IEEE vTools.Events//EN
CALSCALE:GREGORIAN
BEGIN:VTIMEZONE
TZID:US/Eastern
BEGIN:DAYLIGHT
DTSTART:20250309T030000
TZOFFSETFROM:-0500
TZOFFSETTO:-0400
RRULE:FREQ=YEARLY;BYDAY=2SU;BYMONTH=3
TZNAME:EDT
END:DAYLIGHT
BEGIN:STANDARD
DTSTART:20251102T010000
TZOFFSETFROM:-0400
TZOFFSETTO:-0500
RRULE:FREQ=YEARLY;BYDAY=1SU;BYMONTH=11
TZNAME:EST
END:STANDARD
END:VTIMEZONE
BEGIN:VEVENT
DTSTAMP:20250406T142926Z
UID:92EA10CA-6FC6-4AF8-9CE5-274306F80184
DTSTART;TZID=US/Eastern:20250404T104500
DTEND;TZID=US/Eastern:20250404T114500
DESCRIPTION:We are excited to announce an upcoming NIST MSED/NCNR Seminar b
 eing presented by Thomas Mion (US Naval Research Laboratory). This Seminar
  talk is taking place in person at the NIST Center for Neutron Research\, 
 K04B lecture room.\n\nCo-sponsored by: NIST Center for Neutron Research\n\
 nSpeaker(s): Thomas Mion\n\nRoom: K04B\, Bldg: NCNR (NIST Gaithersburg cam
 pus Bldg.235)\, 100 Bureau Drive\, Gaithersburg\, Maryland\, United States
 \, 20899\, Virtual: https://events.vtools.ieee.org/m/477524
LOCATION:Room: K04B\, Bldg: NCNR (NIST Gaithersburg campus Bldg.235)\, 100 
 Bureau Drive\, Gaithersburg\, Maryland\, United States\, 20899\, Virtual: 
 https://events.vtools.ieee.org/m/477524
ORGANIZER:daniel.gopman@ieee.org
SEQUENCE:14
SUMMARY:Exploring the Science and Application Space for the Metastable Phas
 e in the Relaxor Ferroelectric PIN-PMN-PT
URL;VALUE=URI:https://events.vtools.ieee.org/m/477524
X-ALT-DESC:Description: &lt;br /&gt;&lt;p&gt;We are excited to announce an upcoming NIS
 T MSED/NCNR Seminar being presented by Thomas Mion (US Naval Research Labo
 ratory). This Seminar talk is taking place in person at the NIST Center fo
 r Neutron Research\, K04B lecture room.&lt;/p&gt;
END:VEVENT
END:VCALENDAR

