BEGIN:VCALENDAR
VERSION:2.0
PRODID:IEEE vTools.Events//EN
CALSCALE:GREGORIAN
BEGIN:VTIMEZONE
TZID:America/Los_Angeles
BEGIN:DAYLIGHT
DTSTART:20250309T030000
TZOFFSETFROM:-0800
TZOFFSETTO:-0700
RRULE:FREQ=YEARLY;BYDAY=2SU;BYMONTH=3
TZNAME:PDT
END:DAYLIGHT
BEGIN:STANDARD
DTSTART:20251102T010000
TZOFFSETFROM:-0700
TZOFFSETTO:-0800
RRULE:FREQ=YEARLY;BYDAY=1SU;BYMONTH=11
TZNAME:PST
END:STANDARD
END:VTIMEZONE
BEGIN:VEVENT
DTSTAMP:20250524T002839Z
UID:DE6B4E7B-3EC3-4AFA-ACBB-211F8214C682
DTSTART;TZID=America/Los_Angeles:20250415T190000
DTEND;TZID=America/Los_Angeles:20250415T203000
DESCRIPTION:This is a hybrid meeting\,\n\nTopic: hybrid link Exciting News 
 at the Upcoming EXCOM Meeting!\nTime: Apr 15\, 2025 07:00 PM Pacific Time 
 (US and Canada)\nJoin Zoom Meeting\nhttps://us06web.zoom.us/j/83451897528?
 pwd=GxO6QH4XIxrxyjhKHz2iJbb930PMA2.1\n\nMeeting ID: 834 5189 7528\nPasscod
 e: 652615\n\nFind your local number: https://us06web.zoom.us/u/keJH40U8Co\
 n\nPrepare to be inspired as Sheree Wen shares her remarkable encounters w
 ith Washington State Congressman Rick Larsen\, Congresswoman Suzan DelBene
 \, and Senators Patty Murray and Maria Cantwell. These influential leaders
  and their teams were deeply impressed by our Seattle Section’s groundbr
 eaking initiatives: AI for Humanity\, AI for Wildfire\, and AI for Earthqu
 ake.\n\nBut that’s just the beginning! Sheree will unveil her thrilling 
 vision for the IEEE New Era Event 2025: AI for Humanity. With IEEE Past Pr
 esident Thomas Coughlin as Event Co-Chair\, the IEEE USA President (schedu
 le permitting) as World AI Summit Co-Chair\, and Grayson Randell\, IEEE Ch
 air of the Humanity Board\, together with Region 6 Director Joseph Wei as 
 Symposium Co-Chair\, we are proud to announce an exceptional leadership te
 am. Additionally\, we are thrilled to welcome Dr. Don Tan\, a distinguishe
 d U.S. Academician and IEEE Technical Activities Board Chair for 2026\, as
  our Event Program Chair. This event is set to be a true game-changer!\n\n
 🎤 Keynotes &amp; Live Demonstrations We’re bringing together U.S. and Was
 hington State dignitaries\, along with world-renowned experts in AI\, sate
 llites\, space\, robotics\, drones\, 5G/6G\, and satellite communications.
  Expect captivating speeches and live demonstrations on humanitarian topic
 s like earthquake relief\, wildfire management\, autonomous drones\, robot
 ics\, sensor networks\, geosensing\, and cutting-edge AI applications\, in
 cluding cybersecurity.\n\n🏆 Contests &amp; Showcases Get ready for thrillin
 g contests featuring drones and robots showcasing their exceptional AI-con
 trolled functions. With cash prizes and medals up for grabs\, IEEE member 
 teams\, school professors- student teams\, and friends are all invited to 
 participate. Between summit keynotes\, among world leaders\, we’ll proud
 ly showcase your team’s achievements.\n\n📚 Research &amp; Publications Fo
 r those passionate about sharing their findings\, we’ll host paper prese
 ntations and poster sessions\, complete with conference proceedings and li
 ve recordings.\n\n🚀 Join Us! We’re calling on all of you to volunteer
 \, give talks\, and participate in contests. Together\, we’ll make this 
 event unforgettable.\n\nAnd here’s the cherry on top: Sheree will proudl
 y announce that the IEEE Seattle Section will be part of the IEEE 5G/6G Te
 st Bed\, featuring the most advanced communication networks\, including sa
 tellites\, sensors\, IoT\, and UAV networks. With 11 members already signe
 d up\, we invite you to join us and bring your dream ideas to life.\n\nThe
  EXCOM meeting April 15th 2025 7pm-8:30pm at Seattle University .\n\nCo-sp
 onsored by: Computer society\, \n\nAgenda: \nApril 15th\, 7pm-8:30pm\n\n7P
 M-7:30pm Section business\n\n7:30pm-8:30pm Chapter and Affinity Group Elec
 tion.\n\nRoom: 501\, Bldg: bannan \, 901 12th Avenue Seattle\, WA 98122-10
 90\, Seattle\, Washington\, United States\, 98122
LOCATION:Room: 501\, Bldg: bannan \, 901 12th Avenue Seattle\, WA 98122-109
 0\, Seattle\, Washington\, United States\, 98122
ORGANIZER:swen@ieee.olrg
SEQUENCE:62
SUMMARY:Hybrid link Exciting news for upcoming Seattle EXCOM meeting 
URL;VALUE=URI:https://events.vtools.ieee.org/m/477617
X-ALT-DESC:Description: &lt;br /&gt;&lt;p&gt;&amp;nbsp\;&lt;/p&gt;\n&lt;p&gt;This is a hybrid meeting\,
 &amp;nbsp\;&lt;/p&gt;\n&lt;p&gt;Topic: hybrid link Exciting News at the Upcoming EXCOM Mee
 ting!&lt;br&gt;Time: Apr 15\, 2025 07:00 PM Pacific Time (US and Canada)&lt;br&gt;Join
  Zoom Meeting&lt;br&gt;https://us06web.zoom.us/j/83451897528?pwd=GxO6QH4XIxrxyjh
 KHz2iJbb930PMA2.1&lt;/p&gt;\n&lt;p&gt;Meeting ID: 834 5189 7528&lt;br&gt;Passcode: 652615&lt;/p
 &gt;\n&lt;p&gt;Find your local number: https://us06web.zoom.us/u/keJH40U8Co&lt;/p&gt;\n&lt;p
 &gt;Prepare to be inspired as Sheree Wen shares her remarkable encounters wit
 h Washington State Congressman Rick Larsen\, Congresswoman Suzan DelBene\,
  and Senators Patty Murray and Maria Cantwell. These influential leaders a
 nd their teams were deeply impressed by our Seattle Section&amp;rsquo\;s groun
 dbreaking initiatives:&amp;nbsp\;&lt;strong&gt;AI for Humanity&lt;/strong&gt;\,&amp;nbsp\;&lt;str
 ong&gt;AI for Wildfire&lt;/strong&gt;\, and&amp;nbsp\;&lt;strong&gt;AI for Earthquake&lt;/strong
 &gt;.&lt;/p&gt;\n&lt;p&gt;But that&amp;rsquo\;s just the beginning! Sheree will unveil her th
 rilling vision for the&amp;nbsp\;&lt;strong&gt;IEEE New Era Event 2025: AI for Human
 ity&lt;/strong&gt;. With&amp;nbsp\;&lt;strong&gt;IEEE Past President Thomas Coughlin&lt;/stro
 ng&gt;&amp;nbsp\;as Event Co-Chair\, the&amp;nbsp\;&lt;strong&gt;IEEE USA President&lt;/strong
 &gt;&amp;nbsp\;(schedule permitting) as World AI Summit Co-Chair\, and&amp;nbsp\;&lt;str
 ong&gt;Grayson Randell\, IEEE Chair of the Humanity Board&lt;/strong&gt;\, together
  with&amp;nbsp\;&lt;strong&gt;Region 6 Director Joseph Wei&amp;nbsp\;&lt;/strong&gt;as Symposi
 um Co-Chair\, we are proud to announce an exceptional leadership team. Add
 itionally\, we are thrilled to welcome&amp;nbsp\;&lt;strong&gt;Dr. Don Tan\, a disti
 nguished U.S. Academician and IEEE Technical Activities Board Chair for 20
 26\,&lt;/strong&gt;&amp;nbsp\;as our Event Program Chair. This event is set to be a 
 true game-changer!&lt;/p&gt;\n&lt;p&gt;🎤&amp;nbsp\;&lt;strong&gt;Keynotes &amp;amp\; Live Demonst
 rations&lt;/strong&gt;&amp;nbsp\;We&amp;rsquo\;re bringing together U.S. and Washington 
 State dignitaries\, along with world-renowned experts in AI\, satellites\,
  space\, robotics\, drones\, 5G/6G\, and satellite communications. Expect 
 captivating speeches and live demonstrations on humanitarian topics like e
 arthquake relief\, wildfire management\, autonomous drones\, robotics\, se
 nsor networks\, geosensing\, and cutting-edge AI applications\, including 
 cybersecurity.&lt;/p&gt;\n&lt;p&gt;🏆&amp;nbsp\;&lt;strong&gt;Contests &amp;amp\; Showcases&lt;/stron
 g&gt;&amp;nbsp\;Get ready for&amp;nbsp\;&lt;strong&gt;thrilling contests featuring drones a
 nd robots showcasing their exceptional AI-controlled functions.&lt;/strong&gt;&amp;n
 bsp\;With cash prizes and medals up for grabs\, IEEE member teams\, school
  professors- student teams\, and friends are all invited to participate. B
 etween summit keynotes\, among world leaders\, we&amp;rsquo\;ll proudly showca
 se your team&amp;rsquo\;s achievements.&lt;/p&gt;\n&lt;p&gt;📚&amp;nbsp\;&lt;strong&gt;Research &amp;a
 mp\; Publications&lt;/strong&gt;&amp;nbsp\;For those passionate about sharing their 
 findings\, we&amp;rsquo\;ll host paper presentations and poster sessions\, com
 plete with conference proceedings and live recordings.&lt;/p&gt;\n&lt;p&gt;🚀&amp;nbsp\;
 &lt;strong&gt;Join Us!&lt;/strong&gt;&amp;nbsp\;We&amp;rsquo\;re calling on all of you to volu
 nteer\, give talks\, and participate in contests. Together\, we&amp;rsquo\;ll 
 make this event unforgettable.&lt;/p&gt;\n&lt;p&gt;And here&amp;rsquo\;s the cherry on top
 : Sheree will proudly announce that the&amp;nbsp\;&lt;strong&gt;IEEE Seattle Section
  will be part of the IEEE 5G/6G Test Bed\,&lt;/strong&gt;&amp;nbsp\;featuring the mo
 st advanced communication networks\, including satellites\, sensors\, IoT\
 , and UAV networks. With 11 members already signed up\, we invite you to j
 oin us and bring your dream ideas to life.&lt;/p&gt;\n&lt;p&gt;&amp;nbsp\;&amp;nbsp\;&amp;nbsp\;Th
 e&amp;nbsp\; EXCOM meeting&amp;nbsp\; April 15th 2025&amp;nbsp\; 7pm-8:30pm&amp;nbsp\; at 
 Seattle University .&amp;nbsp\;&lt;/p&gt;&lt;br /&gt;&lt;br /&gt;Agenda: &lt;br /&gt;&lt;p&gt;April 15th\,&amp;n
 bsp\; 7pm-8:30pm&amp;nbsp\;&amp;nbsp\;&lt;/p&gt;\n&lt;p&gt;&amp;nbsp\; &amp;nbsp\; 7PM-7:30pm&amp;nbsp\; &amp;
 nbsp\;Section business&lt;/p&gt;\n&lt;p&gt;&amp;nbsp\; &amp;nbsp\; 7:30pm-8:30pm&amp;nbsp\; &amp;nbsp\
 ; Chapter and Affinity Group Election.&amp;nbsp\;&amp;nbsp\;&lt;/p&gt;
END:VEVENT
END:VCALENDAR

