BEGIN:VCALENDAR
VERSION:2.0
PRODID:IEEE vTools.Events//EN
CALSCALE:GREGORIAN
BEGIN:VTIMEZONE
TZID:Asia/Bangkok
BEGIN:DAYLIGHT
DTSTART:20380119T101407
TZOFFSETFROM:+0700
TZOFFSETTO:+0700
RRULE:FREQ=YEARLY;BYDAY=3TU;BYMONTH=1
TZNAME:+07
END:DAYLIGHT
BEGIN:STANDARD
DTSTART:19200401T001756
TZOFFSETFROM:+0642
TZOFFSETTO:+0700
RRULE:FREQ=YEARLY;BYDAY=1TH;BYMONTH=4
TZNAME:+07
END:STANDARD
END:VTIMEZONE
BEGIN:VEVENT
DTSTAMP:20250418T025041Z
UID:6E6B886F-0608-4794-BFA5-D76ADEF96BAC
DTSTART;TZID=Asia/Bangkok:20250402T080000
DTEND;TZID=Asia/Bangkok:20250404T160000
DESCRIPTION:About Conference\n\nWelcome ICCI 2025\n\nThe International Conf
 erence on Cybernetics and Innovations (ICCI 2025) which is a conference fr
 om April\, 2025. The Conference will cover a board range of research topic
 s in natural language processing\, data analytic\, machine learning\, robo
 tics\, Internet of things\, embedded systems\, signal\, image\, speech pro
 cessing and smart industrial technology.\nWe are pleased to announce that 
 selected papers from The International Conference on Cybernetics and Innov
 ations (ICCI 2025) will be considered for publication in the Journal of En
 ergy Engineering\, Special Issue: AI in Green Energy Technologies and Thei
 r Applications\, which is indexed in Scopus. This special issue focuses on
  innovative applications of artificial intelligence in green energy techno
 logies\, highlighting advanced research and practical solutions that contr
 ibute to sustainable energy systems. Authors whose works demonstrate signi
 ficant contributions and align with the theme of the special issue will be
  invited to submit an extended version of their papers for rigorous peer r
 eview. We encourage all researchers to submit their high-quality papers an
 d seize this opportunity to feature their work in a globally recognized jo
 urnal.\n\nCo-sponsored by: Artificial Intelligence Association of Thailand
  (AIAT)\n\nSpeaker(s): SHRIDHAR\, Siriwan \, Thepchai\n\nBldg: Siam@Siam D
 esign Hotel Pattaya\, Pattaya \, Central\, Thailand\, 20150
LOCATION:Bldg: Siam@Siam Design Hotel Pattaya\, Pattaya \, Central\, Thaila
 nd\, 20150
ORGANIZER:pokpongs@tu.ac.th
SEQUENCE:11
SUMMARY:The International Conference on Cybernetics and Innovations (ICCI 2
 025)
URL;VALUE=URI:https://events.vtools.ieee.org/m/477638
X-ALT-DESC:Description: &lt;br /&gt;&lt;p&gt;&lt;span class=&quot;title&quot;&gt;About Conference&lt;/span
 &gt;&lt;/p&gt;\n&lt;h2&gt;Welcome ICCI 2025&lt;/h2&gt;\n&lt;div class=&quot;text&quot;&gt;The International Con
 ference on Cybernetics and Innovations (ICCI 2025) which is a conference f
 rom April\, 2025. The Conference will cover a board range of research topi
 cs in natural language processing\, data analytic\, machine learning\, rob
 otics\, Internet of things\, embedded systems\, signal\, image\, speech pr
 ocessing and smart industrial technology.&lt;/div&gt;\n&lt;div class=&quot;text&quot;&gt;We are 
 pleased to announce that selected papers from The International Conference
  on Cybernetics and Innovations (ICCI 2025) will be considered for publica
 tion in the Journal of Energy Engineering\, Special Issue: AI in Green Ene
 rgy Technologies and Their Applications\, which is indexed in Scopus. This
  special issue focuses on innovative applications of artificial intelligen
 ce in green energy technologies\, highlighting advanced research and pract
 ical solutions that contribute to sustainable energy systems. Authors whos
 e works demonstrate significant contributions and align with the theme of 
 the special issue will be invited to submit an extended version of their p
 apers for rigorous peer review. We encourage all researchers to submit the
 ir high-quality papers and seize this opportunity to feature their work in
  a globally recognized journal.&lt;/div&gt;
END:VEVENT
END:VCALENDAR

