BEGIN:VCALENDAR
VERSION:2.0
PRODID:IEEE vTools.Events//EN
CALSCALE:GREGORIAN
BEGIN:VTIMEZONE
TZID:America/Chicago
BEGIN:DAYLIGHT
DTSTART:20250309T030000
TZOFFSETFROM:-0600
TZOFFSETTO:-0500
RRULE:FREQ=YEARLY;BYDAY=2SU;BYMONTH=3
TZNAME:CDT
END:DAYLIGHT
BEGIN:STANDARD
DTSTART:20251102T010000
TZOFFSETFROM:-0500
TZOFFSETTO:-0600
RRULE:FREQ=YEARLY;BYDAY=1SU;BYMONTH=11
TZNAME:CST
END:STANDARD
END:VTIMEZONE
BEGIN:VEVENT
DTSTAMP:20251120T233549Z
UID:CC02C093-AC5C-440F-BB07-0C3B04A29546
DTSTART;TZID=America/Chicago:20251021T080000
DTEND;TZID=America/Chicago:20251021T210000
DESCRIPTION:IEEE Nebraska Section turns 100 in 2025. To celebrate\, we are 
 planning an all-day event for Tuesday October 21\, 2025\, to be held at Ki
 ewit Hall at the University of Nebraska - Lincoln. The theme of the event 
 is &quot;100 Years of Making a Difference in Nebraska Section Members&#39; Professi
 onal Lives - Your Future and AI.\n\nThe day will kick off with several sem
 inars followed by a tour of Kiewit Hall and an evening awards and recognit
 ion banquet. There will be three seminars in the morning and three in the 
 afternoon. One (1) PDH credit is available for each of these seminars for 
 a potential total of six along with your ethics requirement. Registration 
 options include the Morning Session\, Afternoon Session\, or the Entire Ev
 ent. Registration for the Entire Event includes both seminar sessions\, lu
 nch\, and the Awards and Recognition Banquet. Lunch is not included when r
 egistering for only the Morning Session or the Afternoon Session and may b
 e purchased separately through the registration process. Please note that 
 the Early Registration rates ended on September 19th.\n\nNOTE: Attendees m
 ust be 21 or older.\n\nSEE AGENDA AT THE BOTTOM OF THIS MESSAGE\n\nWe are 
 currently seeking nominations for the following awards\,\n\nIEEE Nebraska 
 Section Outstanding Member Achievement Award\n\nIEEE Nebraska Section Outs
 tanding Service Award\n\nIEEE Nebraska Section Outstanding Industry Suppor
 t Award\n\nIEEE Nebraska Section Young Professional Achievement Award\n\nV
 isit the [IEEE Nebraska Section](https://r4.ieee.org/ne/nebraska-section-a
 ward-and-recognition-categories/) website to learn more about each of thes
 e awards and how to submit your nomination(s) today!\n\nGo here to find sp
 onsorship opportunities\, [100 YEAR ANNIVERSARY SPONSORSHIP OPPORTUNITIES]
 (https://events.vtools.ieee.org/m/501221)\n\nSee agenda and menu below.\n\
 nPlease note any dietary restrictions when registering. Dietary restrictio
 ns must be noted at registration to be accommodated.\n\nParking: Area “A
 ” Parking\n\nParking is in the Faculty/Staff Parking Lot A located at th
 e corner of 16th &amp; X Streets\, north of Kiewit Hall. Enter parking lot fro
 m 16th\n\nSpeaker(s): Karen Stelling\, Cory Hanson &amp; Joe Witkowski\, Dan O
 liva\, Vaibhav Gujral\, Karla Carter\, Sudhir Gajre\, Mike Andrews\, Al Sh
 puntoff \n\nAgenda: \nAGENDA SUBJECT TO CHANGE - All activities are on the
  2nd floor.\n\n8:00 - 8:45 - Sign in\n\n815 -8:45 - AI tutorial - TBD\n\n8
 :45 - 9:45 - Ethics - Karen Stelling\, One (1) PDH\n\n9:45 - 10:00 - Morni
 ng Break\n\n10:00 - 11:00 AI Applications in the Electric Utility Industry
  - Joe Witkowski\, TEA\; Cory Hanson and Tate Olsen\, NPPD\, One (1) PDH\n
 \n11:00 - 12:00 - Understanding Time Current Curves and Related Topics (Se
 lective Coordination &amp; Arc Flash) - Daniel Oliva\, PE\, One (1) PDH\n\n12 
 noon Lunch - Keynote Address - Mike Andrews - AgeTech: A Universe of Oppor
 tunities Dietary restrictions must be noted when registering to be accommo
 dated.\n\n1:00 - 2:00 - The Engineer&#39;s New Toolbox: How AI is Reshaping Ou
 r Skills\, Tasks\, and Value - Vaibhav Gujral\, One (1) PDH\n\n2:00 - 3:00
  - Chat-GPT AI and Ethics - Karla Carter\, One (1) PDH\n\n3:00 - 3:15 - Af
 ternoon Break with refreshments\n\n3:15 - 4:15 - Unveiling Generative AI: 
 From ChatGPT to Real-World Impact - Adjunct Professor Sudhir Gajre \, One 
 (1) PDH\n\n4:15 - 5:00 - Tour of Kiewit Hall - on your own\n\n5:00 - 6:00 
 - Check in and Mixer before banquet\n\n6:00 – 100 yr Anniversary Celebra
 tion\, Recognition &amp; Award Banquet. A cash bar will be available.\n\nBanqu
 et Agenda:\n\nWelcome and IEEE Nebraska Section History - Al Sphuntoff\n\n
 Meal\n\nKeynote - Mike Andrews\n\nAwards - Rebecca Furtado\n\nRoom: A249 -
  Kiewit Hall\, Bldg: Kiewit Hall (Parking Lot north of Kiewit Hall - See m
 ap above)\, 1700 Vine Street (Event)\, 16th &amp; X Streets (Parking)\, Lincol
 n\, Nebraska\, United States\, 68521
LOCATION:Room: A249 - Kiewit Hall\, Bldg: Kiewit Hall (Parking Lot north of
  Kiewit Hall - See map above)\, 1700 Vine Street (Event)\, 16th &amp; X Street
 s (Parking)\, Lincoln\, Nebraska\, United States\, 68521
ORGANIZER:rlostendorf@yahoo.com
SEQUENCE:1018
SUMMARY:IEEE NEBRASKA TURNS 100!!!
URL;VALUE=URI:https://events.vtools.ieee.org/m/477782
X-ALT-DESC:Description: &lt;br /&gt;&lt;p class=&quot;MsoNormal&quot;&gt;&lt;span style=&quot;font-size: 
 10.0pt\; line-height: 107%\; font-family: &#39;Arial&#39;\,sans-serif\;&quot;&gt;IEEE Nebr
 aska Section turns 100 in 2025.&amp;nbsp\; To celebrate\, we are planning an a
 ll-day event for Tuesday October 21\, 2025\, to be held at Kiewit Hall at 
 the University of Nebraska - Lincoln.&amp;nbsp\; The theme of the event is &quot;10
 0 Years of Making a Difference in Nebraska Section Members&#39; Professional L
 ives - Your Future and AI.&lt;/span&gt;&lt;/p&gt;\n&lt;p class=&quot;MsoNormal&quot;&gt;&lt;span style=&quot;f
 ont-size: 10.0pt\; line-height: 107%\; font-family: &#39;Arial&#39;\,sans-serif\;&quot;
 &gt;The day will kick off with several seminars followed by a tour of Kiewit 
 Hall and an evening awards and recognition banquet.&amp;nbsp\; There will be t
 hree seminars in the morning and three in the afternoon.&amp;nbsp\; One (1) PD
 H credit is available for each of these seminars for a potential total of 
 six along with your ethics requirement.&amp;nbsp\; &amp;nbsp\;Registration options
  include the Morning Session\, Afternoon Session\, or the Entire Event.&amp;nb
 sp\; Registration for the Entire Event includes both seminar sessions\, lu
 nch\, and the Awards and Recognition Banquet.&amp;nbsp\; Lunch is not included
  when registering for only the Morning Session or the Afternoon Session an
 d may be purchased separately through the registration process.&amp;nbsp\; Ple
 ase note that the Early Registration rates ended on September 19th.&amp;nbsp\;
 &lt;/span&gt;&lt;/p&gt;\n&lt;p class=&quot;MsoNormal&quot;&gt;NOTE: Attendees must be 21 or older.&amp;nbs
 p\;&lt;/p&gt;\n&lt;p class=&quot;MsoNormal&quot;&gt;&lt;em&gt;&lt;span style=&quot;font-size: 10.0pt\; line-he
 ight: 107%\; font-family: &#39;Arial&#39;\,sans-serif\;&quot;&gt;SEE AGENDA AT THE BOTTOM 
 OF THIS MESSAGE&lt;/span&gt;&lt;/em&gt;&lt;/p&gt;\n&lt;p class=&quot;MsoNormal&quot;&gt;&lt;span style=&quot;font-si
 ze: 10.0pt\; line-height: 107%\; font-family: &#39;Arial&#39;\,sans-serif\;&quot;&gt;We ar
 e currently seeking nominations for the following awards\,&amp;nbsp\;&lt;/span&gt;&lt;/
 p&gt;\n&lt;p class=&quot;MsoNormal&quot; style=&quot;margin-bottom: 0in\; line-height: normal\;
 &quot;&gt;&lt;strong&gt;IEEE Nebraska Section Outstanding Member Achievement Award&lt;/stro
 ng&gt;&lt;/p&gt;\n&lt;p class=&quot;MsoNormal&quot; style=&quot;margin-bottom: 0in\; line-height: nor
 mal\;&quot;&gt;&lt;strong&gt;IEEE Nebraska Section Outstanding Service Award&lt;/strong&gt;&lt;/p
 &gt;\n&lt;p class=&quot;MsoNormal&quot; style=&quot;margin-bottom: 0in\; line-height: normal\;&quot;
 &gt;&lt;strong&gt;IEEE Nebraska Section Outstanding Industry Support Award&lt;/strong&gt;
 &lt;/p&gt;\n&lt;p class=&quot;MsoNormal&quot; style=&quot;margin-bottom: 0in\; line-height: normal
 \;&quot;&gt;&lt;strong&gt;IEEE Nebraska Section Young Professional Achievement Award&lt;/st
 rong&gt;&lt;/p&gt;\n&lt;p class=&quot;MsoNormal&quot;&gt;&amp;nbsp\;&lt;/p&gt;\n&lt;p class=&quot;MsoNormal&quot;&gt;&lt;span st
 yle=&quot;font-family: Arial\, sans-serif\;&quot;&gt;&lt;span style=&quot;font-size: 13.3333px\
 ;&quot;&gt;Visit the &lt;a href=&quot;https://r4.ieee.org/ne/nebraska-section-award-and-re
 cognition-categories/&quot;&gt;IEEE Nebraska Section&lt;/a&gt; website to learn more abo
 ut each of these awards and how to submit your nomination(s) today!&lt;/span&gt;
 &lt;/span&gt;&lt;/p&gt;\n&lt;p class=&quot;MsoNormal&quot;&gt;&lt;span style=&quot;font-family: Arial\, sans-s
 erif\;&quot;&gt;&lt;span style=&quot;font-size: 13.3333px\;&quot;&gt;Go here to find sponsorship o
 pportunities\, &lt;a href=&quot;https://events.vtools.ieee.org/m/501221&quot;&gt;100 YEAR 
 ANNIVERSARY SPONSORSHIP OPPORTUNITIES&lt;/a&gt;&lt;/span&gt;&lt;/span&gt;&lt;/p&gt;\n&lt;p class=&quot;Mso
 Normal&quot;&gt;See agenda and menu below.&amp;nbsp\;&lt;/p&gt;\n&lt;p class=&quot;MsoNormal&quot;&gt;&lt;span 
 style=&quot;color: rgb(224\, 62\, 45)\;&quot;&gt;Please note any dietary restrictions w
 hen registering.&amp;nbsp\; Dietary restrictions must be noted at registration
  to be accommodated.&amp;nbsp\;&lt;/span&gt;&lt;/p&gt;\n&lt;p class=&quot;MsoNormal&quot;&gt;&amp;nbsp\;&lt;/p&gt;\n
 &lt;p class=&quot;MsoNormal&quot; style=&quot;mso-margin-top-alt: auto\; mso-margin-bottom-a
 lt: auto\;&quot;&gt;&lt;strong&gt;&lt;span style=&quot;font-size: 16.0pt\; color: red\;&quot;&gt;Parking
 : Area &amp;ldquo\;A&amp;rdquo\; Parking&amp;nbsp\;&lt;/span&gt;&lt;/strong&gt;&lt;/p&gt;\n&lt;p class=&quot;Mso
 Normal&quot; style=&quot;mso-margin-top-alt: auto\; mso-margin-bottom-alt: auto\;&quot;&gt;P
 arking is in the Faculty/Staff Parking Lot A located at the corner of 16th
  &amp;amp\; X Streets\, north of Kiewit Hall.&amp;nbsp\; Enter parking lot from 16
 th&lt;/p&gt;\n&lt;p class=&quot;MsoNormal&quot;&gt;&lt;span style=&quot;font-size: 12.0pt\; font-family:
  &#39;Aptos&#39;\,sans-serif\; mso-fareast-font-family: Aptos\; mso-fareast-theme-
 font: minor-latin\; mso-bidi-font-family: Aptos\; mso-ansi-language: EN-US
 \; mso-fareast-language: EN-US\; mso-bidi-language: AR-SA\;&quot;&gt;&amp;nbsp\;&lt;/span
 &gt;&lt;img src=&quot;https://events.vtools.ieee.org/vtools_ui/media/display/327195b0
 -2935-4baf-a090-164f671572d1&quot;&gt;&lt;/p&gt;&lt;br /&gt;&lt;br /&gt;Agenda: &lt;br /&gt;&lt;p&gt;AGENDA SUBJ
 ECT TO CHANGE - All activities are on the 2nd floor.&lt;/p&gt;\n&lt;p class=&quot;MsoNor
 mal&quot; style=&quot;margin-bottom: 0in\; line-height: normal\;&quot;&gt;&lt;span style=&quot;font-
 family: &#39;arial black&#39;\, sans-serif\; font-size: 10pt\;&quot;&gt;&lt;span style=&quot;font-
 family: arial\, helvetica\, sans-serif\;&quot;&gt;8:00 - 8:45 - Sign in&amp;nbsp\;&lt;/sp
 an&gt;&lt;/span&gt;&lt;/p&gt;\n&lt;p class=&quot;MsoNormal&quot; style=&quot;margin-bottom: 0in\; line-heig
 ht: normal\;&quot;&gt;&lt;span style=&quot;font-size: 10pt\; line-height: 107%\; font-fami
 ly: arial\, helvetica\, sans-serif\;&quot;&gt;815 -8:45&lt;span style=&quot;mso-spacerun: 
 yes\;&quot;&gt; - &lt;/span&gt;&lt;strong&gt;AI tutorial &lt;/strong&gt;- TBD&amp;nbsp\;&lt;/span&gt;&lt;/p&gt;\n&lt;p 
 class=&quot;MsoNormal&quot; style=&quot;margin-bottom: 0in\; line-height: normal\;&quot;&gt;&lt;span
  style=&quot;font-size: 10pt\; line-height: 107%\; font-family: arial\, helveti
 ca\, sans-serif\;&quot;&gt;8:45 - 9:45 - &lt;strong&gt;Ethics&lt;/strong&gt; - &lt;span style=&quot;ba
 ckground: rgb(255\, 255\, 255)\;&quot;&gt;Karen Stelling\, One (1) PDH&lt;/span&gt;&lt;/spa
 n&gt;&lt;/p&gt;\n&lt;p class=&quot;MsoNormal&quot; style=&quot;margin-bottom: 0in\; line-height: norm
 al\;&quot;&gt;&lt;span style=&quot;font-size: 10pt\; line-height: 107%\; font-family: aria
 l\, helvetica\, sans-serif\; background-color: rgb(255\, 255\, 255)\;&quot;&gt;&lt;sp
 an style=&quot;background-image: initial\; background-position: initial\; backg
 round-size: initial\; background-repeat: initial\; background-attachment: 
 initial\; background-origin: initial\; background-clip: initial\;&quot;&gt;9:45 - 
 10:00 - &lt;/span&gt;&lt;/span&gt;&lt;span style=&quot;font-family: arial\, helvetica\, sans-s
 erif\; font-size: 13.3333px\;&quot;&gt;Morning Break&lt;/span&gt;&lt;/p&gt;\n&lt;p class=&quot;MsoNorm
 al&quot; style=&quot;margin-bottom: 0in\; line-height: normal\;&quot;&gt;&lt;span style=&quot;font-f
 amily: arial\, helvetica\, sans-serif\; font-size: 10pt\;&quot;&gt;10:00 - 11:00 &lt;
 /span&gt;&lt;strong style=&quot;background-color: rgb(255\, 255\, 255)\; font-family:
  arial\, helvetica\, sans-serif\; font-size: 10pt\;&quot;&gt;AI Applications in th
 e Electric Utility Industry&lt;/strong&gt;&lt;span style=&quot;background-color: rgb(255
 \, 255\, 255)\; font-family: arial\, helvetica\, sans-serif\; font-size: 1
 0pt\;&quot;&gt;&amp;nbsp\;- Joe Witkowski\, TEA\; Cory Hanson and Tate Olsen\, NPPD&lt;/s
 pan&gt;&lt;span style=&quot;font-size: 10pt\; line-height: 107%\; font-family: arial\
 , helvetica\, sans-serif\;&quot;&gt;&lt;span style=&quot;background: rgb(255\, 255\, 255)\
 ;&quot;&gt;\, One (1) PDH&lt;/span&gt;&lt;/span&gt;&lt;/p&gt;\n&lt;p class=&quot;MsoNormal&quot; style=&quot;margin-bo
 ttom: 0in\; line-height: normal\;&quot;&gt;&lt;span style=&quot;font-family: arial\, helve
 tica\, sans-serif\; font-size: 10pt\;&quot;&gt;11:00 - 12:00 - &lt;strong&gt;Understandi
 ng Time Current Curves and Related Topics (Selective Coordination &amp;amp\; A
 rc Flash)&lt;/strong&gt;&lt;span style=&quot;line-height: 107%\;&quot;&gt; - Daniel Oliva\, PE&lt;s
 pan style=&quot;font-size: 10pt\; line-height: 107%\; font-family: arial\, helv
 etica\, sans-serif\;&quot;&gt;&lt;span style=&quot;background: rgb(255\, 255\, 255)\;&quot;&gt;\, 
 One (1) PDH&lt;/span&gt;&lt;/span&gt;&lt;/span&gt;&lt;/span&gt;&lt;/p&gt;\n&lt;p class=&quot;MsoNormal&quot; style=&quot;m
 argin-bottom: 0in\; line-height: normal\;&quot;&gt;&lt;span style=&quot;font-family: arial
 \, helvetica\, sans-serif\; font-size: 10pt\;&quot;&gt;12 noon&amp;nbsp\;&lt;span style=&quot;
 line-height: 107%\;&quot;&gt;Lunch - Keynote Address - Mike Andrews - &lt;strong&gt;&lt;em&gt;
 &lt;span style=&quot;line-height: 115%\;&quot;&gt;AgeTech: A Universe of Opportunities&amp;nbs
 p\; &amp;nbsp\;&lt;/span&gt;&lt;/em&gt;&lt;/strong&gt;&lt;/span&gt;&lt;/span&gt;&lt;span style=&quot;font-family: ar
 ial\, helvetica\, sans-serif\; font-size: 10pt\;&quot;&gt;&lt;span style=&quot;line-height
 : 107%\;&quot;&gt;&lt;span style=&quot;line-height: 115%\; color: rgb(224\, 62\, 45)\;&quot;&gt;Di
 etary restrictions m&lt;/span&gt;&lt;/span&gt;&lt;/span&gt;&lt;span style=&quot;color: rgb(224\, 62\
 , 45)\; font-family: arial\, helvetica\, sans-serif\; font-size: 13.3333px
 \;&quot;&gt;ust be noted &lt;/span&gt;&lt;span style=&quot;color: rgb(224\, 62\, 45)\; font-fami
 ly: arial\, helvetica\, sans-serif\; font-size: 10pt\;&quot;&gt;when registering t
 o be accommodated.&lt;/span&gt;&lt;/p&gt;\n&lt;p class=&quot;MsoNormal&quot; style=&quot;margin-bottom: 
 0in\; line-height: normal\;&quot;&gt;&lt;span style=&quot;font-size: 10pt\; line-height: 1
 07%\; font-family: arial\, helvetica\, sans-serif\;&quot;&gt;1:00 - 2:00 &lt;span sty
 le=&quot;line-height: 115%\;&quot;&gt;-&amp;nbsp\;&lt;/span&gt;&lt;strong&gt;&lt;span style=&quot;line-height: 
 115%\;&quot;&gt;The Engineer&#39;s New Toolbox: How AI is Reshaping Our Skills\, Tasks
 \, and Value&lt;/span&gt;&lt;/strong&gt;&lt;span style=&quot;line-height: 115%\;&quot;&gt;&amp;nbsp\;- &lt;/s
 pan&gt;&lt;span style=&quot;line-height: 115%\;&quot;&gt;Vaibhav Gujral&lt;span style=&quot;font-size
 : 10pt\; line-height: 107%\; font-family: arial\, helvetica\, sans-serif\;
 &quot;&gt;&lt;span style=&quot;background: rgb(255\, 255\, 255)\;&quot;&gt;\, One (1) PDH&lt;/span&gt;&lt;/
 span&gt;&lt;/span&gt;&lt;/span&gt;&lt;/p&gt;\n&lt;p class=&quot;MsoNormal&quot; style=&quot;margin-bottom: 0in\; 
 line-height: normal\;&quot;&gt;&lt;span style=&quot;font-size: 10pt\; line-height: 107%\; 
 font-family: arial\, helvetica\, sans-serif\;&quot;&gt;2:00 - 3:00 - &lt;strong&gt;Chat-
 GPT AI and Ethics&lt;/strong&gt; -&amp;nbsp\;Karla&lt;span style=&quot;mso-spacerun: yes\;&quot;&gt;
  Carter&lt;span style=&quot;background: rgb(255\, 255\, 255)\;&quot;&gt;\, One (1) PDH&lt;/sp
 an&gt;&lt;/span&gt;&lt;/span&gt;&lt;/p&gt;\n&lt;p class=&quot;MsoNormal&quot; style=&quot;margin-bottom: 0in\; li
 ne-height: normal\;&quot;&gt;&lt;span style=&quot;font-family: arial\, helvetica\, sans-se
 rif\; font-size: 10pt\;&quot;&gt;3:00 - 3:15 &lt;span style=&quot;line-height: 115%\;&quot;&gt;- A
 fternoon Break with refreshments&lt;/span&gt;&lt;/span&gt;&lt;/p&gt;\n&lt;p class=&quot;MsoNormal&quot; s
 tyle=&quot;margin-bottom: 0in\; line-height: normal\;&quot;&gt;&lt;span style=&quot;font-family
 : arial\, helvetica\, sans-serif\; font-size: 10pt\;&quot;&gt;&lt;span style=&quot;line-he
 ight: 107%\;&quot;&gt;3:15 - 4:15 - &lt;span style=&quot;color: black\;&quot;&gt;&lt;strong&gt;Unveiling
  Generative AI: From ChatGPT to Real-World Impact &lt;/strong&gt;- &lt;/span&gt;&lt;span 
 style=&quot;line-height: 115%\;&quot;&gt;Adjunct Professor Sudhir Gajre&lt;/span&gt;&lt;/span&gt;&lt;s
 pan style=&quot;line-height: 107%\;&quot;&gt; &lt;span style=&quot;font-size: 10pt\; line-heigh
 t: 107%\; font-family: arial\, helvetica\, sans-serif\;&quot;&gt;&lt;span style=&quot;back
 ground: rgb(255\, 255\, 255)\;&quot;&gt;\, One (1) PDH&lt;/span&gt;&lt;/span&gt;&lt;/span&gt;&lt;/span&gt;
 &lt;/p&gt;\n&lt;p class=&quot;MsoNormal&quot; style=&quot;margin-bottom: 0in\; line-height: normal
 \;&quot;&gt;&lt;span style=&quot;font-family: arial\, helvetica\, sans-serif\; font-size: 
 10pt\;&quot;&gt;4:15 - 5:00 - Tour of Kiewit Hall&lt;span style=&quot;mso-spacerun: yes\;&quot;
 &gt; - on your own&lt;/span&gt;&lt;/span&gt;&lt;/p&gt;\n&lt;p class=&quot;MsoNormal&quot; style=&quot;margin-bott
 om: 0in\; line-height: normal\;&quot;&gt;&lt;span style=&quot;font-family: arial\, helveti
 ca\, sans-serif\; font-size: 10pt\;&quot;&gt;5:00 - 6:00 - Check in and Mixer befo
 re banquet&lt;/span&gt;&lt;/p&gt;\n&lt;p class=&quot;MsoNormal&quot; style=&quot;margin-bottom: 0in\; li
 ne-height: normal\;&quot;&gt;&lt;span style=&quot;font-family: arial\, helvetica\, sans-se
 rif\; font-size: 10pt\;&quot;&gt;6:00 &amp;ndash\; 100 yr Anniversary Celebration\, Re
 cognition &amp;amp\; Award Banquet.&amp;nbsp\; A cash bar will be available.&lt;/span
 &gt;&lt;/p&gt;\n&lt;p class=&quot;MsoNormal&quot; style=&quot;margin-bottom: 0in\; line-height: norma
 l\;&quot;&gt;&lt;span style=&quot;font-family: arial\, helvetica\, sans-serif\; font-size:
  10pt\;&quot;&gt;Banquet Agenda:&lt;/span&gt;&lt;/p&gt;\n&lt;p class=&quot;MsoNormal&quot; style=&quot;margin-bo
 ttom: 0in\; line-height: normal\;&quot;&gt;&lt;span style=&quot;font-family: arial\, helve
 tica\, sans-serif\; font-size: 10pt\;&quot;&gt;Welcome and &lt;/span&gt;&lt;span style=&quot;fon
 t-family: arial\, helvetica\, sans-serif\; font-size: 10pt\;&quot;&gt;IEEE Nebrask
 a Section History - Al Sphuntoff&lt;/span&gt;&lt;/p&gt;\n&lt;p class=&quot;MsoNormal&quot; style=&quot;m
 argin-bottom: 0in\; line-height: normal\;&quot;&gt;&lt;span style=&quot;font-family: arial
 \, helvetica\, sans-serif\; font-size: 10pt\;&quot;&gt;Meal&lt;/span&gt;&lt;/p&gt;\n&lt;p class=&quot;
 MsoNormal&quot; style=&quot;margin-bottom: 0in\; line-height: normal\;&quot;&gt;&lt;span style=
 &quot;font-family: arial\, helvetica\, sans-serif\; font-size: 10pt\;&quot;&gt;&amp;nbsp\;K
 eynote - Mike Andrews&amp;nbsp\;&lt;/span&gt;&lt;/p&gt;\n&lt;p class=&quot;MsoNormal&quot; style=&quot;margi
 n-bottom: 0in\; line-height: normal\;&quot;&gt;&lt;span style=&quot;font-family: arial\, h
 elvetica\, sans-serif\; font-size: 10pt\;&quot;&gt;Awards - Rebecca Furtado&lt;/span&gt;
 &lt;/p&gt;\n&lt;p class=&quot;MsoNormal&quot; style=&quot;margin-bottom: 0in\; line-height: normal
 \;&quot;&gt;&amp;nbsp\;&lt;/p&gt;\n&lt;p class=&quot;MsoNormal&quot; style=&quot;margin-bottom: 0in\; line-hei
 ght: normal\;&quot;&gt;&lt;strong&gt;&lt;img src=&quot;https://events.vtools.ieee.org/vtools_ui/
 media/display/833a4ffd-8844-4441-9e47-c4bcd5abe557&quot; width=&quot;497&quot; height=&quot;52
 4&quot;&gt;&lt;/strong&gt;&lt;/p&gt;
END:VEVENT
END:VCALENDAR

