BEGIN:VCALENDAR
VERSION:2.0
PRODID:IEEE vTools.Events//EN
CALSCALE:GREGORIAN
BEGIN:VTIMEZONE
TZID:America/New_York
BEGIN:DAYLIGHT
DTSTART:20250309T030000
TZOFFSETFROM:-0500
TZOFFSETTO:-0400
RRULE:FREQ=YEARLY;BYDAY=2SU;BYMONTH=3
TZNAME:EDT
END:DAYLIGHT
BEGIN:STANDARD
DTSTART:20251102T010000
TZOFFSETFROM:-0400
TZOFFSETTO:-0500
RRULE:FREQ=YEARLY;BYDAY=1SU;BYMONTH=11
TZNAME:EST
END:STANDARD
END:VTIMEZONE
BEGIN:VEVENT
DTSTAMP:20250427T212949Z
UID:EA7EB50E-1E3B-4969-B56E-8A6FC95909ED
DTSTART;TZID=America/New_York:20250424T173000
DTEND;TZID=America/New_York:20250424T203000
DESCRIPTION:UC\, MU\, and NKU Senior Design/Capstone Projects\n\nUniversity
  of Cincinnati\n\nTeam 1:\n\nProject Title: Analog Synthesizer with MIDI C
 ontrol and Digital Effects\n\nAbstract: A custom monophonic\, modular\, Eu
 ro-rack mountable analog synthesizer consisting of two Voltage Controlled 
 Oscillators\, a Voltage Controlled Filter\, and a Mixer was combined with 
 a Euro-rack mountable Digital Effects Bank powered by an Electrosmith Dais
 y Seed to create awesome sounds for recording and live performances.\nTeam
  members: Dan String\, Jordan Smith\, Justin Wade\nAdvisor: Dr. Wei Wei\n\
 nTeam 2:\n\nProject Title: Stomata\, Green Toolkit\n\nAbstract: The Stomat
 a project introduces a fresh\, innovative approach to tackling urban clima
 te change by pairing sustainable ecosystem design with a modular\, cost-ef
 fective environmental monitoring device. Our team\, focusing on the comput
 er and electrical engineering side\, is responsible for building and progr
 amming this device to support nature-based climate solutions. Urban areas 
 face serious climate-related challenges—poor air quality\, rising temper
 atures from the heat island effect\, and a loss of biodiversity. There’s
  a clear need for solutions that not only monitor environmental conditions
  but also support ecological restoration in a scalable\, affordable way. U
 nfortunately\, most current technologies fall short in integration\, usabi
 lity\, or cost. That’s where Stomata comes in. Our device measures key e
 nvironmental factors like air quality\, soil moisture\, pH\, and electrica
 l conductivity\, with real-time data visualized through a mobile app. It
 ’s designed to be easy to replicate\, making it a strong candidate for d
 eployment in other urban areas or academic settings. Ultimately\, this pro
 ject lays the groundwork for smarter\, more accessible environmental monit
 oring and offers a practical solution that we’re piloting right here at 
 the University of Cincinnati.\nTeam members: Khadija Coulibaly\, Perry Joh
 nson\, Hamza Khairy\nAdvisors: Dr. Drew McAvoy\n\nMiami University\n\nTeam
  1:\nProject Title: 3D Printed Vertical Takeoff and Landing Aircraft\n\nAb
 stract: Our team&#39;s goal is to create a fully functional fixed-wing airplan
 e capable of vertical takeoff and landing (VTOL)\, both manually and auton
 omously\, with integrated payload carry and release capabilities. Unlike p
 ast teams\, our team 3D printed and assembled parts to construct the airfr
 ame\, which is reinforced with carbon fiber rods.\nTeam members: Aiden Hal
 ey\, Andrew LaMendola\, Ashtin Reip\, John Tomtishen\nAdvisor: Prof. Jim L
 eonard\n\nTeam 2:\nProject Title: Duplo Mindstorm\nAbstract: The Duplo Min
 dstorm project explores the design and development of a servo and sensor s
 ystem for a Duplo-based robot. The project required a combination of 3D pr
 inting\, modeling\, and hardware integration to ensure compatibility and f
 unctionality with Duplo. Components are housed in custom 3D-printed Duplo 
 blocks\, allowing for versatile robot designs\, similar to Mindstorms from
  Lego.\n\nTeam members: Dana Clark\, Cody Radabaugh\, Sam Stage\, Tommy Tr
 inh\nAdvisor: Dr. Peter Jamieson\n\nNorthern Kentucky University\n\nTeam 1
 :\nProject Title: All-Terrain Autonomous Guided Vehicle\n\nAbstract: The d
 emand for ongoing innovation has increased over recent years due to the po
 sitive impact spread across a multitude of industries. While the versatili
 ty and application varies upon industry and industry needs\, one challenge
  is known across all industries\; that is\, being able to create a durable
  robot while being affordable. This project aims to design an innovative a
 ll-terrain autonomous guided vehicle\, or rather all-terrain AGV with the 
 ability to navigate both an indoor and outdoor environment in addition to 
 being cost effective. The project encompasses crucial designs such as addi
 ng four tracks and a suspension for the outdoor environment\, adding a cam
 era to track objects and overall placement of the robot’s location\, and
  using a RPLIDAR sensor to map out the given surroundings. Alongside this\
 , we’ll be using a NVIDIA Jetson Nano using Python to control the robot 
 in addition to a remote to ensure that the robot can move by manual operat
 ion alongside being autonomous. Ensuring the robot is affordable\, durable
 \, and flexible given the environment it’s surrounded by is crucial for 
 the robot\, and the project aims to offer a sustainable solution for any i
 ndustry while being able to perform tasks alongside being able to carry li
 ght objects within any environment.\nTeam members: Conner Degarmoe\, Trevo
 r Harms\, Chase Gordon\nAdvisor: Dr. Mahdi Yazdanpour\n\nTeam 2:\nProject 
 Title: Will be announced soon!\n\nRoom: Brewhouse\, March First Brewing &amp; 
 Distilling\, 7885 E Kemper Rd\, Cincinnati\, Ohio\, United States\, 45249
LOCATION:Room: Brewhouse\, March First Brewing &amp; Distilling\, 7885 E Kemper
  Rd\, Cincinnati\, Ohio\, United States\, 45249
ORGANIZER:davehernandezpe@gmail.com
SEQUENCE:9
SUMMARY:IEEE Cincinnati April 2025 Meeting
URL;VALUE=URI:https://events.vtools.ieee.org/m/477798
X-ALT-DESC:Description: &lt;br /&gt;&lt;p style=&quot;line-height: 1.4\;&quot;&gt;&lt;span style=&quot;co
 lor: rgb(0\, 0\, 0)\; background-color: rgb(241\, 196\, 15)\;&quot;&gt;&lt;strong&gt;UC\
 , MU\, and NKU Senior Design/Capstone Projects&lt;/strong&gt;&lt;/span&gt;&lt;/p&gt;\n&lt;p sty
 le=&quot;line-height: 1.4\;&quot;&gt;&lt;strong&gt;&lt;u&gt;University of Cincinnati&lt;/u&gt;&lt;/strong&gt;&lt;/
 p&gt;\n&lt;p style=&quot;line-height: 1.4\;&quot;&gt;Team 1:&lt;/p&gt;\n&lt;p style=&quot;line-height: 1.4\
 ;&quot;&gt;Project Title:&amp;nbsp\;&lt;strong&gt;Analog Synthesizer with MIDI Control and D
 igital Effects&lt;/strong&gt;&lt;/p&gt;\n&lt;p style=&quot;line-height: 1.4\;&quot;&gt;Abstract: A cus
 tom monophonic\, modular\, Euro-rack mountable analog synthesizer consisti
 ng of two Voltage Controlled Oscillators\, a Voltage Controlled Filter\, a
 nd a Mixer was combined with a Euro-rack mountable Digital Effects Bank po
 wered by an Electrosmith Daisy Seed to create awesome sounds for recording
  and live performances.&lt;/p&gt;\n&lt;div style=&quot;line-height: 1.4\;&quot;&gt;Team members:
  Dan String\, Jordan Smith\, Justin Wade&lt;/div&gt;\n&lt;div style=&quot;line-height: 1
 .4\;&quot;&gt;Advisor: Dr. Wei Wei&lt;/div&gt;\n&lt;div style=&quot;line-height: 1.4\;&quot;&gt;&amp;nbsp\;&lt;
 /div&gt;\n&lt;div style=&quot;line-height: 1.4\;&quot;&gt;Team 2:&lt;/div&gt;\n&lt;div style=&quot;line-hei
 ght: 1.4\;&quot;&gt;&amp;nbsp\;&lt;/div&gt;\n&lt;p style=&quot;line-height: 1.4\;&quot;&gt;Project Title:&lt;st
 rong&gt;&amp;nbsp\;Stomata\, Green Toolkit&lt;/strong&gt;&lt;/p&gt;\n&lt;p style=&quot;line-height: 1
 .4\;&quot;&gt;Abstract: The Stomata project introduces a fresh\, innovative approa
 ch to tackling urban climate change by pairing sustainable ecosystem desig
 n with a modular\, cost-effective environmental monitoring device. Our tea
 m\, focusing on the computer and electrical engineering side\, is responsi
 ble for building and programming this device to support nature-based clima
 te solutions. Urban areas face serious climate-related challenges&amp;mdash\;p
 oor air quality\, rising temperatures from the heat island effect\, and a 
 loss of biodiversity. There&amp;rsquo\;s a clear need for solutions that not o
 nly monitor environmental conditions but also support ecological restorati
 on in a scalable\, affordable way. Unfortunately\, most current technologi
 es fall short in integration\, usability\, or cost. That&amp;rsquo\;s where St
 omata comes in. Our device measures key environmental factors like air qua
 lity\, soil moisture\, pH\, and electrical conductivity\, with real-time d
 ata visualized through a mobile app. It&amp;rsquo\;s designed to be easy to re
 plicate\, making it a strong candidate for deployment in other urban areas
  or academic settings. Ultimately\, this project lays the groundwork for s
 marter\, more accessible environmental monitoring and offers a practical s
 olution that we&amp;rsquo\;re piloting right here at the University of Cincinn
 ati.&lt;/p&gt;\n&lt;div style=&quot;line-height: 1.4\;&quot;&gt;Team members: Khadija Coulibaly\
 , Perry Johnson\, Hamza Khairy&lt;/div&gt;\n&lt;div style=&quot;line-height: 1.4\;&quot;&gt;Advi
 sors: Dr. Drew McAvoy&lt;/div&gt;\n&lt;div style=&quot;line-height: 1.4\;&quot;&gt;&amp;nbsp\;&lt;/div&gt;
 \n&lt;div style=&quot;line-height: 1.4\;&quot;&gt;&lt;strong&gt;&lt;u&gt;Miami University&lt;/u&gt;&lt;/strong&gt;
 &lt;/div&gt;\n&lt;div style=&quot;line-height: 1.4\;&quot;&gt;&amp;nbsp\;&lt;/div&gt;\n&lt;p style=&quot;line-heig
 ht: 1.4\;&quot;&gt;Team 1:&lt;/p&gt;\n&lt;div style=&quot;line-height: 1.4\;&quot;&gt;Project Title:&amp;nbs
 p\;&amp;nbsp\;&lt;strong&gt;3D Printed Vertical Takeoff and Landing Aircraft&lt;/strong
 &gt;&lt;/div&gt;\n&lt;p style=&quot;line-height: 1.4\;&quot;&gt;Abstract: Our team&#39;s goal is to cre
 ate a fully functional fixed-wing airplane capable of vertical takeoff and
  landing (VTOL)\, both manually and autonomously\, with integrated payload
  carry and release capabilities. Unlike past teams\, our team 3D printed a
 nd assembled parts to construct the airframe\, which is reinforced with ca
 rbon fiber rods.&lt;/p&gt;\n&lt;div style=&quot;line-height: 1.4\;&quot;&gt;Team members: Aiden 
 Haley\, Andrew LaMendola\, Ashtin Reip\, John Tomtishen&lt;/div&gt;\n&lt;div style=
 &quot;line-height: 1.4\;&quot;&gt;Advisor: Prof. Jim Leonard&lt;/div&gt;\n&lt;p style=&quot;line-heig
 ht: 1.4\;&quot;&gt;Team 2:&amp;nbsp\;&lt;/p&gt;\n&lt;div style=&quot;line-height: 1.4\;&quot;&gt;Project Tit
 le:&amp;nbsp\;&lt;strong&gt;Duplo Mindstorm&lt;/strong&gt;&lt;/div&gt;\n&lt;div style=&quot;line-height:
  1.4\;&quot;&gt;Abstract: The Duplo Mindstorm project explores the design and deve
 lopment of a servo and sensor system for a Duplo-based robot. The project 
 required a combination of 3D printing\, modeling\, and hardware integratio
 n to ensure compatibility and functionality with Duplo.&amp;nbsp\; Components 
 are housed in custom 3D-printed Duplo blocks\, allowing for versatile robo
 t designs\, similar to Mindstorms from Lego.&lt;/div&gt;\n&lt;div style=&quot;line-heigh
 t: 1.4\;&quot;&gt;&amp;nbsp\;&lt;/div&gt;\n&lt;div style=&quot;line-height: 1.4\;&quot;&gt;Team members: Dan
 a Clark\, Cody Radabaugh\, Sam Stage\, Tommy Trinh&lt;/div&gt;\n&lt;div style=&quot;line
 -height: 1.4\;&quot;&gt;Advisor: Dr. Peter Jamieson&lt;/div&gt;\n&lt;div style=&quot;line-height
 : 1.4\;&quot;&gt;&amp;nbsp\;&lt;/div&gt;\n&lt;div style=&quot;line-height: 1.4\;&quot;&gt;&lt;strong&gt;&lt;u&gt;Norther
 n Kentucky University&amp;nbsp\;&lt;/u&gt;&lt;/strong&gt;&lt;/div&gt;\n&lt;p style=&quot;line-height: 1.
 4\;&quot;&gt;Team 1:&lt;/p&gt;\n&lt;div style=&quot;line-height: 1.4\;&quot;&gt;Project Title:&amp;nbsp\; &lt;s
 trong&gt;All-Terrain Autonomous Guided Vehicle&lt;/strong&gt;&lt;/div&gt;\n&lt;p style=&quot;line
 -height: 1.4\;&quot;&gt;Abstract: The demand for ongoing innovation has increased 
 over recent years due to the positive impact spread across a multitude of 
 industries. While the versatility and application varies upon industry and
  industry needs\, one challenge is known across all industries\; that is\,
  being able to create a durable robot while being affordable. This project
  aims to design an innovative all-terrain autonomous guided vehicle\, or r
 ather all-terrain AGV with the ability to navigate both an indoor and outd
 oor environment in addition to being cost effective. The project encompass
 es crucial designs such as adding four tracks and a suspension for the out
 door environment\, adding a camera to track objects and overall placement 
 of the robot&amp;rsquo\;s location\, and using a RPLIDAR sensor to map out the
  given surroundings. Alongside this\, we&amp;rsquo\;ll be using a NVIDIA Jetso
 n Nano using Python to control the robot in addition to a remote to ensure
  that the robot can move by manual operation alongside being autonomous. E
 nsuring the robot is affordable\, durable\, and flexible given the environ
 ment it&amp;rsquo\;s surrounded by is crucial for the robot\, and the project 
 aims to offer a sustainable solution for any industry while being able to 
 perform tasks alongside being able to carry light objects within any envir
 onment.&lt;/p&gt;\n&lt;div style=&quot;line-height: 1.4\;&quot;&gt;Team members:&amp;nbsp\; Conner D
 egarmoe\, Trevor Harms\, Chase Gordon&lt;/div&gt;\n&lt;div style=&quot;line-height: 1.4\
 ;&quot;&gt;Advisor: Dr. Mahdi Yazdanpour&lt;/div&gt;\n&lt;p style=&quot;line-height: 1.4\;&quot;&gt;Team
  2:&amp;nbsp\;&lt;/p&gt;\n&lt;div style=&quot;line-height: 1.4\;&quot;&gt;Project Title:&amp;nbsp\;&lt;stro
 ng&gt;Will be announced soon!&lt;/strong&gt;&lt;/div&gt;
END:VEVENT
END:VCALENDAR

