BEGIN:VCALENDAR
VERSION:2.0
PRODID:IEEE vTools.Events//EN
CALSCALE:GREGORIAN
BEGIN:VTIMEZONE
TZID:US/Michigan
BEGIN:DAYLIGHT
DTSTART:20180311T030000
TZOFFSETFROM:-0500
TZOFFSETTO:-0400
RRULE:FREQ=YEARLY;BYDAY=2SU;BYMONTH=3
TZNAME:EDT
END:DAYLIGHT
BEGIN:STANDARD
DTSTART:20171105T010000
TZOFFSETFROM:-0400
TZOFFSETTO:-0500
RRULE:FREQ=YEARLY;BYDAY=1SU;BYMONTH=11
TZNAME:EST
END:STANDARD
END:VTIMEZONE
BEGIN:VEVENT
DTSTAMP:20180503T000000Z
UID:7738F17A-B32E-11E7-A02F-0050568D7F66
DTSTART;TZID=US/Michigan:20180118T173000
DTEND;TZID=US/Michigan:20180118T193000
DESCRIPTION:Southeastern Michigan IEEE EMC Chapter technical meeting.\n\nFo
 od &amp; Beverage Sponsor: ZF\n\n[][]\n\nSpeaker(s): Michael Kirkhart\, \n\nBl
 dg: Al Ameer Restaurant\, 2100 N. Haggerty Rd\, Canton\, Michigan\, United
  States\, 48187
LOCATION:Bldg: Al Ameer Restaurant\, 2100 N. Haggerty Rd\, Canton\, Michiga
 n\, United States\, 48187
ORGANIZER:scott@emcsociety.org
SEQUENCE:7
SUMMARY:Hacking a $10 ISM Band Radio into a Viable Satellite Transceiver: $
 50SAT and the RFM22B
URL;VALUE=URI:https://events.vtools.ieee.org/m/47780
X-ALT-DESC:Description: &lt;br /&gt;&lt;p&gt;Southeastern Michigan IEEE EMC Chapter tec
 hnical meeting.&lt;/p&gt;\n&lt;p&gt;&lt;span style=&quot;font-size: 24pt\; color: #0000ff\;&quot;&gt;F
 ood &amp;amp\; Beverage Sponsor:&amp;nbsp\; ZF&amp;nbsp\;&lt;/span&gt;&lt;/p&gt;\n&lt;p&gt;&lt;span style=&quot;
 font-size: 24pt\; color: #0000ff\;&quot;&gt;&lt;img src=&quot;http://www.emcsociety.org/wp
 /wp-content/uploads/2018/01/ZF-claim-logo-rechts-STD-Blue-RGB.jpg&quot; width=&quot;
 505&quot; height=&quot;183&quot; /&gt;&lt;/span&gt;&lt;/p&gt;\n&lt;p&gt;&amp;nbsp\;&lt;/p&gt;\n&lt;p&gt;&amp;nbsp\;&lt;/p&gt;\n&lt;p&gt;&lt;img s
 rc=&quot;http://www.emcsociety.org/big_iee.jpg&quot; alt=&quot;&quot; /&gt;&lt;img src=&quot;http://www.e
 mcsociety.org/emcsociety.jpg&quot; alt=&quot;&quot; /&gt;&lt;/p&gt;
END:VEVENT
END:VCALENDAR

