BEGIN:VCALENDAR
VERSION:2.0
PRODID:IEEE vTools.Events//EN
CALSCALE:GREGORIAN
BEGIN:VTIMEZONE
TZID:America/Los_Angeles
BEGIN:DAYLIGHT
DTSTART:20250309T030000
TZOFFSETFROM:-0800
TZOFFSETTO:-0700
RRULE:FREQ=YEARLY;BYDAY=2SU;BYMONTH=3
TZNAME:PDT
END:DAYLIGHT
BEGIN:STANDARD
DTSTART:20251102T010000
TZOFFSETFROM:-0700
TZOFFSETTO:-0800
RRULE:FREQ=YEARLY;BYDAY=1SU;BYMONTH=11
TZNAME:PST
END:STANDARD
END:VTIMEZONE
BEGIN:VEVENT
DTSTAMP:20250603T232425Z
UID:C248FCE8-C9E1-452C-9DEB-8B9A34924DAE
DTSTART;TZID=America/Los_Angeles:20250430T185000
DTEND;TZID=America/Los_Angeles:20250430T200000
DESCRIPTION:This presentation explores the frontier of microelectromechanic
 al systems for controlling magnetic fields at small scales\, merging advan
 ces in physics and engineering with transformative applications. In the ta
 lk\, I will cover work over the past decade detailing the development of 3
 D miniature electromagnets that were used to steer relativistic electron b
 eams\, with the aim of miniaturizing free electron lasers. I will also dis
 cuss the use of strain controlled magnetism—often referred to as multife
 rroics—as an approach for the capture and release of cells\, opening up 
 new pathways to capture and culture cells in biomedical technology. Finall
 y\, I will describe our activities that utilize nonlinearities inherent in
  multiferroic systems for applications in wireless communication. Together
 \, these topics illustrate a comprehensive approach to manipulating magnet
 ic fields at small scales\, spanning applications from cell capture to the
  steering of electrons near the speed of light.\n\nSpeaker(s): Rob Candler
 \n\nAgenda: \n6:50 - 7 PM: Registration\n\n7-8 PM: Talk and Q&amp;A\n\nVirtual
 : https://events.vtools.ieee.org/m/478125
LOCATION:Virtual: https://events.vtools.ieee.org/m/478125
ORGANIZER:bherrera@qti.qualcomm.com
SEQUENCE:20
SUMMARY:Control of magnetic fields at small scales – from cell capture to
  steering electrons near the speed of light
URL;VALUE=URI:https://events.vtools.ieee.org/m/478125
X-ALT-DESC:Description: &lt;br /&gt;&lt;p style=&quot;text-align: center\;&quot;&gt;This presenta
 tion explores the frontier of microelectromechanical systems for controlli
 ng&amp;nbsp\;magnetic fields at small scales\, merging advances in physics and
  engineering with transformative applications. In the talk\, I will cover 
 work over the past decade detailing the development of 3D miniature electr
 omagnets that were used to steer relativistic electron&amp;nbsp\;beams\, with 
 the aim of miniaturizing free electron lasers. &amp;nbsp\;I will also discuss 
 the use of strain controlled magnetism&amp;mdash\;often referred to as multife
 rroics&amp;mdash\;as an approach for the capture and release of cells\, openin
 g up new pathways to capture and culture cells in biomedical technology. F
 inally\, I will describe our activities that utilize nonlinearities inhere
 nt in multiferroic systems for applications in wireless communication. Tog
 ether\, these topics illustrate a comprehensive approach to manipulating m
 agnetic fields at small scales\, spanning applications from cell capture t
 o the steering of electrons near the speed of light.&lt;/p&gt;&lt;br /&gt;&lt;br /&gt;Agenda
 : &lt;br /&gt;&lt;p&gt;6:50 - 7 PM: Registration&lt;/p&gt;\n&lt;p&gt;7-8 PM: Talk and Q&amp;amp\;A&lt;/p&gt;
END:VEVENT
END:VCALENDAR

