BEGIN:VCALENDAR
VERSION:2.0
PRODID:IEEE vTools.Events//EN
CALSCALE:GREGORIAN
BEGIN:VTIMEZONE
TZID:Asia/Tokyo
BEGIN:STANDARD
DTSTART:19510909T000000
TZOFFSETFROM:+1000
TZOFFSETTO:+0900
TZNAME:JST
END:STANDARD
END:VTIMEZONE
BEGIN:VEVENT
DTSTAMP:20250525T074748Z
UID:C4E04ECA-6345-4AF2-B438-D27415D640DB
DTSTART;TZID=Asia/Tokyo:20250524T140000
DTEND;TZID=Asia/Tokyo:20250524T203000
DESCRIPTION:■概要\n\n開催日時：2025年5月24日(土) 14:30～17:45
 \n\n開催場所：国立大学法人 室蘭工業大学　教育・研究
 9号館　R205（対面のみ開催）\n〒050-8585　北海道室蘭市
 水元町27-1\nhttps://muroran-it.ac.jp/guidance/about/access/\n\n主催
 ：IEEE Sapporo Section Young Professionals Affinity Group\, IEEE Tokyo Se
 ction Young Professionals Affinity Group\n\n共催：IEEE Japan Council\, 
 室蘭工業大学コンピュータ科学センター\n\n■スケジュ
 ール\n\n受付開始: 14:00\n\n開会のあいさつ: 14:30 - 14:35\n\nI
 EEE Sapporo YP Chair 徐 建文 (室蘭工業大学)\n\nSapporoセッシ
 ョン: 14:35 - 16:35\n\nFastAPIを用いたWeb API作成\n講師：筒井
  弘 (北海道大学)\n内容：PythonのWebフレームワークの1つ
 であるFastAPIを用いて簡単なWeb APIを作成する\n費用：な
 し(インターネット環境が必要，各自NotePC持参)\n\n休憩: 
 16:35 - 16:50\n\nTokyoセッション: 16:50 - 17:40\n\nAnsibleを用い
 たインフラ構築入門\n講師：IEEE Tokyo YP Chair 小野寺 俊 (
 富士通)\n内容：IaC(Infrastructure as Code)のツールの1つであ
 るAnsibleを用いてLinux環境をカスタマイズ\n費用：なし(
 インターネット環境が必要，各自NotePC(※1)持参)\n　　
 　※1. WSLなどのLinux環境を事前に準備しておいてくださ
 い。\n\n閉会のあいさつ: 17:40 - 17:45\n\nIEEE Japan Council YP Co
 ordinator 森田 賢太 (鈴鹿医療科学大学)\n\n移動: 17:45 - 18:3
 0\n\nネットワーキングセッション (YP meet): 18:30 - 20:30\n\nS
 peaker(s): Prof. Hiroshi Tsutsui\, Mr. Masaru Onodera\n\nRoom: R205\, Bldg
 : Education &amp; Research Building No. 9\, 27-1 Mizumoto-cho\, Muroran\, Hokk
 aido\, Japan
LOCATION:Room: R205\, Bldg: Education &amp; Research Building No. 9\, 27-1 Mizu
 moto-cho\, Muroran\, Hokkaido\, Japan
ORGANIZER:jwxu@muroran-it.ac.jp
SEQUENCE:24
SUMMARY:IEEE Japan YP Study Lab 2025 in Muroran
URL;VALUE=URI:https://events.vtools.ieee.org/m/478206
X-ALT-DESC:Description: &lt;br /&gt;&lt;p class=&quot;MsoNormal&quot;&gt;&lt;!-- wp:paragraph --&gt;&lt;/p
 &gt;\n&lt;p&gt;■概要&lt;/p&gt;\n&lt;p class=&quot;MsoNormal&quot;&gt;&lt;!-- /wp:paragraph --&gt; &lt;!-- wp:p
 aragraph --&gt;&lt;/p&gt;\n&lt;p&gt;開催日時：2025年5月24日(土) 14:30～17:45&lt;/p
 &gt;\n&lt;p class=&quot;MsoNormal&quot;&gt;&lt;!-- /wp:paragraph --&gt; &lt;!-- wp:paragraph --&gt;&lt;/p&gt;\n
 &lt;p&gt;開催場所：国立大学法人 室蘭工業大学　教育・研究9
 号館　R205（対面のみ開催）&lt;br&gt;〒050-8585　北海道室蘭市
 水元町27-1&lt;br&gt;&lt;a href=&quot;https://muroran-it.ac.jp/guidance/about/access/&quot;
 &gt;https://muroran-it.ac.jp/guidance/about/access/&lt;/a&gt;&lt;/p&gt;\n&lt;p class=&quot;MsoNor
 mal&quot;&gt;&lt;!-- /wp:paragraph --&gt; &lt;!-- wp:paragraph --&gt;&lt;/p&gt;\n&lt;p&gt;主催：IEEE Sa
 pporo Section Young Professionals Affinity Group\, IEEE Tokyo Section Youn
 g Professionals Affinity Group&lt;/p&gt;\n&lt;p class=&quot;MsoNormal&quot;&gt;&lt;!-- /wp:paragrap
 h --&gt; &lt;!-- wp:paragraph --&gt;&lt;/p&gt;\n&lt;p&gt;共催：IEEE Japan Council\, 室蘭
 工業大学コンピュータ科学センター&lt;/p&gt;\n&lt;p class=&quot;MsoNormal&quot;
 &gt;&lt;!-- /wp:paragraph --&gt; &lt;!-- wp:paragraph --&gt;&lt;/p&gt;\n&lt;p&gt;■スケジュー
 ル&lt;/p&gt;\n&lt;p class=&quot;MsoNormal&quot;&gt;&lt;!-- /wp:paragraph --&gt; &lt;!-- wp:paragraph --&gt;
 &lt;/p&gt;\n&lt;p&gt;受付開始: 14:00&lt;/p&gt;\n&lt;p class=&quot;MsoNormal&quot;&gt;&lt;!-- /wp:paragraph 
 --&gt; &lt;!-- wp:paragraph --&gt;&lt;/p&gt;\n&lt;p&gt;開会のあいさつ: 14:30 - 14:35&lt;/p&gt;
 \n&lt;p class=&quot;MsoNormal&quot;&gt;&lt;!-- /wp:paragraph --&gt; &lt;!-- wp:paragraph --&gt;&lt;/p&gt;\n&lt;
 p&gt;IEEE Sapporo YP Chair 徐 建文 (室蘭工業大学)&lt;/p&gt;\n&lt;p class=&quot;Mso
 Normal&quot;&gt;&lt;!-- /wp:paragraph --&gt; &lt;!-- wp:paragraph --&gt;&lt;/p&gt;\n&lt;p&gt;Sapporoセッ
 ション: 14:35 - 16:35&lt;/p&gt;\n&lt;p class=&quot;MsoNormal&quot;&gt;&lt;!-- /wp:paragraph --&gt; 
 &lt;!-- wp:paragraph --&gt;&lt;/p&gt;\n&lt;p&gt;FastAPIを用いたWeb API作成&lt;br&gt;講師
 ：筒井 弘 (北海道大学)&lt;br&gt;内容：PythonのWebフレームワー
 クの1つであるFastAPIを用いて簡単なWeb APIを作成する&lt;br&gt;
 費用：なし(インターネット環境が必要，各自NotePC持参)
 &lt;/p&gt;\n&lt;p class=&quot;MsoNormal&quot;&gt;&lt;!-- /wp:paragraph --&gt; &lt;!-- wp:paragraph --&gt;&lt;/p
 &gt;\n&lt;p&gt;休憩: 16:35 - 16:50&lt;/p&gt;\n&lt;p class=&quot;MsoNormal&quot;&gt;&lt;!-- /wp:paragraph -
 -&gt; &lt;!-- wp:paragraph --&gt;&lt;/p&gt;\n&lt;p&gt;Tokyoセッション: 16:50 - 17:40&lt;/p&gt;\n
 &lt;p class=&quot;MsoNormal&quot;&gt;&lt;!-- /wp:paragraph --&gt; &lt;!-- wp:paragraph --&gt;&lt;/p&gt;\n&lt;p&gt;
 Ansibleを用いたインフラ構築入門&lt;br&gt;講師：IEEE Tokyo YP Chai
 r 小野寺 俊 (富士通)&lt;br&gt;内容：IaC(Infrastructure as Code)のツ
 ールの1つであるAnsibleを用いてLinux環境をカスタマイズ&lt;
 br&gt;費用：なし(インターネット環境が必要，各自NotePC(※
 1)持参)&lt;br&gt;　　　※1. WSLなどのLinux環境を事前に準備し
 ておいてください。&lt;/p&gt;\n&lt;p class=&quot;MsoNormal&quot;&gt;&lt;!-- /wp:paragraph -
 -&gt; &lt;!-- wp:paragraph --&gt;&lt;/p&gt;\n&lt;p&gt;閉会のあいさつ: 17:40 - 17:45&lt;/p&gt;\
 n&lt;p class=&quot;MsoNormal&quot;&gt;&lt;!-- /wp:paragraph --&gt; &lt;!-- wp:paragraph --&gt;&lt;/p&gt;\n&lt;p
 &gt;IEEE Japan Council YP Coordinator 森田 賢太 (鈴鹿医療科学大学
 )&lt;/p&gt;\n&lt;p class=&quot;MsoNormal&quot;&gt;&lt;!-- /wp:paragraph --&gt; &lt;!-- wp:paragraph --&gt;&lt;/
 p&gt;\n&lt;p&gt;移動: 17:45 - 18:30&lt;/p&gt;\n&lt;p class=&quot;MsoNormal&quot;&gt;&lt;!-- /wp:paragraph 
 --&gt; &lt;!-- wp:paragraph --&gt;&lt;/p&gt;\n&lt;p&gt;ネットワーキングセッション 
 (YP meet): 18:30 - 20:30&amp;nbsp\;&lt;!-- /wp:paragraph --&gt;&lt;/p&gt;
END:VEVENT
END:VCALENDAR

