BEGIN:VCALENDAR
VERSION:2.0
PRODID:IEEE vTools.Events//EN
CALSCALE:GREGORIAN
BEGIN:VTIMEZONE
TZID:US/Pacific
BEGIN:DAYLIGHT
DTSTART:20170312T030000
TZOFFSETFROM:-0800
TZOFFSETTO:-0700
RRULE:FREQ=YEARLY;BYDAY=2SU;BYMONTH=3
TZNAME:PDT
END:DAYLIGHT
BEGIN:STANDARD
DTSTART:20171105T010000
TZOFFSETFROM:-0700
TZOFFSETTO:-0800
RRULE:FREQ=YEARLY;BYDAY=1SU;BYMONTH=11
TZNAME:PST
END:STANDARD
END:VTIMEZONE
BEGIN:VEVENT
DTSTAMP:20171020T170642Z
UID:0B45419D-B5B9-11E7-A02F-0050568D7F66
DTSTART;TZID=US/Pacific:20171027T151500
DTEND;TZID=US/Pacific:20171027T162000
DESCRIPTION:IEEE TEMS Oregon section in collaboration with Engineering &amp; Te
 chnology Management (ETM) Department at Maseeh College of Engineering and 
 Computer Science presents “Distinguished Speaker Series\, Fall 2017”\n
 \nCo-sponsored by: Portland State University\n\nSpeaker(s): Dorota Shortel
 l\, \n\nRoom: 102\, Bldg: Engineering Building\, 1900 SW 4th Avenue\, Port
 land\, Oregon\, United States\, 97201
LOCATION:Room: 102\, Bldg: Engineering Building\, 1900 SW 4th Avenue\, Port
 land\, Oregon\, United States\, 97201
ORGANIZER:tugrul.u.daim@pdx.edu
SEQUENCE:0
SUMMARY:The 7 Steps to Simplification
URL;VALUE=URI:https://events.vtools.ieee.org/m/47849
X-ALT-DESC:Description: &lt;br /&gt;&lt;div&gt;\n&lt;div class=&quot;nH&quot;&gt;\n&lt;div class=&quot;nH&quot;&gt;\n&lt;d
 iv class=&quot;nH bkL&quot;&gt;\n&lt;div class=&quot;no&quot;&gt;\n&lt;div class=&quot;nH bkK nn&quot;&gt;\n&lt;div class=
 &quot;nH&quot;&gt;\n&lt;div class=&quot;nH&quot;&gt;\n&lt;div class=&quot;nH ar4 z&quot;&gt;\n&lt;div class=&quot;aeI&quot;&gt;\n&lt;div c
 lass=&quot;AO&quot;&gt;\n&lt;div id=&quot;:4&quot; class=&quot;Tm aeJ&quot;&gt;\n&lt;div id=&quot;:2&quot; class=&quot;aeF&quot;&gt;\n&lt;div 
 class=&quot;nH&quot;&gt;\n&lt;div class=&quot;nH&quot; role=&quot;main&quot;&gt;\n&lt;div class=&quot;nH g&quot;&gt;\n&lt;table clas
 s=&quot;Bs nH iY&quot; role=&quot;presentation&quot; cellpadding=&quot;0&quot;&gt;\n&lt;tbody&gt;\n&lt;tr&gt;\n&lt;td clas
 s=&quot;Bu&quot;&gt;\n&lt;div class=&quot;nH if&quot;&gt;\n&lt;div class=&quot;nH aHU&quot;&gt;\n&lt;div class=&quot;nH hx&quot;&gt;\n&lt;
 div class=&quot;nH&quot; role=&quot;list&quot;&gt;\n&lt;div class=&quot;h7 hn &quot; tabindex=&quot;-1&quot; role=&quot;listi
 tem&quot;&gt;\n&lt;div class=&quot;Bk&quot;&gt;\n&lt;div class=&quot;G3 G2&quot;&gt;\n&lt;div id=&quot;:1g3&quot;&gt;\n&lt;div class=
 &quot;adn ads&quot;&gt;\n&lt;div class=&quot;gs&quot;&gt;\n&lt;div id=&quot;:3c5&quot; class=&quot;ii gt adP adO&quot;&gt;\n&lt;div 
 id=&quot;:3c4&quot; class=&quot;a3s aXjCH m15f37183d77bacf3&quot;&gt;\n&lt;div dir=&quot;ltr&quot;&gt;\n&lt;blockquo
 te&gt;\n&lt;div dir=&quot;ltr&quot;&gt;\n&lt;div dir=&quot;ltr&quot;&gt;\n&lt;div dir=&quot;ltr&quot;&gt;\n&lt;div dir=&quot;ltr&quot;&gt;\n&lt;
 div dir=&quot;ltr&quot;&gt;\n&lt;div dir=&quot;ltr&quot;&gt;\n&lt;p&gt;&lt;span class=&quot;m_867747206539248113gmail
 -m_-3206848831357955610gmail-m_2881827319297789633gmail-m_-345160350123406
 537gmail-m_6985245550178580772colour&quot;&gt;&lt;span class=&quot;m_867747206539248113gma
 il-m_-3206848831357955610gmail-m_2881827319297789633gmail-m_-3451603501234
 06537gmail-m_6985245550178580772font&quot;&gt;&lt;span class=&quot;m_867747206539248113gma
 il-m_-3206848831357955610gmail-m_2881827319297789633gmail-m_-3451603501234
 06537gmail-m_6985245550178580772size&quot;&gt;IEEE TEMS Oregon section&amp;nbsp\;&lt;/spa
 n&gt;&lt;/span&gt;&lt;/span&gt;&lt;span class=&quot;m_867747206539248113gmail-m_-3206848831357955
 610gmail-m_2881827319297789633gmail-m_-345160350123406537gmail-m_698524555
 0178580772colour&quot;&gt;&lt;span class=&quot;m_867747206539248113gmail-m_-32068488313579
 55610gmail-m_2881827319297789633gmail-m_-345160350123406537gmail-m_6985245
 550178580772font&quot;&gt;&lt;span class=&quot;m_867747206539248113gmail-m_-32068488313579
 55610gmail-m_2881827319297789633gmail-m_-345160350123406537gmail-m_6985245
 550178580772size&quot;&gt;in collaboration with&amp;nbsp\;Engineering &amp;amp\; Technolog
 y Management (ETM) Department&amp;nbsp\;&lt;/span&gt;&lt;/span&gt;&lt;/span&gt;at Maseeh College
  of Engineering and Computer Science presents &amp;ldquo\;Distinguished Speake
 r Series\, Fall 2017&amp;rdquo\;&lt;/p&gt;\n&lt;/div&gt;\n&lt;/div&gt;\n&lt;/div&gt;\n&lt;/div&gt;\n&lt;/div&gt;\n
 &lt;/div&gt;\n&lt;/blockquote&gt;\n&lt;/div&gt;\n&lt;/div&gt;\n&lt;/div&gt;\n&lt;/div&gt;\n&lt;/div&gt;\n&lt;/div&gt;\n&lt;/d
 iv&gt;\n&lt;/div&gt;\n&lt;/div&gt;\n&lt;/div&gt;\n&lt;/div&gt;\n&lt;/div&gt;\n&lt;/div&gt;\n&lt;/td&gt;\n&lt;/tr&gt;\n&lt;/tbody
 &gt;\n&lt;/table&gt;\n&lt;/div&gt;\n&lt;/div&gt;\n&lt;/div&gt;\n&lt;/div&gt;\n&lt;/div&gt;\n&lt;/div&gt;\n&lt;/div&gt;\n&lt;/div
 &gt;\n&lt;/div&gt;\n&lt;/div&gt;\n&lt;/div&gt;\n&lt;/div&gt;\n&lt;/div&gt;\n&lt;/div&gt;\n&lt;/div&gt;\n&lt;/div&gt;
END:VEVENT
END:VCALENDAR

