BEGIN:VCALENDAR
VERSION:2.0
PRODID:IEEE vTools.Events//EN
CALSCALE:GREGORIAN
BEGIN:VTIMEZONE
TZID:Asia/Kolkata
BEGIN:STANDARD
DTSTART:19451014T230000
TZOFFSETFROM:+0630
TZOFFSETTO:+0530
TZNAME:IST
END:STANDARD
END:VTIMEZONE
BEGIN:VEVENT
DTSTAMP:20250329T135622Z
UID:708E4B9F-630D-40AD-96CF-3C07627BDD71
DTSTART;TZID=Asia/Kolkata:20250321T173000
DTEND;TZID=Asia/Kolkata:20250322T193000
DESCRIPTION:Circuit Connect: Electrical Sciences Session\n\nIntroduction\n\
 nThe Circuit Connect workshop provided students with hands-on experience i
 n basic electronics\, bridging the gap between theoretical knowledge and p
 ractical application. Participants learned to build and test circuits on b
 readboards\, exploring key components like resistors\, capacitors\, diodes
 \, and transistors. Through interactive exercises and guided demonstration
 s\, they gained essential circuit design and troubleshooting skills\, fost
 ering curiosity and problem-solving abilities in electronics.\n\nEvent Ove
 rview\n\nThis hands-on session introduced students to core electronics pri
 nciples and circuit assembly. By working directly with components\, partic
 ipants developed foundational skills essential for electronics and electri
 cal engineering careers. They built circuits\, tested connections\, and di
 agnosed issues\, gaining confidence for future projects.\n\nTopics Covered
 \n\nIntroduction to Basic Electronics\n\n-\nElectrical Concepts: Students 
 explored voltage (potential difference)\, current (charge flow)\, and resi
 stance (opposition to flow)\, forming the basis for further learning.\n\n-
 \nOhm’s Law: Practical demonstrations illustrated the relationship betwe
 en voltage\, current\, and resistance\, enabling students to calculate and
  design circuits effectively.\n\nElectronic Components and Their Functions
 \n\n-\nResistors: Students learned to read resistor color codes and unders
 tand their role in controlling current.\n\n-\nCapacitors: Covered energy s
 torage\, charging/discharging behavior\, and practical applications in fil
 tering and power regulation.\n\n-\nDiodes &amp; LEDs: Explained current direct
 ion control\, rectification\, and LED applications in displays and indicat
 ors.\n\n-\nTransistors: Introduced as essential components for switching a
 nd signal amplification in both digital and analog circuits.\n\nBreadboard
  Basics and Circuit Assembly\n\n-\nStructure &amp; Usage: Students learned to 
 connect components without soldering\, making breadboards ideal for protot
 yping.\n\n-\nSeries &amp; Parallel Circuits: Hands-on exercises demonstrated d
 ifferences in current and voltage behavior.\n\n-\nTroubleshooting: Common 
 circuit issues\, such as poor connections and incorrect placements\, were 
 diagnosed and resolved.\n\nPractical Demonstrations &amp; Hands-on Exercises\n
 \n-\nLED Circuit Assembly: Students built simple LED circuits\, understand
 ing current control and polarity.\n\n-\nEffect of Resistors &amp; Capacitors: 
 Experimentation with different values demonstrated their impact on circuit
  behavior.\n\nQ&amp;A and Concept Clarifications\n\n-\nInteractive Discussion:
  Students had the opportunity to clarify doubts and reinforce learning.\n\
 n-\nCircuit Design Tips: Practical advice encouraged further exploration a
 nd advanced project development.\n\nThe Circuit Connect session successful
 ly equipped students with fundamental electronics knowledge\, practical sk
 ills\, and the confidence to explore more complex circuits.\n\nRoom: ECL-8
 \, Bldg: Academic Block\, Jaypee University Of Information Technology\, So
 lan\, Himachal Pradesh\, India\, 173234
LOCATION:Room: ECL-8\, Bldg: Academic Block\, Jaypee University Of Informat
 ion Technology\, Solan\, Himachal Pradesh\, India\, 173234
ORGANIZER:ieee.juit@juitsolan.in
SEQUENCE:3
SUMMARY:Electrical Science Event
URL;VALUE=URI:https://events.vtools.ieee.org/m/478492
X-ALT-DESC:Description: &lt;br /&gt;&lt;p&gt;&lt;strong&gt;Circuit Connect: Electrical Scienc
 es Session&lt;/strong&gt;&lt;/p&gt;\n&lt;h3&gt;Introduction&lt;/h3&gt;\n&lt;p&gt;The Circuit Connect wor
 kshop provided students with hands-on experience in basic electronics\, br
 idging the gap between theoretical knowledge and practical application. Pa
 rticipants learned to build and test circuits on breadboards\, exploring k
 ey components like resistors\, capacitors\, diodes\, and transistors. Thro
 ugh interactive exercises and guided demonstrations\, they gained essentia
 l circuit design and troubleshooting skills\, fostering curiosity and prob
 lem-solving abilities in electronics.&lt;/p&gt;\n&lt;h3&gt;Event Overview&lt;/h3&gt;\n&lt;p&gt;Thi
 s hands-on session introduced students to core electronics principles and 
 circuit assembly. By working directly with components\, participants devel
 oped foundational skills essential for electronics and electrical engineer
 ing careers. They built circuits\, tested connections\, and diagnosed issu
 es\, gaining confidence for future projects.&lt;/p&gt;\n&lt;h3&gt;Topics Covered&lt;/h3&gt;\
 n&lt;h4&gt;&lt;strong&gt;Introduction to Basic Electronics&lt;/strong&gt;&lt;/h4&gt;\n&lt;ul&gt;\n&lt;li&gt;\n
 &lt;p&gt;&lt;strong&gt;Electrical Concepts:&lt;/strong&gt; Students explored voltage (potent
 ial difference)\, current (charge flow)\, and resistance (opposition to fl
 ow)\, forming the basis for further learning.&lt;/p&gt;\n&lt;/li&gt;\n&lt;li&gt;\n&lt;p&gt;&lt;strong
 &gt;Ohm&amp;rsquo\;s Law:&lt;/strong&gt; Practical demonstrations illustrated the relat
 ionship between voltage\, current\, and resistance\, enabling students to 
 calculate and design circuits effectively.&lt;/p&gt;\n&lt;/li&gt;\n&lt;/ul&gt;\n&lt;h4&gt;&lt;strong&gt;
 Electronic Components and Their Functions&lt;/strong&gt;&lt;/h4&gt;\n&lt;ul&gt;\n&lt;li&gt;\n&lt;p&gt;&lt;s
 trong&gt;Resistors:&lt;/strong&gt; Students learned to read resistor color codes an
 d understand their role in controlling current.&lt;/p&gt;\n&lt;/li&gt;\n&lt;li&gt;\n&lt;p&gt;&lt;stro
 ng&gt;Capacitors:&lt;/strong&gt; Covered energy storage\, charging/discharging beha
 vior\, and practical applications in filtering and power regulation.&lt;/p&gt;\n
 &lt;/li&gt;\n&lt;li&gt;\n&lt;p&gt;&lt;strong&gt;Diodes &amp;amp\; LEDs:&lt;/strong&gt; Explained current dir
 ection control\, rectification\, and LED applications in displays and indi
 cators.&lt;/p&gt;\n&lt;/li&gt;\n&lt;li&gt;\n&lt;p&gt;&lt;strong&gt;Transistors:&lt;/strong&gt; Introduced as e
 ssential components for switching and signal amplification in both digital
  and analog circuits.&lt;/p&gt;\n&lt;/li&gt;\n&lt;/ul&gt;\n&lt;h4&gt;&lt;strong&gt;Breadboard Basics and
  Circuit Assembly&lt;/strong&gt;&lt;/h4&gt;\n&lt;ul&gt;\n&lt;li&gt;\n&lt;p&gt;&lt;strong&gt;Structure &amp;amp\; U
 sage:&lt;/strong&gt; Students learned to connect components without soldering\, 
 making breadboards ideal for prototyping.&lt;/p&gt;\n&lt;/li&gt;\n&lt;li&gt;\n&lt;p&gt;&lt;strong&gt;Ser
 ies &amp;amp\; Parallel Circuits:&lt;/strong&gt; Hands-on exercises demonstrated dif
 ferences in current and voltage behavior.&lt;/p&gt;\n&lt;/li&gt;\n&lt;li&gt;\n&lt;p&gt;&lt;strong&gt;Tro
 ubleshooting:&lt;/strong&gt; Common circuit issues\, such as poor connections an
 d incorrect placements\, were diagnosed and resolved.&lt;/p&gt;\n&lt;/li&gt;\n&lt;/ul&gt;\n&lt;
 h4&gt;&lt;strong&gt;Practical Demonstrations &amp;amp\; Hands-on Exercises&lt;/strong&gt;&lt;/h4
 &gt;\n&lt;ul&gt;\n&lt;li&gt;\n&lt;p&gt;&lt;strong&gt;LED Circuit Assembly:&lt;/strong&gt; Students built si
 mple LED circuits\, understanding current control and polarity.&lt;/p&gt;\n&lt;/li&gt;
 \n&lt;li&gt;\n&lt;p&gt;&lt;strong&gt;Effect of Resistors &amp;amp\; Capacitors:&lt;/strong&gt; Experim
 entation with different values demonstrated their impact on circuit behavi
 or.&lt;/p&gt;\n&lt;/li&gt;\n&lt;/ul&gt;\n&lt;h4&gt;&lt;strong&gt;Q&amp;amp\;A and Concept Clarifications&lt;/st
 rong&gt;&lt;/h4&gt;\n&lt;ul&gt;\n&lt;li&gt;\n&lt;p&gt;&lt;strong&gt;Interactive Discussion:&lt;/strong&gt; Studen
 ts had the opportunity to clarify doubts and reinforce learning.&lt;/p&gt;\n&lt;/li
 &gt;\n&lt;li&gt;\n&lt;p&gt;&lt;strong&gt;Circuit Design Tips:&lt;/strong&gt; Practical advice encoura
 ged further exploration and advanced project development.&lt;/p&gt;\n&lt;/li&gt;\n&lt;/ul
 &gt;\n&lt;p&gt;The Circuit Connect session successfully equipped students with fund
 amental electronics knowledge\, practical skills\, and the confidence to e
 xplore more complex circuits.&lt;/p&gt;\n&lt;p class=&quot;MsoNormal&quot; style=&quot;line-height
 : 150%\; margin: 12.0pt 0cm 12.0pt 0cm\;&quot;&gt;&lt;img src=&quot;https://events.vtools.
 ieee.org/vtools_ui/media/display/991240cb-7d9d-4d62-b7de-9aec28168fe7&quot; wid
 th=&quot;247&quot; height=&quot;173&quot;&gt; &amp;nbsp\; &amp;nbsp\; &amp;nbsp\; &amp;nbsp\;&lt;img src=&quot;https://ev
 ents.vtools.ieee.org/vtools_ui/media/display/49c4cec3-bc34-4fdf-bf8e-f130b
 747e903&quot; width=&quot;250&quot; height=&quot;179&quot;&gt;&lt;/p&gt;
END:VEVENT
END:VCALENDAR

