BEGIN:VCALENDAR
VERSION:2.0
PRODID:IEEE vTools.Events//EN
CALSCALE:GREGORIAN
BEGIN:VTIMEZONE
TZID:US/Eastern
BEGIN:DAYLIGHT
DTSTART:20250309T030000
TZOFFSETFROM:-0500
TZOFFSETTO:-0400
RRULE:FREQ=YEARLY;BYDAY=2SU;BYMONTH=3
TZNAME:EDT
END:DAYLIGHT
BEGIN:STANDARD
DTSTART:20251102T010000
TZOFFSETFROM:-0400
TZOFFSETTO:-0500
RRULE:FREQ=YEARLY;BYDAY=1SU;BYMONTH=11
TZNAME:EST
END:STANDARD
END:VTIMEZONE
BEGIN:VEVENT
DTSTAMP:20250420T224410Z
UID:5F973ABF-724E-43BF-846A-08FAB7605A6C
DTSTART;TZID=US/Eastern:20250415T190000
DTEND;TZID=US/Eastern:20250415T210000
DESCRIPTION:\n\nRoom: 217\, Bldg: Maxcy Hall\, 300 Boston Post Road\, West 
 Haven\, Connecticut\, United States\, Virtual: https://events.vtools.ieee.
 org/m/478561
LOCATION:Room: 217\, Bldg: Maxcy Hall\, 300 Boston Post Road\, West Haven\,
  Connecticut\, United States\, Virtual: https://events.vtools.ieee.org/m/4
 78561
ORGANIZER:rthoelen@ieee.org
SEQUENCE:3
SUMMARY:IEEE CT ExComm April 2025 Meeting
URL;VALUE=URI:https://events.vtools.ieee.org/m/478561
X-ALT-DESC:Description: &lt;br /&gt;&lt;p&gt;&amp;nbsp\;&lt;/p&gt;\n&lt;p&gt;&amp;nbsp\;&lt;/p&gt;
END:VEVENT
END:VCALENDAR

