BEGIN:VCALENDAR
VERSION:2.0
PRODID:IEEE vTools.Events//EN
CALSCALE:GREGORIAN
BEGIN:VTIMEZONE
TZID:America/Los_Angeles
BEGIN:DAYLIGHT
DTSTART:20250309T030000
TZOFFSETFROM:-0800
TZOFFSETTO:-0700
RRULE:FREQ=YEARLY;BYDAY=2SU;BYMONTH=3
TZNAME:PDT
END:DAYLIGHT
BEGIN:STANDARD
DTSTART:20251102T010000
TZOFFSETFROM:-0700
TZOFFSETTO:-0800
RRULE:FREQ=YEARLY;BYDAY=1SU;BYMONTH=11
TZNAME:PST
END:STANDARD
END:VTIMEZONE
BEGIN:VEVENT
DTSTAMP:20250424T222208Z
UID:EFB54C28-2216-4AD0-9513-9D3951FD85C6
DTSTART;TZID=America/Los_Angeles:20250424T114500
DTEND;TZID=America/Los_Angeles:20250424T131500
DESCRIPTION:The IEEE SF &amp; OEB Power &amp; Energy Society (PES) Chapters invite 
 you to join us on April 24\, 2025 11:45 AM PDT\, for a virtual Lunch-and-L
 earn PES Day event to hear Richard Hunt from Quanta Technology provide an 
 Introduction to IEC 61850.\n\nIntroduction to IEC 61850\n\nIEC 61850 is a 
 core standard for a smart grid\, enabling data modeling of power system fu
 nctions and sharing this data between applications using digital communica
 tions. IEC 61850 data can be used for dynamic equipment ratings to permit 
 more load out of existing infrastructure\, integrate renewable energy\, de
 tect falling conductors to reduce wildfire risks\, even lower greenhouse g
 ases by reducing the amount of copper wiring used in substations. This ses
 sion will discuss the fundamentals of IEC 61850\, including data model\, c
 ommunication methods\, services\, and configuration.\n\nTopics:\n\n- Why d
 o we care about IEC 61850?\n- What does IEC 61850 do?\n- How does IEC 6185
 0 work?\n\nAt the end of the session\, attendees should have a general und
 erstanding of IEC 61850. This session can be the starting point for furthe
 r investigation into system and network architecture\, testing\, and imple
 menting specific system functionality.\n\nSpeaker(s): Rich Hunt\, PE\, Exe
 cutive Advisor - Quanta Technology\, \n\nVirtual: https://events.vtools.ie
 ee.org/m/478617
LOCATION:Virtual: https://events.vtools.ieee.org/m/478617
ORGANIZER:walmukdad@gmail.com
SEQUENCE:31
SUMMARY:Introduction to IEC 61850 by Rich Hunt
URL;VALUE=URI:https://events.vtools.ieee.org/m/478617
X-ALT-DESC:Description: &lt;br /&gt;&lt;p&gt;The IEEE SF &amp;amp\; OEB Power &amp;amp\; Energy
  Society (PES) Chapters invite you to join us on April 24\, 2025 11:45 AM 
 PDT\, for a virtual Lunch-and-Learn PES Day event to hear Richard Hunt fro
 m Quanta Technology provide an Introduction to IEC 61850.&lt;/p&gt;\n&lt;p&gt;Introduc
 tion to IEC 61850&lt;/p&gt;\n&lt;p&gt;IEC 61850 is a core standard for a smart grid\, 
 enabling data modeling of power system functions and sharing this data bet
 ween applications using digital communications. IEC 61850 data can be used
  for dynamic equipment ratings to permit more load out of existing infrast
 ructure\, integrate renewable energy\, detect falling conductors to reduce
  wildfire risks\, even lower greenhouse gases by reducing the amount of co
 pper wiring used in substations. This session will discuss the fundamental
 s of IEC 61850\, including data model\, communication methods\, services\,
  and configuration.&amp;nbsp\;&lt;/p&gt;\n&lt;p&gt;Topics:&lt;/p&gt;\n&lt;ul&gt;\n&lt;li&gt;Why do we care a
 bout IEC 61850?&lt;/li&gt;\n&lt;li&gt;What does IEC 61850 do?&lt;/li&gt;\n&lt;li&gt;How does IEC 6
 1850 work?&lt;/li&gt;\n&lt;/ul&gt;\n&lt;p&gt;At the end of the session\, attendees should ha
 ve a general understanding of IEC 61850. This session can be the starting 
 point for further investigation into system and network architecture\, tes
 ting\, and implementing specific system functionality.&lt;/p&gt;\n&lt;p&gt;&amp;nbsp\;&lt;/p&gt;
END:VEVENT
END:VCALENDAR

