BEGIN:VCALENDAR
VERSION:2.0
PRODID:IEEE vTools.Events//EN
CALSCALE:GREGORIAN
BEGIN:VTIMEZONE
TZID:Asia/Kolkata
BEGIN:STANDARD
DTSTART:19451014T230000
TZOFFSETFROM:+0630
TZOFFSETTO:+0530
TZNAME:IST
END:STANDARD
END:VTIMEZONE
BEGIN:VEVENT
DTSTAMP:20250330T080453Z
UID:5DBB3409-FB85-4496-A1E3-FA07A76D948D
DTSTART;TZID=Asia/Kolkata:20250329T150000
DTEND;TZID=Asia/Kolkata:20250329T170000
DESCRIPTION:InnovateX 2025 was a remarkable event dedicated to showcasing c
 utting-edge projects developed by talented individuals and teams. With a s
 trong emphasis on fostering innovation\, collaboration\, and knowledge exc
 hange\, the event provided a dynamic platform for participants to display 
 their groundbreaking work. Through engaging exhibitions\, live demonstrati
 ons\, and insightful discussions\, InnovateX 2025 successfully created an 
 ecosystem where creativity thrived and technology was celebrated.\n\nObjec
 tive:\nThe primary objective of InnovateX 2025 was to highlight technologi
 cal advancements\, creative solutions\, and research-driven projects that 
 push the boundaries of modern technology. The event aimed to offer partici
 pants an invaluable opportunity to network with like-minded professionals\
 , receive constructive feedback\, and explore potential collaborations tha
 t could further drive innovation in various fields.\n\nEvent Highlights:\n
 \n● Diverse Project Categories:\nThe event featured a wide spectrum of i
 nnovations\, ensuring inclusivity across multiple domains. Participants pr
 esented projects in various categories\, including:\n\n-\nSoftware Applica
 tions: Cutting-edge applications solving real-world problems using the lat
 est software development methodologies.\n\n-\nAI-Driven Solutions: Machine
  learning and artificial intelligence applications designed to enhance aut
 omation and decision-making.\n\n-\nIoT Implementations: Smart systems and 
 devices enabling seamless connectivity and automation across industries.\n
 \n-\nSustainable Designs: Eco-friendly solutions aimed at reducing environ
 mental impact and promoting sustainable practices.\n\n-\nCybersecurity Too
 ls: Advanced security frameworks and privacy-enhancing technologies ensuri
 ng robust digital safety.\n\n● Live Demonstrations:\nParticipants provid
 ed live demonstrations of their projects\, offering attendees firsthand in
 sights into their work. These demonstrations covered:\n\n-\nProject Develo
 pment Process: Step-by-step breakdowns of how the projects were conceptual
 ized\, designed\, and built.\n\n-\nChallenges Faced: Real-world challenges
  encountered during development and innovative solutions implemented to ov
 ercome them.\n\n-\nPractical Applications: The real-world impact of these 
 projects across industries such as healthcare\, agriculture\, education\, 
 and urban planning.\n\n● Expert Panel and Feedback:\nA distinguished pan
 el of industry experts and academicians meticulously reviewed each project
 \, offering valuable insights and constructive criticism. This feedback he
 lped participants refine their projects\, improve their methodologies\, an
 d explore avenues for further development.\n\n● Interactive Sessions:\nT
 he event featured engaging discussions and Q&amp;A sessions that enabled atten
 dees to delve deeper into the methodologies and impact of showcased projec
 ts. These sessions allowed for knowledge exchange\, problem-solving discus
 sions\, and deep technical insights.\n\n● Networking and Collaboration O
 pportunities:\nInnovateX 2025 provided a vibrant space for innovators\, pr
 ofessionals\, and tech enthusiasts to connect. Attendees had the opportuni
 ty to engage in meaningful conversations\, discuss ideas\, and explore pot
 ential partnerships for future initiatives.\n\nNotable Exhibits:\n\n● Sm
 art Technology Implementations:\nProjects in this category showcased IoT-b
 ased solutions enhancing efficiency across multiple industries\, including
 :\n\n-\nHealthcare: Wearable health monitors\, AI-driven diagnostics\, and
  telemedicine solutions.\n\n-\nHome Automation: Smart home devices enablin
 g energy efficiency and convenience.\n\n-\nAgriculture: Precision farming 
 solutions leveraging IoT for optimized resource usage.\n\n● Sustainable 
 and Green Innovations:\nWith sustainability at the forefront\, several pro
 jects were dedicated to:\n\n-\nRenewable Energy: Solar\, wind\, and bio-en
 ergy projects demonstrating alternative power sources.\n\n-\nEco-Friendly 
 Solutions: Innovations focused on reducing carbon footprints and promoting
  green living.\n\n-\nWaste Management: Smart waste disposal and recycling 
 technologies improving environmental health.\n\n● Cybersecurity and Priv
 acy Tools:\nIn an era of digital transformation\, cybersecurity played a s
 ignificant role in the showcased projects. Key exhibits included:\n\n-\nAd
 vanced Security Frameworks: Next-generation security models for safeguardi
 ng digital assets.\n\n-\nPrivacy-Enhancing Technologies: Encryption and an
 onymization tools ensuring user data protection.\n\n-\nThreat Detection Sy
 stems: AI-powered security solutions capable of identifying and mitigating
  cyber threats in real time.\n\nRoom: Ground Floor\, Bldg: Academic Block\
 , Jaypee University Of Information Technology\, Solan\, Himachal Pradesh\,
  India\, 173234
LOCATION:Room: Ground Floor\, Bldg: Academic Block\, Jaypee University Of I
 nformation Technology\, Solan\, Himachal Pradesh\, India\, 173234
ORGANIZER:ieee.juit@juitsolan.in
SEQUENCE:3
SUMMARY:InnovateX 2025 - A Spectacle of Innovation
URL;VALUE=URI:https://events.vtools.ieee.org/m/478677
X-ALT-DESC:Description: &lt;br /&gt;&lt;p data-pm-slice=&quot;1 3 []&quot;&gt;InnovateX 2025 was 
 a remarkable event dedicated to showcasing cutting-edge projects developed
  by talented individuals and teams. With a strong emphasis on fostering in
 novation\, collaboration\, and knowledge exchange\, the event provided a d
 ynamic platform for participants to display their groundbreaking work. Thr
 ough engaging exhibitions\, live demonstrations\, and insightful discussio
 ns\, InnovateX 2025 successfully created an ecosystem where creativity thr
 ived and technology was celebrated.&lt;/p&gt;\n&lt;p&gt;&lt;strong&gt;Objective:&lt;/strong&gt;&lt;br
 &gt;The primary objective of InnovateX 2025 was to highlight technological ad
 vancements\, creative solutions\, and research-driven projects that push t
 he boundaries of modern technology. The event aimed to offer participants 
 an invaluable opportunity to network with like-minded professionals\, rece
 ive constructive feedback\, and explore potential collaborations that coul
 d further drive innovation in various fields.&lt;/p&gt;\n&lt;p&gt;&lt;strong&gt;Event Highli
 ghts:&lt;/strong&gt;&lt;/p&gt;\n&lt;p&gt;● &lt;strong&gt;Diverse Project Categories:&lt;/strong&gt;&lt;br
 &gt;The event featured a wide spectrum of innovations\, ensuring inclusivity 
 across multiple domains. Participants presented projects in various catego
 ries\, including:&lt;/p&gt;\n&lt;ul data-spread=&quot;false&quot;&gt;\n&lt;li&gt;\n&lt;p&gt;&lt;strong&gt;Software
  Applications:&lt;/strong&gt; Cutting-edge applications solving real-world probl
 ems using the latest software development methodologies.&lt;/p&gt;\n&lt;/li&gt;\n&lt;li&gt;\
 n&lt;p&gt;&lt;strong&gt;AI-Driven Solutions:&lt;/strong&gt; Machine learning and artificial 
 intelligence applications designed to enhance automation and decision-maki
 ng.&lt;/p&gt;\n&lt;/li&gt;\n&lt;li&gt;\n&lt;p&gt;&lt;strong&gt;IoT Implementations:&lt;/strong&gt; Smart syste
 ms and devices enabling seamless connectivity and automation across indust
 ries.&lt;/p&gt;\n&lt;/li&gt;\n&lt;li&gt;\n&lt;p&gt;&lt;strong&gt;Sustainable Designs:&lt;/strong&gt; Eco-frien
 dly solutions aimed at reducing environmental impact and promoting sustain
 able practices.&lt;/p&gt;\n&lt;/li&gt;\n&lt;li&gt;\n&lt;p&gt;&lt;strong&gt;Cybersecurity Tools:&lt;/strong&gt;
  Advanced security frameworks and privacy-enhancing technologies ensuring 
 robust digital safety.&lt;/p&gt;\n&lt;/li&gt;\n&lt;/ul&gt;\n&lt;p&gt;● &lt;strong&gt;Live Demonstratio
 ns:&lt;/strong&gt;&lt;br&gt;Participants provided live demonstrations of their project
 s\, offering attendees firsthand insights into their work. These demonstra
 tions covered:&lt;/p&gt;\n&lt;ul data-spread=&quot;false&quot;&gt;\n&lt;li&gt;\n&lt;p&gt;&lt;strong&gt;Project Dev
 elopment Process:&lt;/strong&gt; Step-by-step breakdowns of how the projects wer
 e conceptualized\, designed\, and built.&lt;/p&gt;\n&lt;/li&gt;\n&lt;li&gt;\n&lt;p&gt;&lt;strong&gt;Chal
 lenges Faced:&lt;/strong&gt; Real-world challenges encountered during developmen
 t and innovative solutions implemented to overcome them.&lt;/p&gt;\n&lt;/li&gt;\n&lt;li&gt;\
 n&lt;p&gt;&lt;strong&gt;Practical Applications:&lt;/strong&gt; The real-world impact of thes
 e projects across industries such as healthcare\, agriculture\, education\
 , and urban planning.&lt;/p&gt;\n&lt;/li&gt;\n&lt;/ul&gt;\n&lt;p&gt;● &lt;strong&gt;Expert Panel and F
 eedback:&lt;/strong&gt;&lt;br&gt;A distinguished panel of industry experts and academi
 cians meticulously reviewed each project\, offering valuable insights and 
 constructive criticism. This feedback helped participants refine their pro
 jects\, improve their methodologies\, and explore avenues for further deve
 lopment.&lt;/p&gt;\n&lt;p&gt;● &lt;strong&gt;Interactive Sessions:&lt;/strong&gt;&lt;br&gt;The event f
 eatured engaging discussions and Q&amp;amp\;A sessions that enabled attendees 
 to delve deeper into the methodologies and impact of showcased projects. T
 hese sessions allowed for knowledge exchange\, problem-solving discussions
 \, and deep technical insights.&lt;/p&gt;\n&lt;p&gt;● &lt;strong&gt;Networking and Collabo
 ration Opportunities:&lt;/strong&gt;&lt;br&gt;InnovateX 2025 provided a vibrant space 
 for innovators\, professionals\, and tech enthusiasts to connect. Attendee
 s had the opportunity to engage in meaningful conversations\, discuss idea
 s\, and explore potential partnerships for future initiatives.&lt;/p&gt;\n&lt;p&gt;&lt;st
 rong&gt;Notable Exhibits:&lt;/strong&gt;&lt;/p&gt;\n&lt;p&gt;● &lt;strong&gt;Smart Technology Imple
 mentations:&lt;/strong&gt;&lt;br&gt;Projects in this category showcased IoT-based solu
 tions enhancing efficiency across multiple industries\, including:&lt;/p&gt;\n&lt;u
 l data-spread=&quot;false&quot;&gt;\n&lt;li&gt;\n&lt;p&gt;&lt;strong&gt;Healthcare:&lt;/strong&gt; Wearable hea
 lth monitors\, AI-driven diagnostics\, and telemedicine solutions.&lt;/p&gt;\n&lt;/
 li&gt;\n&lt;li&gt;\n&lt;p&gt;&lt;strong&gt;Home Automation:&lt;/strong&gt; Smart home devices enablin
 g energy efficiency and convenience.&lt;/p&gt;\n&lt;/li&gt;\n&lt;li&gt;\n&lt;p&gt;&lt;strong&gt;Agricult
 ure:&lt;/strong&gt; Precision farming solutions leveraging IoT for optimized res
 ource usage.&lt;/p&gt;\n&lt;/li&gt;\n&lt;/ul&gt;\n&lt;p&gt;● &lt;strong&gt;Sustainable and Green Innov
 ations:&lt;/strong&gt;&lt;br&gt;With sustainability at the forefront\, several project
 s were dedicated to:&lt;/p&gt;\n&lt;ul data-spread=&quot;false&quot;&gt;\n&lt;li&gt;\n&lt;p&gt;&lt;strong&gt;Renew
 able Energy:&lt;/strong&gt; Solar\, wind\, and bio-energy projects demonstrating
  alternative power sources.&lt;/p&gt;\n&lt;/li&gt;\n&lt;li&gt;\n&lt;p&gt;&lt;strong&gt;Eco-Friendly Solu
 tions:&lt;/strong&gt; Innovations focused on reducing carbon footprints and prom
 oting green living.&lt;/p&gt;\n&lt;/li&gt;\n&lt;li&gt;\n&lt;p&gt;&lt;strong&gt;Waste Management:&lt;/strong
 &gt; Smart waste disposal and recycling technologies improving environmental 
 health.&lt;/p&gt;\n&lt;/li&gt;\n&lt;/ul&gt;\n&lt;p&gt;● &lt;strong&gt;Cybersecurity and Privacy Tools:
 &lt;/strong&gt;&lt;br&gt;In an era of digital transformation\, cybersecurity played a 
 significant role in the showcased projects. Key exhibits included:&lt;/p&gt;\n&lt;u
 l data-spread=&quot;false&quot;&gt;\n&lt;li&gt;\n&lt;p&gt;&lt;strong&gt;Advanced Security Frameworks:&lt;/st
 rong&gt; Next-generation security models for safeguarding digital assets.&lt;/p&gt;
 \n&lt;/li&gt;\n&lt;li&gt;\n&lt;p&gt;&lt;strong&gt;Privacy-Enhancing Technologies:&lt;/strong&gt; Encrypt
 ion and anonymization tools ensuring user data protection.&lt;/p&gt;\n&lt;/li&gt;\n&lt;li
 &gt;\n&lt;p&gt;&lt;strong&gt;Threat Detection Systems:&lt;/strong&gt; AI-powered security solut
 ions capable of identifying and mitigating cyber threats in real time.&lt;/p&gt;
 \n&lt;/li&gt;\n&lt;/ul&gt;\n&lt;p class=&quot;MsoNormal&quot; style=&quot;text-indent: -18.0pt\; line-he
 ight: 139%\; mso-list: l0 level1 lfo1\; margin: 0cm 0cm 12.0pt 36.0pt\;&quot;&gt;&amp;
 nbsp\;&lt;/p&gt;\n&lt;p class=&quot;MsoNormal&quot; style=&quot;text-indent: -18.0pt\; line-height
 : 139%\; mso-list: l0 level1 lfo1\; margin: 0cm 0cm 12.0pt 36.0pt\;&quot;&gt;&lt;span
  lang=&quot;EN-US&quot; style=&quot;font-size: 12.0pt\; line-height: 139%\; font-family: 
 &#39;Times New Roman&#39;\,&#39;serif&#39;\; mso-fareast-font-family: &#39;Times New Roman&#39;\; 
 color: #181818\;&quot;&gt;&lt;img src=&quot;https://events.vtools.ieee.org/vtools_ui/media
 /display/bc597f40-c9aa-492c-ada5-9905050e8616&quot; width=&quot;218&quot; height=&quot;136&quot;&gt; &amp;
 nbsp\; &amp;nbsp\;&lt;img src=&quot;https://events.vtools.ieee.org/vtools_ui/media/dis
 play/01d5bac1-3a34-4f37-b701-b4b98cb18b38&quot; width=&quot;223&quot; height=&quot;138&quot;&gt; &amp;nbsp
 \; &lt;img src=&quot;https://events.vtools.ieee.org/vtools_ui/media/display/edea87
 85-b766-43a1-a2d1-4adcb31e15c6&quot; width=&quot;225&quot; height=&quot;139&quot;&gt;&lt;/span&gt;&lt;/p&gt;
END:VEVENT
END:VCALENDAR

