BEGIN:VCALENDAR
VERSION:2.0
PRODID:IEEE vTools.Events//EN
CALSCALE:GREGORIAN
BEGIN:VTIMEZONE
TZID:America/Chicago
BEGIN:DAYLIGHT
DTSTART:20250309T030000
TZOFFSETFROM:-0600
TZOFFSETTO:-0500
RRULE:FREQ=YEARLY;BYDAY=2SU;BYMONTH=3
TZNAME:CDT
END:DAYLIGHT
BEGIN:STANDARD
DTSTART:20251102T010000
TZOFFSETFROM:-0500
TZOFFSETTO:-0600
RRULE:FREQ=YEARLY;BYDAY=1SU;BYMONTH=11
TZNAME:CST
END:STANDARD
END:VTIMEZONE
BEGIN:VEVENT
DTSTAMP:20250421T162254Z
UID:849F9F4C-96D1-4CE6-95DA-D42667D7FCC0
DTSTART;TZID=America/Chicago:20250417T000000
DTEND;TZID=America/Chicago:20250417T020000
DESCRIPTION:General socialization and discussions how to support the IEEE N
 ew Orlans Section &amp; attract new members.\n\nAll are invited. Each member p
 ays for their own lunch if desired.\n\nCo-sponsored by: Thomas E. Slack\, 
 Jr.\, Chair North Lake Life Member Affinity Group\n\nAgenda: \n12:00pm-ctz
  (US &amp; Canada) - 1200hr-ctz Meeting starts with members greetings\, introd
 uction order lunch\n\n12:30pm-ctz (US &amp; Canada) - 1230hr-ctz Lunch and soc
 ial\n\n1:15pm-ctz (US &amp; Canada) - 1315hr-ctz Meeting starts with old busin
 ess &amp; members presentations\n\nNew business discussion\n\n2:00pm-ctz (US &amp;
  Canada - 1400hr-ctz Adjourn\n\n4141 St. Charles Ave \, New Orleans\, Loui
 siana\, United States\, 70115
LOCATION:4141 St. Charles Ave \, New Orleans\, Louisiana\, United States\, 
 70115
ORGANIZER:lighth@bellsouth.net
SEQUENCE:40
SUMMARY:IEEE New Orleans Section\, South Lake Life Member Meeting
URL;VALUE=URI:https://events.vtools.ieee.org/m/478911
X-ALT-DESC:Description: &lt;br /&gt;&lt;p&gt;General socialization and discussions how 
 to support the IEEE New Orlans Section &amp;amp\; attract new members.&lt;/p&gt;\n&lt;p
 &gt;All are invited. Each member pays for their own lunch if desired.&lt;/p&gt;&lt;br 
 /&gt;&lt;br /&gt;Agenda: &lt;br /&gt;&lt;p&gt;12:00pm-ctz (US &amp;amp\; Canada) - 1200hr-ctz&amp;nbsp\
 ; &amp;nbsp\; &amp;nbsp\; Meeting starts with members greetings\, introduction ord
 er lunch&lt;/p&gt;\n&lt;p&gt;12:30pm-ctz (US &amp;amp\; Canada) - 1230hr-ctz&amp;nbsp\; &amp;nbsp\
 ; &amp;nbsp\; Lunch and social&lt;/p&gt;\n&lt;p&gt;1:15pm-ctz (US &amp;amp\; Canada) - 1315hr-
 ctz&amp;nbsp\; &amp;nbsp\; &amp;nbsp\; &amp;nbsp\; Meeting starts with old business &amp;amp\;
  members presentations&lt;/p&gt;\n&lt;p&gt;&amp;nbsp\; &amp;nbsp\; &amp;nbsp\; &amp;nbsp\; &amp;nbsp\; &amp;nb
 sp\; &amp;nbsp\; &amp;nbsp\; &amp;nbsp\; &amp;nbsp\; &amp;nbsp\; &amp;nbsp\; &amp;nbsp\; &amp;nbsp\; &amp;nbsp
 \; &amp;nbsp\; &amp;nbsp\; &amp;nbsp\; &amp;nbsp\; &amp;nbsp\; &amp;nbsp\; &amp;nbsp\; &amp;nbsp\; &amp;nbsp\;
  &amp;nbsp\; &amp;nbsp\; &amp;nbsp\; &amp;nbsp\; &amp;nbsp\; &amp;nbsp\; &amp;nbsp\; &amp;nbsp\; &amp;nbsp\; &amp;
 nbsp\; &amp;nbsp\; &amp;nbsp\;New business discussion&lt;/p&gt;\n&lt;p&gt;2:00pm-ctz (US &amp;amp\
 ; Canada - 1400hr-ctz&amp;nbsp\; &amp;nbsp\; &amp;nbsp\; &amp;nbsp\; Adjourn&lt;/p&gt;
END:VEVENT
END:VCALENDAR

