BEGIN:VCALENDAR
VERSION:2.0
PRODID:IEEE vTools.Events//EN
CALSCALE:GREGORIAN
BEGIN:VTIMEZONE
TZID:America/New_York
BEGIN:DAYLIGHT
DTSTART:20250309T030000
TZOFFSETFROM:-0500
TZOFFSETTO:-0400
RRULE:FREQ=YEARLY;BYDAY=2SU;BYMONTH=3
TZNAME:EDT
END:DAYLIGHT
BEGIN:STANDARD
DTSTART:20251102T010000
TZOFFSETFROM:-0400
TZOFFSETTO:-0500
RRULE:FREQ=YEARLY;BYDAY=1SU;BYMONTH=11
TZNAME:EST
END:STANDARD
END:VTIMEZONE
BEGIN:VEVENT
DTSTAMP:20250522T215238Z
UID:5E955840-6D24-4D5B-9738-7348D7B17415
DTSTART;TZID=America/New_York:20250517T080000
DTEND;TZID=America/New_York:20250517T163000
DESCRIPTION:IEEE SEM sponsored Robofest invites IEEE members to serve as Te
 chnical Judges of the following competition categories:\n\n- [Exhibition -
  Robotics Science Fair](https://www.robofest.net/index.php/current-competi
 tions/exhibition)\n- [RoboMED - Robotics for Medical &amp; Healthcare](https:/
 /www.robofest.net/index.php/current-competitions/robomed)\n\nAfter your re
 gistration\, the event host will contact you to confirm your judging assig
 nment and category. You will be also asked to submit a brief professional 
 bio.\n\nDuties of Judges\n\n- Review Competition Rules – Familiarize you
 rself with guidelines and scoring rubrics.\n- Evaluate Submissions – Wat
 ch team videos or live demos and assess performance.\n- Score Fairly – A
 pply Robofest rubrics to assign accurate scores.\n- Engage with Teams – 
 Visit tables\, ask questions\, and inspect code as needed.\n- Submit Score
 s – Enter all evaluations via the Robofest Scoring App.\n[]\n\nCo-sponso
 red by: CJ Chung\n\nAgenda: \n8:00am: Check-in &amp; Judge training (Judging a
 pp test)\, Continental breakfast\n\n9:00am: Opening Ceremonies. Each judge
  will be introduced.\n\n9:15am: Exhibition/RoboMED - Official Team Present
 ations\n\n11:30am: Lunch break\n\n12:45pm: Exhibition/RoboMED - Official T
 eam Presentations\n\n2:45pm: End of Team Presentations. Move to the Field 
 House (Gym)\n\n3:00pm: Closing &amp; Award Ceremonies.\n\n- Raffle and Group P
 hoto\n- Awards: Judges will be called to line up.\n\n4:20pm: End of the ce
 remonies\n\nRoom: S100\, Bldg: No. 7 Science Building    (Lot D)\, Lawrenc
 e Tech University \, 21000 W 10 Mile Rd\, Southfield\, Michigan\, United S
 tates\, 48075-1051
LOCATION:Room: S100\, Bldg: No. 7 Science Building    (Lot D)\, Lawrence Te
 ch University \, 21000 W 10 Mile Rd\, Southfield\, Michigan\, United State
 s\, 48075-1051
ORGANIZER:cchung@ltu.edu
SEQUENCE:205
SUMMARY:Technical Judging - Robofest World Championship 
URL;VALUE=URI:https://events.vtools.ieee.org/m/479100
X-ALT-DESC:Description: &lt;br /&gt;&lt;table style=&quot;border-collapse: collapse\; wid
 th: 99.9805%\; border-width: 0px\; border-style: none\;&quot; border=&quot;1&quot;&gt;&lt;colgr
 oup&gt;&lt;col style=&quot;width: 74.103%\;&quot;&gt;&lt;col style=&quot;width: 25.9168%\;&quot;&gt;&lt;/colgrou
 p&gt;\n&lt;tbody&gt;\n&lt;tr&gt;\n&lt;td style=&quot;height: 358.35px\; border-width: 0px\;&quot;&gt;\n&lt;p
 &gt;IEEE SEM sponsored Robofest invites IEEE members to serve as Technical Ju
 dges of the following competition categories:&lt;/p&gt;\n&lt;ul&gt;\n&lt;li&gt;&lt;a href=&quot;http
 s://www.robofest.net/index.php/current-competitions/exhibition&quot;&gt;&lt;strong&gt;Ex
 hibition &lt;/strong&gt;- Robotics Science Fair&lt;/a&gt;&lt;/li&gt;\n&lt;li&gt;&lt;a href=&quot;https://w
 ww.robofest.net/index.php/current-competitions/robomed&quot;&gt;&lt;strong&gt;RoboMED&lt;/s
 trong&gt; - Robotics for Medical &amp;amp\; Healthcare&lt;/a&gt;&lt;/li&gt;\n&lt;/ul&gt;\n&lt;p&gt;After 
 your registration\, the event host will contact you to confirm your judgin
 g assignment and category. You will be also asked to submit a brief profes
 sional bio.&lt;/p&gt;\n&lt;h4&gt;&lt;strong&gt;Duties of Judges&lt;/strong&gt;&lt;/h4&gt;\n&lt;ol&gt;\n&lt;li&gt;&lt;st
 rong&gt;Review Competition Rules&lt;/strong&gt;&amp;nbsp\;&amp;ndash\; Familiarize yourself
  with guidelines and scoring rubrics.&lt;/li&gt;\n&lt;li&gt;&lt;strong&gt;Evaluate Submissio
 ns&lt;/strong&gt;&amp;nbsp\;&amp;ndash\; Watch team videos or live demos and assess perf
 ormance.&lt;/li&gt;\n&lt;li&gt;&lt;strong&gt;Score Fairly&lt;/strong&gt;&amp;nbsp\;&amp;ndash\; Apply Robo
 fest rubrics to assign accurate scores.&lt;/li&gt;\n&lt;li&gt;&lt;strong&gt;Engage with Team
 s&lt;/strong&gt;&amp;nbsp\;&amp;ndash\; Visit tables\, ask questions\, and inspect code 
 as needed.&lt;/li&gt;\n&lt;li&gt;&lt;strong&gt;Submit Scores&lt;/strong&gt; &amp;ndash\; Enter all eva
 luations via the Robofest Scoring App.&lt;/li&gt;\n&lt;/ol&gt;\n&lt;/td&gt;\n&lt;td style=&quot;bord
 er-width: 0px\;&quot;&gt;&lt;img style=&quot;display: block\; margin-left: auto\; margin-r
 ight: auto\;&quot; src=&quot;https://events.vtools.ieee.org/vtools_ui/media/display/
 89a30382-b219-451e-9a09-d94425335e42&quot; alt=&quot;&quot; width=&quot;243&quot; height=&quot;310&quot;&gt;&lt;/td
 &gt;\n&lt;/tr&gt;\n&lt;/tbody&gt;\n&lt;/table&gt;&lt;br /&gt;&lt;br /&gt;Agenda: &lt;br /&gt;&lt;p&gt;8:00am: Check-in 
 &amp;amp\; Judge training (Judging app test)\, Continental breakfast&lt;/p&gt;\n&lt;p&gt;9
 :00am: Opening Ceremonies. Each judge will be introduced.&lt;/p&gt;\n&lt;p&gt;9:15am: 
 Exhibition/RoboMED - Official Team Presentations&lt;/p&gt;\n&lt;p&gt;11:30am: Lunch br
 eak&lt;/p&gt;\n&lt;p&gt;12:45pm: Exhibition/RoboMED - Official Team Presentations&lt;/p&gt;\
 n&lt;p&gt;2:45pm: End of Team Presentations. Move to the Field House (Gym)&lt;/p&gt;\n
 &lt;p&gt;3:00pm: Closing &amp;amp\; Award Ceremonies.&amp;nbsp\;&lt;/p&gt;\n&lt;ul&gt;\n&lt;li&gt;Raffle a
 nd Group Photo&lt;/li&gt;\n&lt;li&gt;Awards: Judges will be called to line up.&lt;/li&gt;\n&lt;
 /ul&gt;\n&lt;p&gt;4:20pm: End of the ceremonies&lt;/p&gt;
END:VEVENT
END:VCALENDAR

