BEGIN:VCALENDAR
VERSION:2.0
PRODID:IEEE vTools.Events//EN
CALSCALE:GREGORIAN
BEGIN:VTIMEZONE
TZID:US/Central
BEGIN:DAYLIGHT
DTSTART:20250309T030000
TZOFFSETFROM:-0600
TZOFFSETTO:-0500
RRULE:FREQ=YEARLY;BYDAY=2SU;BYMONTH=3
TZNAME:CDT
END:DAYLIGHT
BEGIN:STANDARD
DTSTART:20251102T010000
TZOFFSETFROM:-0500
TZOFFSETTO:-0600
RRULE:FREQ=YEARLY;BYDAY=1SU;BYMONTH=11
TZNAME:CST
END:STANDARD
END:VTIMEZONE
BEGIN:VEVENT
DTSTAMP:20250528T011202Z
UID:AC26885A-2270-48FC-9983-0A45502B8F9F
DTSTART;TZID=US/Central:20250522T113000
DTEND;TZID=US/Central:20250522T130000
DESCRIPTION:Please join the Central Tennessee IEEE in Nashville on May 22nd
 \, for a lunch presentation on Software-Defined Networking.\n\nTraditional
  Ethernet switches generally behave similarly regardless of the environmen
 t (one size fits all). With Operational Technology Software-Defined Networ
 king (OT SDN)\, LAN switching can be optimized for the specific requiremen
 ts of the environment. OT SDN allows you to purpose-engineer your networks
  like you purpose-engineer your critical control system. An OT SDN solutio
 n prioritizes network security\, situational awareness\, reliability\, and
  high-speed performance for critical applications.\n\nThis session will co
 ver the following topics:\n\n- Comparing traditional switches to software-
 defined networking (SDN) switches\n- Traffic engineering of OT networks\n-
  SDN benefits and performance\n- SDN interoperability with traditional net
 works\n- SDN design and deployment options\n\nPAYMENT METHOD: Pay online v
 ia registration. To bypass PayPal payment method\, click “Pay with Debit
  or Credit Card”.\n\nREGISTRATION FEE:\n\nIEEE Members $15\n\nNon-Member
 s $25\n\nPLEASE REGISTER BY: May 20th\, 2025\n\nPDH CERTIFICATES for 1 Pro
 fessional Development Hour will be issued.\n\nSpeaker(s): Trent Bridges\, 
 Application Engineer II\n\nAgenda: \n11:15 AM: Sign-in\n\n11:30 Lunch\n\nN
 oon to 1:00 PM: Program\n\nRoom: &quot;Event Center&quot; in Suite 210\, Bldg: Tech 
 Hill Commons\, 500 Interstate Blvd South\, Nashville\, Tennessee\, United 
 States\, 37210
LOCATION:Room: &quot;Event Center&quot; in Suite 210\, Bldg: Tech Hill Commons\, 500 
 Interstate Blvd South\, Nashville\, Tennessee\, United States\, 37210
ORGANIZER:James.L.Lee@ieee.org
SEQUENCE:66
SUMMARY:Operational Technology Software-Defined Networking
URL;VALUE=URI:https://events.vtools.ieee.org/m/479197
X-ALT-DESC:Description: &lt;br /&gt;&lt;p&gt;&lt;strong&gt;Please join the Central Tennessee 
 IEEE in Nashville on May 22nd\, for a lunch presentation on Software-Defin
 ed Networking.&lt;/strong&gt;&lt;/p&gt;\n&lt;p&gt;&lt;span style=&quot;font-family: arial\, helvetic
 a\, sans-serif\;&quot;&gt;&lt;span style=&quot;font-size: 11.0pt\; font-family: &#39;Arial&#39;\,s
 ans-serif\; mso-fareast-font-family: Aptos\; mso-font-kerning: 1.0pt\; mso
 -ligatures: standardcontextual\; mso-ansi-language: EN-US\; mso-fareast-la
 nguage: EN-US\; mso-bidi-language: AR-SA\;&quot;&gt;Traditional Ethernet switches 
 generally behave similarly regardless of the environment (one size fits al
 l). With&lt;/span&gt;&lt;strong style=&quot;mso-bidi-font-weight: normal\;&quot;&gt;&lt;span style=
 &quot;font-size: 16.0pt\; font-family: &#39;Arial&#39;\,sans-serif\; mso-fareast-font-f
 amily: Calibri\; mso-fareast-theme-font: minor-latin\; color: black\; mso-
 themecolor: text1\; mso-ansi-language: EN-US\; mso-fareast-language: EN-US
 \; mso-bidi-language: AR-SA\;&quot;&gt; &lt;/span&gt;&lt;/strong&gt;&lt;span style=&quot;font-size: 11
 .0pt\; font-family: &#39;Arial&#39;\,sans-serif\; mso-fareast-font-family: Calibri
 \; mso-fareast-theme-font: minor-latin\; color: black\; mso-themecolor: te
 xt1\; mso-ansi-language: EN-US\; mso-fareast-language: EN-US\; mso-bidi-la
 nguage: AR-SA\; mso-bidi-font-weight: bold\;&quot;&gt;Operational Technology Softw
 are-Defined Networking&lt;/span&gt;&lt;span style=&quot;font-size: 11.0pt\; font-family:
  &#39;Arial&#39;\,sans-serif\; mso-fareast-font-family: Aptos\; mso-font-kerning: 
 1.0pt\; mso-ligatures: standardcontextual\; mso-ansi-language: EN-US\; mso
 -fareast-language: EN-US\; mso-bidi-language: AR-SA\; mso-bidi-font-weight
 : bold\;&quot;&gt; (OT SD&lt;/span&gt;&lt;span style=&quot;font-size: 11.0pt\; font-family: &#39;Ari
 al&#39;\,sans-serif\; mso-fareast-font-family: Aptos\; mso-font-kerning: 1.0pt
 \; mso-ligatures: standardcontextual\; mso-ansi-language: EN-US\; mso-fare
 ast-language: EN-US\; mso-bidi-language: AR-SA\;&quot;&gt;N)\, LAN switching can b
 e optimized for the specific requirements of the environment. OT SDN allow
 s you to purpose-engineer your networks like you purpose-engineer your cri
 tical control system. An OT SDN solution prioritizes network security\, si
 tuational awareness\, reliability\, and high-speed performance for critica
 l applications&lt;/span&gt;&lt;span style=&quot;font-size: 11.0pt\; font-family: &#39;Arial&#39;
 \,sans-serif\; mso-fareast-font-family: Calibri\; mso-fareast-theme-font: 
 minor-latin\; color: black\; mso-themecolor: text1\; mso-ansi-language: EN
 -US\; mso-fareast-language: EN-US\; mso-bidi-language: AR-SA\;&quot;&gt;.&lt;/span&gt;&lt;/
 span&gt;&lt;/p&gt;\n&lt;p&gt;&lt;span style=&quot;font-family: arial\, helvetica\, sans-serif\;&quot;&gt;
 Th&lt;span style=&quot;font-size: 12pt\;&quot;&gt;is session will cover the following topi
 cs:&lt;/span&gt;&lt;/span&gt;&lt;/p&gt;\n&lt;ul style=&quot;margin-top: 0in\;&quot; type=&quot;disc&quot;&gt;\n&lt;li cla
 ss=&quot;MsoNormal&quot; style=&quot;line-height: 97%\; mso-list: l0 level1 lfo1\;&quot;&gt;&lt;span
  style=&quot;font-family: &#39;Arial&#39;\,sans-serif\; mso-fareast-font-family: Aptos\
 ; mso-font-kerning: 1.0pt\; mso-ligatures: standardcontextual\;&quot;&gt;Comparing
  traditional switches to software-defined networking (SDN) switches&lt;/span&gt;
 &lt;/li&gt;\n&lt;li class=&quot;MsoNormal&quot; style=&quot;line-height: 107%\; mso-list: l0 level
 1 lfo1\;&quot;&gt;&lt;span style=&quot;font-family: &#39;Arial&#39;\,sans-serif\; mso-fareast-font
 -family: Aptos\; mso-font-kerning: 1.0pt\; mso-ligatures: standardcontextu
 al\;&quot;&gt;Traffic engineering of OT networks&lt;/span&gt;&lt;/li&gt;\n&lt;li class=&quot;MsoNormal
 &quot; style=&quot;line-height: 107%\; mso-list: l0 level1 lfo1\;&quot;&gt;&lt;span style=&quot;font
 -family: &#39;Arial&#39;\,sans-serif\; mso-fareast-font-family: Aptos\; mso-font-k
 erning: 1.0pt\; mso-ligatures: standardcontextual\;&quot;&gt;SDN benefits and perf
 ormance&lt;/span&gt;&lt;/li&gt;\n&lt;li class=&quot;MsoNormal&quot; style=&quot;line-height: 107%\; mso-
 list: l0 level1 lfo1\;&quot;&gt;&lt;span style=&quot;font-family: &#39;Arial&#39;\,sans-serif\; ms
 o-fareast-font-family: Aptos\; mso-font-kerning: 1.0pt\; mso-ligatures: st
 andardcontextual\;&quot;&gt;SDN interoperability with traditional networks&lt;/span&gt;&lt;
 /li&gt;\n&lt;li class=&quot;MsoNormal&quot; style=&quot;line-height: 107%\; mso-list: l0 level1
  lfo1\;&quot;&gt;&lt;span style=&quot;font-family: &#39;Arial&#39;\,sans-serif\; mso-fareast-font-
 family: Aptos\; mso-font-kerning: 1.0pt\; mso-ligatures: standardcontextua
 l\;&quot;&gt;SDN design and deployment options&lt;/span&gt;&lt;/li&gt;\n&lt;/ul&gt;\n&lt;p&gt;&amp;nbsp\;&lt;/p&gt;\
 n&lt;p&gt;&lt;strong&gt;PAYMENT METHOD:&lt;/strong&gt; Pay online via registration. To bypas
 s PayPal payment method\, click &lt;!--StartFragment--&gt;&amp;ldquo\;Pay with Debit
  or Credit Card&amp;rdquo\;.&amp;nbsp\;&amp;nbsp\;&lt;/p&gt;\n&lt;p&gt;&lt;strong&gt;REGISTRATION FEE&lt;/s
 trong&gt;: &amp;nbsp\;&lt;/p&gt;\n&lt;p class=&quot;MsoNormal&quot; style=&quot;margin-left: .5in\;&quot;&gt;&lt;spa
 n style=&quot;font-size: 12.0pt\; font-family: &#39;Calibri&#39;\,sans-serif\;&quot;&gt;IEEE Me
 mbers $15&lt;/span&gt;&lt;/p&gt;\n&lt;p class=&quot;MsoNormal&quot; style=&quot;margin-left: .5in\;&quot;&gt;&lt;sp
 an style=&quot;font-size: 12.0pt\; font-family: &#39;Calibri&#39;\,sans-serif\;&quot;&gt;Non-Me
 mbers $25&lt;/span&gt;&lt;/p&gt;\n&lt;p&gt;&lt;strong&gt;PLEASE REGISTER BY:&lt;/strong&gt; May 20th\, 2
 025&lt;/p&gt;\n&lt;p&gt;&lt;strong&gt;PDH CERTIFICATES &lt;/strong&gt;for 1 Professional Developme
 nt Hour will be issued.&lt;/p&gt;\n&lt;p&gt;&amp;nbsp\;&lt;/p&gt;&lt;br /&gt;&lt;br /&gt;Agenda: &lt;br /&gt;&lt;p&gt;11
 :15 AM: Sign-in&amp;nbsp\;&lt;/p&gt;\n&lt;p&gt;11:30 Lunch&lt;/p&gt;\n&lt;p&gt;Noon to 1:00 PM: Progra
 m&lt;/p&gt;\n&lt;p&gt;&amp;nbsp\;&lt;/p&gt;\n&lt;p&gt;&amp;nbsp\;&lt;/p&gt;
END:VEVENT
END:VCALENDAR

