BEGIN:VCALENDAR
VERSION:2.0
PRODID:IEEE vTools.Events//EN
CALSCALE:GREGORIAN
BEGIN:VTIMEZONE
TZID:America/Chicago
BEGIN:DAYLIGHT
DTSTART:20250309T030000
TZOFFSETFROM:-0600
TZOFFSETTO:-0500
RRULE:FREQ=YEARLY;BYDAY=2SU;BYMONTH=3
TZNAME:CDT
END:DAYLIGHT
BEGIN:STANDARD
DTSTART:20251102T010000
TZOFFSETFROM:-0500
TZOFFSETTO:-0600
RRULE:FREQ=YEARLY;BYDAY=1SU;BYMONTH=11
TZNAME:CST
END:STANDARD
END:VTIMEZONE
BEGIN:VEVENT
DTSTAMP:20250402T202945Z
UID:59F5C0FE-B869-4A70-B3F7-7DF7A51C87A6
DTSTART;TZID=America/Chicago:20250401T200000
DTEND;TZID=America/Chicago:20250401T210000
DESCRIPTION:IEEE YP Officer Meeting\, April 2025\n\nAgenda: \n- April Socia
 l Planning\n- Summer Tech Talk Planning\n- Discussion of Funding\n- Joint 
 Event on 4/3 with FTW YP\n- Joint Event with TXST IEEE HKN\n- Discussion o
 f Congressional Outreach Program\n\nVirtual: https://events.vtools.ieee.or
 g/m/479236
LOCATION:Virtual: https://events.vtools.ieee.org/m/479236
ORGANIZER:rene.molina@ieee.org
SEQUENCE:22
SUMMARY:IEEE CTS YP April Officer Meeting
URL;VALUE=URI:https://events.vtools.ieee.org/m/479236
X-ALT-DESC:Description: &lt;br /&gt;&lt;p&gt;IEEE YP Officer Meeting\, April 2025&lt;/p&gt;&lt;b
 r /&gt;&lt;br /&gt;Agenda: &lt;br /&gt;&lt;ul&gt;\n&lt;li&gt;April Social Planning&lt;/li&gt;\n&lt;li&gt;Summer T
 ech Talk Planning&lt;/li&gt;\n&lt;li&gt;Discussion of Funding&lt;/li&gt;\n&lt;li&gt;Joint Event on
  4/3 with FTW YP&lt;/li&gt;\n&lt;li&gt;Joint Event with TXST IEEE HKN&lt;/li&gt;\n&lt;li&gt;Discus
 sion of Congressional Outreach Program&lt;/li&gt;\n&lt;/ul&gt;
END:VEVENT
END:VCALENDAR

