BEGIN:VCALENDAR
VERSION:2.0
PRODID:IEEE vTools.Events//EN
CALSCALE:GREGORIAN
BEGIN:VTIMEZONE
TZID:Europe/Istanbul
BEGIN:DAYLIGHT
DTSTART:20380119T061407
TZOFFSETFROM:+0300
TZOFFSETTO:+0300
RRULE:FREQ=YEARLY;BYDAY=3TU;BYMONTH=1
TZNAME:+03
END:DAYLIGHT
BEGIN:STANDARD
DTSTART:20160907T000000
TZOFFSETFROM:+0300
TZOFFSETTO:+0300
RRULE:FREQ=YEARLY;BYDAY=1WE;BYMONTH=9
TZNAME:+03
END:STANDARD
END:VTIMEZONE
BEGIN:VEVENT
DTSTAMP:20250430T211343Z
UID:54B91749-1A24-477B-AD48-FAFEEAAC4D15
DTSTART;TZID=Europe/Istanbul:20250429T130000
DTEND;TZID=Europe/Istanbul:20250429T150000
DESCRIPTION:IEEE GRSS Türkiye Chapter is pleased to invite you to insightf
 ul talks featuring Prof. Xu and Prof. Li\, who will share their cutting-ed
 ge research on the integration of artificial intelligence (AI) and satelli
 te remote sensing for oceanographic studies.\n\nThis seminar is presented 
 as part of the İTÜ Faculty of Aeronautics and Astronautics UZB 381E: App
 lication of Satellite-Based Data&quot; lectures.\n\nDon’t miss this opportuni
 ty to gain valuable insights into the future of AI-driven oceanography!\n\
 nLooking forward to seeing you there!\n\nTitle: Advancing Ocean Observatio
 ns with AI and Satellite Remote Sensing\n[🗓] Date: April 29th\, 2025\n[
 🕙] Time: 13:00-15:00\n[📍] Location: [Istanbul Technical University](
 https://www.linkedin.com/company/itu1773/) Faculty of Civil Engineering Co
 nference Hall\n\nSpeaker(s): Prof. Xiaofeng Li\, Prof. Qing Xu\n\nRoom: Co
 nference Hall\, Istanbul Technical University Faculty of Civil Engineering
 \, Istanbul\, Istanbul\, Türkiye
LOCATION:Room: Conference Hall\, Istanbul Technical University Faculty of C
 ivil Engineering\, Istanbul\, Istanbul\, Türkiye
ORGANIZER:grssturkey@gmail.com
SEQUENCE:2
SUMMARY:IEEE GRSS Türkiye Chapter Invited Lectures on Remote Sensing and O
 ceanography
URL;VALUE=URI:https://events.vtools.ieee.org/m/479307
X-ALT-DESC:Description: &lt;br /&gt;&lt;p&gt;IEEE GRSS T&amp;uuml\;rkiye Chapter is pleased
  to invite you to insightful talks featuring &lt;strong&gt;Prof. Xu&lt;/strong&gt;&amp;nbs
 p\;and&amp;nbsp\;&lt;strong&gt;Prof. Li&lt;/strong&gt;\, who will share their cutting-edge
  research on the integration of artificial intelligence (AI) and satellite
  remote sensing for oceanographic studies.&amp;nbsp\;&lt;/p&gt;\n&lt;div&gt;&amp;nbsp\;&lt;/div&gt;\
 n&lt;div&gt;This seminar is presented as part of the İT&amp;Uuml\; Faculty of Aeron
 autics and Astronautics UZB 381E: Application of Satellite-Based Data&quot; lec
 tures.&lt;/div&gt;\n&lt;div&gt;&lt;strong&gt;&amp;nbsp\;&lt;/strong&gt;&lt;/div&gt;\n&lt;div&gt;Don&amp;rsquo\;t miss 
 this opportunity to gain valuable insights into the future of AI-driven oc
 eanography!&lt;/div&gt;\n&lt;div&gt;&lt;br&gt;Looking forward to seeing you there!&lt;/div&gt;\n&lt;d
 iv&gt;&lt;br&gt;Title:&amp;nbsp\;Advancing Ocean Observations with AI and Satellite Rem
 ote Sensing&lt;br&gt;&lt;img class=&quot;an1 CToWUd&quot; draggable=&quot;false&quot; src=&quot;https://font
 s.gstatic.com/s/e/notoemoji/16.0/1f5d3/72.png&quot; alt=&quot;🗓&quot; loading=&quot;lazy&quot; d
 ata-emoji=&quot;🗓&quot; aria-label=&quot;🗓&quot; data-bit=&quot;iit&quot;&gt;&amp;nbsp\;Date: April 29th\
 , 2025&lt;br&gt;&lt;img class=&quot;an1 CToWUd&quot; draggable=&quot;false&quot; src=&quot;https://fonts.gst
 atic.com/s/e/notoemoji/16.0/1f559/72.png&quot; alt=&quot;🕙&quot; loading=&quot;lazy&quot; data-e
 moji=&quot;🕙&quot; aria-label=&quot;🕙&quot; data-bit=&quot;iit&quot;&gt;&amp;nbsp\;Time: 13:00-15:00&lt;br&gt;&lt;
 img class=&quot;an1 CToWUd&quot; draggable=&quot;false&quot; src=&quot;https://fonts.gstatic.com/s/
 e/notoemoji/16.0/1f4cd/72.png&quot; alt=&quot;📍&quot; loading=&quot;lazy&quot; data-emoji=&quot;📍&quot;
  aria-label=&quot;📍&quot; data-bit=&quot;iit&quot;&gt;&amp;nbsp\;Location: &lt;a href=&quot;https://www.li
 nkedin.com/company/itu1773/&quot; target=&quot;_blank&quot; rel=&quot;noopener&quot; data-saferedir
 ecturl=&quot;https://www.google.com/url?q=https://www.linkedin.com/company/itu1
 773/&amp;amp\;source=gmail&amp;amp\;ust=1743666566378000&amp;amp\;usg=AOvVaw321xffknyn
 4jQHWl0X6Jxw&quot;&gt;Istanbul Technical University&lt;/a&gt; Faculty of Civil Engineeri
 ng Conference Hall&lt;/div&gt;
END:VEVENT
END:VCALENDAR

