BEGIN:VCALENDAR
VERSION:2.0
PRODID:IEEE vTools.Events//EN
CALSCALE:GREGORIAN
BEGIN:VTIMEZONE
TZID:Asia/Kolkata
BEGIN:STANDARD
DTSTART:19451014T230000
TZOFFSETFROM:+0630
TZOFFSETTO:+0530
TZNAME:IST
END:STANDARD
END:VTIMEZONE
BEGIN:VEVENT
DTSTAMP:20250403T042204Z
UID:A71EFE02-0671-498E-BB63-0D4A6073F882
DTSTART;TZID=Asia/Kolkata:20250404T093700
DTEND;TZID=Asia/Kolkata:20250404T163000
DESCRIPTION:[]\n\nSpeaker(s): Senthilkumar\n\ncoimbatore\, Tamil Nadu\, Ind
 ia\, 641022
LOCATION:coimbatore\, Tamil Nadu\, India\, 641022
ORGANIZER:selvakumar.jayakumar@srec.ac.in
SEQUENCE:22
SUMMARY:The Road Not Taken
URL;VALUE=URI:https://events.vtools.ieee.org/m/479442
X-ALT-DESC:Description: &lt;br /&gt;&lt;p&gt;&lt;img src=&quot;https://events.vtools.ieee.org/v
 tools_ui/media/display/187ff07f-3854-4a24-820d-d4f3cb6f421f&quot; alt=&quot;&quot;&gt;&lt;/p&gt;
END:VEVENT
END:VCALENDAR

