BEGIN:VCALENDAR
VERSION:2.0
PRODID:IEEE vTools.Events//EN
CALSCALE:GREGORIAN
BEGIN:VTIMEZONE
TZID:America/Bogota
BEGIN:DAYLIGHT
DTSTART:20380118T221407
TZOFFSETFROM:-0500
TZOFFSETTO:-0500
RRULE:FREQ=YEARLY;BYDAY=3MO;BYMONTH=1
TZNAME:-05
END:DAYLIGHT
BEGIN:STANDARD
DTSTART:19930206T230000
TZOFFSETFROM:-0400
TZOFFSETTO:-0500
RRULE:FREQ=YEARLY;BYDAY=1SA;BYMONTH=2
TZNAME:-05
END:STANDARD
END:VTIMEZONE
BEGIN:VEVENT
DTSTAMP:20251016T161322Z
UID:A0188750-92D2-4D6E-95D7-A9C3A3A0306B
DTSTART;TZID=America/Bogota:20250411T113000
DTEND;TZID=America/Bogota:20250411T123000
DESCRIPTION:Engineer Adriana Arango talks about the stuff that&#39;s required t
 o connect solar panels at home to Universidad del Norte students in IEEE E
 ducation Week.\n\nBarranquilla\, Atlantico\, Colombia
LOCATION:Barranquilla\, Atlantico\, Colombia
ORGANIZER:dradac@uninorte.edu.co
SEQUENCE:15
SUMMARY:Solar Panels at home with Adriana Arango
URL;VALUE=URI:https://events.vtools.ieee.org/m/479512
X-ALT-DESC:Description: &lt;br /&gt;&lt;p&gt;Engineer Adriana Arango talks about the st
 uff that&#39;s required to connect solar panels at home to Universidad del Nor
 te students in IEEE Education Week.&lt;/p&gt;
END:VEVENT
END:VCALENDAR

