BEGIN:VCALENDAR
VERSION:2.0
PRODID:IEEE vTools.Events//EN
CALSCALE:GREGORIAN
BEGIN:VTIMEZONE
TZID:America/Los_Angeles
BEGIN:DAYLIGHT
DTSTART:20250309T030000
TZOFFSETFROM:-0800
TZOFFSETTO:-0700
RRULE:FREQ=YEARLY;BYDAY=2SU;BYMONTH=3
TZNAME:PDT
END:DAYLIGHT
BEGIN:STANDARD
DTSTART:20251102T010000
TZOFFSETFROM:-0700
TZOFFSETTO:-0800
RRULE:FREQ=YEARLY;BYDAY=1SU;BYMONTH=11
TZNAME:PST
END:STANDARD
END:VTIMEZONE
BEGIN:VEVENT
DTSTAMP:20250412T135208Z
UID:A47EB29E-D1C1-4DF8-A78D-B3728E53CAE5
DTSTART;TZID=America/Los_Angeles:20250408T183000
DTEND;TZID=America/Los_Angeles:20250408T203000
DESCRIPTION:This will be an in person and mostly social event.\n\nThe Secti
 on will be purchase drinks and refreshments.\n\nWe will be meeting at the 
 Lucky Lab BrewPub at :\n\n915 SE Hawthorne Blvd\, Portland\, OR 97214\n\nA
 genda: \nSocializing 6:30-7:30\n\nOpen floor from 7:30 - 8:30 if needed\n\
 nBldg: Lucky Lab\, 915 SE Hawthorne Blvd\, Portland\, Oregon\, United Stat
 es\, 97214
LOCATION:Bldg: Lucky Lab\, 915 SE Hawthorne Blvd\, Portland\, Oregon\, Unit
 ed States\, 97214
ORGANIZER:david.silver@ieee.org
SEQUENCE:33
SUMMARY:IEEE Oregon April 2025 Excom In-Person Meeting
URL;VALUE=URI:https://events.vtools.ieee.org/m/479574
X-ALT-DESC:Description: &lt;br /&gt;&lt;p&gt;This will be an in person and mostly socia
 l event.&amp;nbsp\;&lt;/p&gt;\n&lt;p&gt;The Section will be purchase drinks and refreshmen
 ts.&lt;/p&gt;\n&lt;p&gt;We will be meeting at the Lucky Lab BrewPub at :&lt;/p&gt;\n&lt;p&gt;915 S
 E Hawthorne Blvd\, Portland\, OR 97214&lt;/p&gt;\n&lt;p&gt;&amp;nbsp\;&lt;/p&gt;&lt;br /&gt;&lt;br /&gt;Agen
 da: &lt;br /&gt;&lt;p&gt;Socializing 6:30-7:30&lt;/p&gt;\n&lt;p&gt;Open floor from 7:30 - 8:30&amp;nbs
 p\; if needed&lt;/p&gt;
END:VEVENT
END:VCALENDAR

