BEGIN:VCALENDAR
VERSION:2.0
PRODID:IEEE vTools.Events//EN
CALSCALE:GREGORIAN
BEGIN:VTIMEZONE
TZID:America/New_York
BEGIN:DAYLIGHT
DTSTART:20250309T030000
TZOFFSETFROM:-0500
TZOFFSETTO:-0400
RRULE:FREQ=YEARLY;BYDAY=2SU;BYMONTH=3
TZNAME:EDT
END:DAYLIGHT
BEGIN:STANDARD
DTSTART:20251102T010000
TZOFFSETFROM:-0400
TZOFFSETTO:-0500
RRULE:FREQ=YEARLY;BYDAY=1SU;BYMONTH=11
TZNAME:EST
END:STANDARD
END:VTIMEZONE
BEGIN:VEVENT
DTSTAMP:20250516T160443Z
UID:DE2BE4E2-5DC3-4CD0-95ED-8906D5F4B5E6
DTSTART;TZID=America/New_York:20250410T180000
DTEND;TZID=America/New_York:20250410T193000
DESCRIPTION:Presentation Summary:\nMichelin Vision Systems:\nSTANDARDIZATIO
 N &amp; NETWORK\n\nINTRODUCTION\n• What vision is .. beyond the word\n• Co
 ntext\nSTANDARDIZATION\n• How to standardize vision tools\n• Vision st
 andard framework\n• 3D profilometer + video\n• 2D smart camera + video
 \n• PC based library\n• Accessories for PC based solution\n• Framewo
 rk agreement - example\n• Framework agreement progression\nNETWORK\n• 
 Objectives\n• Michelin vision network\n• KPI &amp; reporting\n• Training
 \n\nRoom: G66\, Bldg: Daniel Hall Expansion (Humanities Hall)\, Delta Epsi
 lon Ct\, Clemson\, South Carolina\, United States\, 29631
LOCATION:Room: G66\, Bldg: Daniel Hall Expansion (Humanities Hall)\, Delta 
 Epsilon Ct\, Clemson\, South Carolina\, United States\, 29631
ORGANIZER:hraza@clemson.edu
SEQUENCE:25
SUMMARY:Tech Talk on Vision Systems by Michelin
URL;VALUE=URI:https://events.vtools.ieee.org/m/479661
X-ALT-DESC:Description: &lt;br /&gt;&lt;p&gt;&lt;span style=&quot;text-decoration: underline\;&quot;
 &gt;&lt;strong&gt;Presentation Summary:&lt;/strong&gt;&lt;/span&gt;&lt;/p&gt;\n&lt;div&gt;&lt;strong&gt;&lt;u&gt;Michel
 in Vision Systems:&lt;/u&gt;&lt;br&gt;&lt;/strong&gt;STANDARDIZATION &amp;amp\; NETWORK&lt;/div&gt;\n&lt;
 div&gt;&amp;nbsp\;&lt;/div&gt;\n&lt;div&gt;&lt;strong&gt;&lt;u&gt;INTRODUCTION&lt;/u&gt;&lt;/strong&gt;&lt;/div&gt;\n&lt;div&gt;&lt;
 strong&gt;&amp;bull\; What&amp;nbsp\;vision is&amp;nbsp\;.. beyond the word&lt;/strong&gt;&lt;/div
 &gt;\n&lt;div&gt;&lt;strong&gt;&amp;bull\; Context&lt;/strong&gt;&lt;/div&gt;\n&lt;div&gt;&lt;strong&gt;&lt;u&gt;STANDARDIZ
 ATION&lt;/u&gt;&lt;/strong&gt;&lt;/div&gt;\n&lt;div&gt;&lt;strong&gt;&amp;bull\; How to standardize vision t
 ools&lt;/strong&gt;&lt;/div&gt;\n&lt;div&gt;&lt;strong&gt;&amp;bull\; Vision standard framework&lt;/stron
 g&gt;&lt;/div&gt;\n&lt;div&gt;&lt;strong&gt;&amp;bull\; 3D profilometer + video&lt;/strong&gt;&lt;/div&gt;\n&lt;di
 v&gt;&lt;strong&gt;&amp;bull\; 2D smart camera + video&lt;/strong&gt;&lt;/div&gt;\n&lt;div&gt;&lt;strong&gt;&amp;bu
 ll\; PC based library&lt;/strong&gt;&lt;/div&gt;\n&lt;div&gt;&lt;strong&gt;&amp;bull\; Accessories for
  PC based solution&lt;/strong&gt;&lt;/div&gt;\n&lt;div&gt;&lt;strong&gt;&amp;bull\; Framework agreemen
 t - example&lt;/strong&gt;&lt;/div&gt;\n&lt;div&gt;&lt;strong&gt;&amp;bull\; Framework agreement progr
 ession&lt;/strong&gt;&lt;/div&gt;\n&lt;div&gt;&lt;strong&gt;&lt;u&gt;NETWORK&lt;/u&gt;&lt;/strong&gt;&lt;/div&gt;\n&lt;div&gt;&lt;s
 trong&gt;&amp;bull\; Objectives&lt;/strong&gt;&lt;/div&gt;\n&lt;div&gt;&lt;strong&gt;&amp;bull\; Michelin vis
 ion network&lt;/strong&gt;&lt;/div&gt;\n&lt;div&gt;&lt;strong&gt;&amp;bull\; KPI &amp;amp\; reporting&lt;/str
 ong&gt;&lt;/div&gt;\n&lt;div&gt;&lt;strong&gt;&amp;bull\; Training&lt;/strong&gt;&lt;/div&gt;
END:VEVENT
END:VCALENDAR

