BEGIN:VCALENDAR
VERSION:2.0
PRODID:IEEE vTools.Events//EN
CALSCALE:GREGORIAN
BEGIN:VTIMEZONE
TZID:America/Chicago
BEGIN:DAYLIGHT
DTSTART:20250309T030000
TZOFFSETFROM:-0600
TZOFFSETTO:-0500
RRULE:FREQ=YEARLY;BYDAY=2SU;BYMONTH=3
TZNAME:CDT
END:DAYLIGHT
BEGIN:STANDARD
DTSTART:20251102T010000
TZOFFSETFROM:-0500
TZOFFSETTO:-0600
RRULE:FREQ=YEARLY;BYDAY=1SU;BYMONTH=11
TZNAME:CST
END:STANDARD
END:VTIMEZONE
BEGIN:VEVENT
DTSTAMP:20250412T011833Z
UID:959158B4-B5C2-45E9-AFB4-82B210EB4EAF
DTSTART;TZID=America/Chicago:20250411T163000
DTEND;TZID=America/Chicago:20250411T183000
DESCRIPTION:Hey Everyone\,\n\nCome join us for our monthly virtual coffee h
 our. Bring your favorite brew and enjoy the stimulating conversation and c
 ompany.\n\nWe have had wide-ranging conversation covering AI\, science fic
 tion\, comics\, risks\, and more. Share with us what interests you.\n\nhtt
 ps://ieeemeetings.webex.com/ieeemeetings/j.php?MTID=mf4c37374a5a74c2d1aef4
 254e159a027\n\n[Coffee Pot]\n\nAhmed Naumaan - TC Section Chair\n\nAgenda:
  \n- Stimulating conversation\n\nThe last time we had wide-ranging convers
 ation covering AI\, science fiction\, comics\, risks\, and more. Share wit
 h us what interests you.\n\nVirtual: https://events.vtools.ieee.org/m/4798
 12
LOCATION:Virtual: https://events.vtools.ieee.org/m/479812
ORGANIZER:ahmed.naumaan@ieee.org
SEQUENCE:7
SUMMARY:Friday\, 11th April. TC Section Virtual Coffee Hour
URL;VALUE=URI:https://events.vtools.ieee.org/m/479812
X-ALT-DESC:Description: &lt;br /&gt;&lt;p&gt;Hey Everyone\,&lt;/p&gt;\n&lt;p&gt;Come join us for ou
 r monthly virtual coffee hour. Bring your favorite brew and enjoy the stim
 ulating conversation and company.&lt;/p&gt;\n&lt;p&gt;We have had wide-ranging convers
 ation covering AI\, science fiction\, comics\, risks\, and more. Share wit
 h us what interests you.&lt;/p&gt;\n&lt;p&gt;&amp;nbsp\;&lt;/p&gt;\n&lt;p&gt;&lt;a href=&quot;https://ieeemeet
 ings.webex.com/ieeemeetings/j.php?MTID=mf4c37374a5a74c2d1aef4254e159a027&quot;&gt;
 https://ieeemeetings.webex.com/ieeemeetings/j.php?MTID=mf4c37374a5a74c2d1a
 ef4254e159a027&lt;/a&gt;&lt;/p&gt;\n&lt;p&gt;&amp;nbsp\;&lt;/p&gt;\n&lt;p&gt;&lt;img src=&quot;https://events.vtools
 .ieee.org/vtools_ui/media/display/e3d2a862-3d6a-431a-b4fb-733016d4d983&quot; al
 t=&quot;Coffee Pot&quot; width=&quot;512&quot; height=&quot;512&quot;&gt;&lt;/p&gt;\n&lt;p&gt;&amp;nbsp\;&lt;/p&gt;\n&lt;p&gt;Ahmed Nau
 maan - TC Section Chair&lt;/p&gt;&lt;br /&gt;&lt;br /&gt;Agenda: &lt;br /&gt;&lt;ul&gt;\n&lt;li&gt;Stimulating
  conversation&lt;/li&gt;\n&lt;/ul&gt;\n&lt;p&gt;The last time we had wide-ranging conversati
 on covering AI\, science fiction\, comics\, risks\, and more. Share with u
 s what interests you.&lt;/p&gt;
END:VEVENT
END:VCALENDAR

