BEGIN:VCALENDAR
VERSION:2.0
PRODID:IEEE vTools.Events//EN
CALSCALE:GREGORIAN
BEGIN:VTIMEZONE
TZID:Australia/Adelaide
BEGIN:DAYLIGHT
DTSTART:20251005T030000
TZOFFSETFROM:+0930
TZOFFSETTO:+1030
RRULE:FREQ=YEARLY;BYDAY=1SU;BYMONTH=10
TZNAME:ACDT
END:DAYLIGHT
BEGIN:STANDARD
DTSTART:20250406T020000
TZOFFSETFROM:+1030
TZOFFSETTO:+0930
RRULE:FREQ=YEARLY;BYDAY=1SU;BYMONTH=4
TZNAME:ACST
END:STANDARD
END:VTIMEZONE
BEGIN:VEVENT
DTSTAMP:20250515T035902Z
UID:DAE15CFA-21FA-4CFB-9BE0-6B9EC4DE01ED
DTSTART;TZID=Australia/Adelaide:20250430T180000
DTEND;TZID=Australia/Adelaide:20250430T190000
DESCRIPTION:Explore the future of sustainable energy with Sparc H2\, a tech
 nology developed at the University of Adelaide. The system\n\nuses solar p
 ower to split water into hydrogen and oxygen through photocatalytic water 
 splitting\, offering a renewable\n\nalternative to traditional energy sour
 ces. Recognized in the SA Climate Leaders Awards\, Sparc Hydrogen is contr
 ibuting to\n\nadvancements in the field. The upcoming pilot plant at Rosew
 orthy will demonstrate progress in carbon-free hydrogen\n\nproduction.\n\n
 This talk is a joint presentation with the Engineers Australia Sustainable
  Engineering Society. Registration is through the EA web site. After enter
 ing your name and email address\, select YES for being an SENG or IET/IEEE
  Retired Engineers member\n\nCo-sponsored by: Engineers Australia\, IET\n\
 nRoom: 11th Floor\, Engineers Australia\, 108 King William St\, Adelaide\,
  South Australia\, Australia\, 5000
LOCATION:Room: 11th Floor\, Engineers Australia\, 108 King William St\, Ade
 laide\, South Australia\, Australia\, 5000
ORGANIZER:powis@bigpond.com
SEQUENCE:36
SUMMARY:Hydrogen production using photocatalytic processes
URL;VALUE=URI:https://events.vtools.ieee.org/m/480158
X-ALT-DESC:Description: &lt;br /&gt;&lt;p&gt;&lt;em&gt;Explore the future of sustainable ener
 gy with Sparc H2\, a &lt;/em&gt;&lt;em&gt;technology developed at the University of Ad
 elaide. The system&lt;/em&gt;&lt;/p&gt;\n&lt;p&gt;&lt;em&gt;uses solar power to split water into h
 ydrogen and oxygen &lt;/em&gt;&lt;em&gt;through photocatalytic water splitting\, offer
 ing a renewable&lt;/em&gt;&lt;/p&gt;\n&lt;p&gt;&lt;em&gt;alternative to traditional energy sources
 . Recognized in the SA &lt;/em&gt;&lt;em&gt;Climate Leaders Awards\, Sparc Hydrogen is
  contributing to&lt;/em&gt;&lt;/p&gt;\n&lt;p&gt;&lt;em&gt;advancements in the field. The upcoming 
 pilot plant at &lt;/em&gt;&lt;em&gt;Roseworthy will demonstrate progress in carbon-fre
 e hydrogen&lt;/em&gt;&lt;/p&gt;\n&lt;p&gt;&lt;em&gt;production.&lt;/em&gt;&lt;/p&gt;\n&lt;p&gt;&amp;nbsp\;&lt;/p&gt;\n&lt;p&gt;&lt;em&gt;T
 his talk is a joint presentation with the Engineers Australia Sustainable 
 &lt;/em&gt;&lt;em&gt;Engineering Society. Registration is through the EA web site. Aft
 er entering your name and email &lt;/em&gt;&lt;em&gt;address\, select YES for being an
  SENG or IET/IEEE Retired Engineers member&lt;/em&gt;&lt;/p&gt;
END:VEVENT
END:VCALENDAR

