BEGIN:VCALENDAR
VERSION:2.0
PRODID:IEEE vTools.Events//EN
CALSCALE:GREGORIAN
BEGIN:VTIMEZONE
TZID:America/Mexico_City
BEGIN:STANDARD
DTSTART:20221030T010000
TZOFFSETFROM:-0500
TZOFFSETTO:-0600
TZNAME:CST
END:STANDARD
END:VTIMEZONE
BEGIN:VEVENT
DTSTAMP:20250509T210259Z
UID:C4210833-4A38-4ACE-9DA0-12EF24307640
DTSTART;TZID=America/Mexico_City:20250423T100000
DTEND;TZID=America/Mexico_City:20250423T163000
DESCRIPTION:Este taller técnico\, dirigido principalmente a estudiantes pe
 rtenecientes a ramas estudiantiles IEEE de la sección Veracruz\, ofrece u
 na visión general fundamental del diseño de subestaciones en el contexto
  de las redes eléctricas modernas. Se introducen los elementos estructura
 les y funcionales de una subestación típica de media a alta tensión\, c
 on un enfoque en la planificación del diseño\, la selección de equipos 
 y la integración del sistema.\n\nLa sesión examinará el diagrama unifil
 ar estándar de una subestación\, desglosando las funciones de los compon
 entes clave como transformadores de potencia\, interruptores automáticos\
 , seccionadores\, transformadores de corriente y de tensión\, pararrayos\
 , barras colectoras y sistemas de puesta a tierra. Se presta especial aten
 ción a la disposición espacial y la lógica operativa detrás de la ubic
 ación de los equipos\, así como a la importancia de los márgenes de seg
 uridad.\n\nLos participantes explorarán:\n\n-\nEl proceso de diseño paso
  a paso\, desde las especificaciones eléctricas hasta el diseño civil\n\
 n-\nConfiguraciones típicas de subestaciones (por ejemplo\, barra simple\
 , doble barra\, anillo)\n\n-\nEsquemas de protección y control basados en
  lógica de relevadores e integración SCADA\n\n-\nConsideraciones de dise
 ño para la integración de energías renovables y expansión futura de la
  red\n\n-\nNormativas técnicas que guían el diseño de subestaciones (IE
 C/IEEE)\n\nEl taller también aborda las implicaciones ambientales y de ef
 iciencia del diseño de subestaciones en el contexto de las energías limp
 ias y la modernización de la red. Se enfatiza cómo un diseño optimizado
  respalda la confiabilidad del sistema\, reduce las pérdidas de energía 
 y permite una operación más inteligente de la red.\n\nAunque el contenid
 o está estructurado para ser técnicamente claro y accesible\, mantiene e
 l enfoque en la práctica de ingeniería del mundo real\, ofreciendo persp
 ectivas sobre cómo las subestaciones funcionan como nodos críticos en la
 s redes de transmisión y distribución eléctrica.\n\nEsta sesión es ide
 al para quienes buscan una introducción estructurada a los sistemas de su
 bestaciones\, en relación con los objetivos de transición energética y 
 el desarrollo de infraestructura de redes inteligentes.\n\nSpeaker(s): Ing
 . Maria Alejandra Aguilar Morales \, \n\nAgenda: \n10:00 - 13:00 horas - T
 aller de Diseño de Subestaciones en el Entorno de las Energías Limpias (
 Primera parte)\n\n13:00 - 14:30 horas - Lunch\n\n14:30 - 16:30 horas - Tal
 ler de Diseño de Subestaciones en el Entorno de las Energías Limpias (se
 gunda parte)\n\nCircuito Universitario Gonzalo Aguirre Beltrán S/N 91000\
 , Xalapa\, Veracruz-Llave\, Mexico\, 91000
LOCATION:Circuito Universitario Gonzalo Aguirre Beltrán S/N 91000\, Xalapa
 \, Veracruz-Llave\, Mexico\, 91000
ORGANIZER:eduardo_alcubilla02@ieee.org, jesusgarcia@ieee.org 
SEQUENCE:52
SUMMARY:Taller: Diseño de subestaciones en el entorno de las energías lim
 pias - dirigido a Ramas Estudiantiles IEEE Sección Veracruz.
URL;VALUE=URI:https://events.vtools.ieee.org/m/480264
X-ALT-DESC:Description: &lt;br /&gt;&lt;p class=&quot;&quot; data-start=&quot;51&quot; data-end=&quot;393&quot;&gt;Es
 te taller t&amp;eacute\;cnico\, dirigido principalmente a estudiantes pertenec
 ientes a ramas estudiantiles IEEE de la secci&amp;oacute\;n Veracruz\, ofrece 
 una visi&amp;oacute\;n general fundamental del dise&amp;ntilde\;o de subestaciones
  en el contexto de las redes el&amp;eacute\;ctricas modernas. Se introducen lo
 s elementos estructurales y funcionales de una subestaci&amp;oacute\;n t&amp;iacut
 e\;pica de media a alta tensi&amp;oacute\;n\, con un enfoque en la planificaci
 &amp;oacute\;n del dise&amp;ntilde\;o\, la selecci&amp;oacute\;n de equipos y la integ
 raci&amp;oacute\;n del sistema.&lt;/p&gt;\n&lt;p class=&quot;&quot; data-start=&quot;395&quot; data-end=&quot;86
 6&quot;&gt;La sesi&amp;oacute\;n examinar&amp;aacute\; el diagrama unifilar est&amp;aacute\;nd
 ar de una subestaci&amp;oacute\;n\, desglosando las funciones de los component
 es clave como transformadores de potencia\, interruptores autom&amp;aacute\;ti
 cos\, seccionadores\, transformadores de corriente y de tensi&amp;oacute\;n\, 
 pararrayos\, barras colectoras y sistemas de puesta a tierra. Se presta es
 pecial atenci&amp;oacute\;n a la disposici&amp;oacute\;n espacial y la l&amp;oacute\;g
 ica operativa detr&amp;aacute\;s de la ubicaci&amp;oacute\;n de los equipos\, as&amp;i
 acute\; como a la importancia de los m&amp;aacute\;rgenes de seguridad.&lt;/p&gt;\n&lt;
 p class=&quot;&quot; style=&quot;text-align: center\;&quot; data-start=&quot;868&quot; data-end=&quot;897&quot;&gt;Lo
 s participantes explorar&amp;aacute\;n:&lt;/p&gt;\n&lt;ul data-start=&quot;899&quot; data-end=&quot;13
 52&quot;&gt;\n&lt;li class=&quot;&quot; data-start=&quot;899&quot; data-end=&quot;996&quot;&gt;\n&lt;p class=&quot;&quot; data-star
 t=&quot;901&quot; data-end=&quot;996&quot;&gt;El proceso de dise&amp;ntilde\;o paso a paso\, desde la
 s especificaciones el&amp;eacute\;ctricas hasta el dise&amp;ntilde\;o civil&lt;/p&gt;\n&lt;
 /li&gt;\n&lt;li class=&quot;&quot; data-start=&quot;997&quot; data-end=&quot;1090&quot;&gt;\n&lt;p class=&quot;&quot; data-sta
 rt=&quot;999&quot; data-end=&quot;1090&quot;&gt;Configuraciones t&amp;iacute\;picas de subestaciones 
 (por ejemplo\, barra simple\, doble barra\, anillo)&lt;/p&gt;\n&lt;/li&gt;\n&lt;li class=
 &quot;&quot; data-start=&quot;1091&quot; data-end=&quot;1180&quot;&gt;\n&lt;p class=&quot;&quot; data-start=&quot;1093&quot; data-
 end=&quot;1180&quot;&gt;Esquemas de protecci&amp;oacute\;n y control basados en l&amp;oacute\;g
 ica de relevadores e integraci&amp;oacute\;n SCADA&lt;/p&gt;\n&lt;/li&gt;\n&lt;li class=&quot;&quot; da
 ta-start=&quot;1181&quot; data-end=&quot;1282&quot;&gt;\n&lt;p class=&quot;&quot; data-start=&quot;1183&quot; data-end=&quot;
 1282&quot;&gt;Consideraciones de dise&amp;ntilde\;o para la integraci&amp;oacute\;n de ene
 rg&amp;iacute\;as renovables y expansi&amp;oacute\;n futura de la red&lt;/p&gt;\n&lt;/li&gt;\n
 &lt;li class=&quot;&quot; data-start=&quot;1283&quot; data-end=&quot;1352&quot;&gt;\n&lt;p class=&quot;&quot; data-start=&quot;1
 285&quot; data-end=&quot;1352&quot;&gt;Normativas t&amp;eacute\;cnicas que gu&amp;iacute\;an el dise
 &amp;ntilde\;o de subestaciones (IEC/IEEE)&lt;/p&gt;\n&lt;/li&gt;\n&lt;/ul&gt;\n&lt;p class=&quot;&quot; data
 -start=&quot;1354&quot; data-end=&quot;1680&quot;&gt;El taller tambi&amp;eacute\;n aborda las implica
 ciones ambientales y de eficiencia del dise&amp;ntilde\;o de subestaciones en 
 el contexto de las energ&amp;iacute\;as limpias y la modernizaci&amp;oacute\;n de 
 la red. Se enfatiza c&amp;oacute\;mo un dise&amp;ntilde\;o optimizado respalda la 
 confiabilidad del sistema\, reduce las p&amp;eacute\;rdidas de energ&amp;iacute\;a
  y permite una operaci&amp;oacute\;n m&amp;aacute\;s inteligente de la red.&lt;/p&gt;\n&lt;
 p class=&quot;&quot; data-start=&quot;1682&quot; data-end=&quot;1962&quot;&gt;Aunque el contenido est&amp;aacut
 e\; estructurado para ser t&amp;eacute\;cnicamente claro y accesible\, mantien
 e el enfoque en la pr&amp;aacute\;ctica de ingenier&amp;iacute\;a del mundo real\,
  ofreciendo perspectivas sobre c&amp;oacute\;mo las subestaciones funcionan co
 mo nodos cr&amp;iacute\;ticos en las redes de transmisi&amp;oacute\;n y distribuci
 &amp;oacute\;n el&amp;eacute\;ctrica.&lt;/p&gt;\n&lt;p class=&quot;&quot; data-start=&quot;1964&quot; data-end=
 &quot;2180&quot;&gt;Esta sesi&amp;oacute\;n es ideal para quienes buscan una introducci&amp;oac
 ute\;n estructurada a los sistemas de subestaciones\, en relaci&amp;oacute\;n 
 con los objetivos de transici&amp;oacute\;n energ&amp;eacute\;tica y el desarrollo
  de infraestructura de redes inteligentes.&lt;/p&gt;\n&lt;p class=&quot;&quot; data-start=&quot;19
 64&quot; data-end=&quot;2180&quot;&gt;&lt;img style=&quot;display: block\; margin-left: auto\; margi
 n-right: auto\;&quot; src=&quot;https://events.vtools.ieee.org/vtools_ui/media/displ
 ay/2b6562c0-82b2-4bc7-b9ce-5a1f49a5b5b3&quot; width=&quot;259&quot; height=&quot;400&quot;&gt;&lt;/p&gt;\n&lt;p
  class=&quot;&quot; data-start=&quot;1964&quot; data-end=&quot;2180&quot;&gt;&amp;nbsp\;&lt;/p&gt;\n&lt;p class=&quot;&quot; data-
 start=&quot;1964&quot; data-end=&quot;2180&quot;&gt;&amp;nbsp\;&lt;/p&gt;\n&lt;p class=&quot;&quot; data-start=&quot;1964&quot; da
 ta-end=&quot;2180&quot;&gt;&amp;nbsp\;&lt;/p&gt;&lt;br /&gt;&lt;br /&gt;Agenda: &lt;br /&gt;&lt;p&gt;&lt;span style=&quot;font-fa
 mily: &#39;Formata Condensed&#39;\,sans-serif\;&quot;&gt;10:00 - 13:00 horas -&amp;nbsp\;&lt;/spa
 n&gt;&lt;span style=&quot;font-family: &#39;Formata Condensed&#39;\,sans-serif\;&quot;&gt;Taller de D
 ise&amp;ntilde\;o de Subestaciones en el Entorno de las Energ&amp;iacute\;as Limpi
 as &lt;/span&gt;&lt;span style=&quot;font-family: &#39;Formata Condensed&#39;\,sans-serif\;&quot;&gt;(Pr
 imera parte)&lt;/span&gt;&lt;/p&gt;\n&lt;p&gt;&lt;span style=&quot;font-family: &#39;Formata Condensed&#39;\
 ,sans-serif\;&quot;&gt;13:00 - 14:30 horas - Lunch&amp;nbsp\;&lt;/span&gt;&lt;/p&gt;\n&lt;p&gt;&lt;span sty
 le=&quot;font-family: &#39;Formata Condensed&#39;\,sans-serif\;&quot;&gt;14:30 - 16:30 horas - 
 Taller de Dise&amp;ntilde\;o de Subestaciones en el Entorno de las Energ&amp;iacut
 e\;as Limpias (segunda parte)&lt;/span&gt;&lt;/p&gt;\n&lt;p&gt;&amp;nbsp\;&lt;/p&gt;
END:VEVENT
END:VCALENDAR

