BEGIN:VCALENDAR
VERSION:2.0
PRODID:IEEE vTools.Events//EN
CALSCALE:GREGORIAN
BEGIN:VTIMEZONE
TZID:America/New_York
BEGIN:DAYLIGHT
DTSTART:20250309T030000
TZOFFSETFROM:-0500
TZOFFSETTO:-0400
RRULE:FREQ=YEARLY;BYDAY=2SU;BYMONTH=3
TZNAME:EDT
END:DAYLIGHT
BEGIN:STANDARD
DTSTART:20251102T010000
TZOFFSETFROM:-0400
TZOFFSETTO:-0500
RRULE:FREQ=YEARLY;BYDAY=1SU;BYMONTH=11
TZNAME:EST
END:STANDARD
END:VTIMEZONE
BEGIN:VEVENT
DTSTAMP:20250507T162412Z
UID:85072D90-B2B6-472D-BA5D-892850861FD4
DTSTART;TZID=America/New_York:20250416T163000
DTEND;TZID=America/New_York:20250416T180000
DESCRIPTION:Review of Recent Cases\n\nSpeaker(s): \, Glenn Keates\n\nAgenda
 : \n1. Introduction to CTC Engineering\, LLC\n2. What Does an Electrical E
 ngineer in Power Do/Concept-to-Commissioning\n Design of Medium and Hig
 h Voltage Power Systems\n Generation\n Transmission\n Distributio
 n\n Protective Relaying\n Metering\n3. Health Care\n St. Joseph M
 ercy Hospital\n University of Michigan Medical Center\n Beaumont Hos
 pital/Corewell Health/Troy\n4. Industrial\n Dearborn Rouge Plant – Fo
 rd Motor Company/Cleveland-Cliffs\n CMS/Northstar Energy - 660MW Genera
 tion - 230kV/120kV/ 34.5kV\n5. Airport Applications\n DTW/Detroit Metro
 politan Wanye County Airport - 40kV to 120kV/13.8kV\n ATL/Hartsfield Ai
 rport Failure\n LHR/Heathrow Airport Substation Failure\n6. Codes and S
 tandards\n7. Engineering is Fun!!!\n8. Emergency Situations\n9. Questions?
 ??\n\nRoom: 1303\, EECS\, 1301 Beal Ave\, Ann Arbor\, Michigan\, United St
 ates
LOCATION:Room: 1303\, EECS\, 1301 Beal Ave\, Ann Arbor\, Michigan\, United 
 States
ORGANIZER:maanthon@umich.edu
SEQUENCE:8
SUMMARY:High voltage engineering &amp; Special Cases
URL;VALUE=URI:https://events.vtools.ieee.org/m/480292
X-ALT-DESC:Description: &lt;br /&gt;&lt;p&gt;Review of Recent Cases&lt;/p&gt;&lt;br /&gt;&lt;br /&gt;Agen
 da: &lt;br /&gt;&lt;p&gt;1. Introduction to CTC Engineering\, LLC&lt;br&gt;2. What Does an E
 lectrical Engineer in Power Do/Concept-to-Commissioning&lt;br&gt; Design of M
 edium and High Voltage Power Systems&lt;br&gt; Generation&lt;br&gt; Transmission
 &lt;br&gt; Distribution&lt;br&gt; Protective Relaying&lt;br&gt; Metering&lt;br&gt;3. Heal
 th Care&lt;br&gt; St. Joseph Mercy Hospital&lt;br&gt; University of Michigan Med
 ical Center&lt;br&gt; Beaumont Hospital/Corewell Health/Troy&lt;br&gt;4. Industrial
 &lt;br&gt; Dearborn Rouge Plant &amp;ndash\; Ford Motor Company/Cleveland-Cliffs&lt;
 br&gt; CMS/Northstar Energy - 660MW Generation - 230kV/120kV/ 34.5kV&lt;br&gt;5.
  Airport Applications&lt;br&gt; DTW/Detroit Metropolitan Wanye County Airport
  - 40kV to 120kV/13.8kV&lt;br&gt; ATL/Hartsfield Airport Failure&lt;br&gt; LHR/H
 eathrow Airport Substation Failure&lt;br&gt;6. Codes and Standards&lt;br&gt;7. Enginee
 ring is Fun!!!&lt;br&gt;8. Emergency Situations&lt;br&gt;9. Questions???&lt;/p&gt;
END:VEVENT
END:VCALENDAR

