BEGIN:VCALENDAR
VERSION:2.0
PRODID:IEEE vTools.Events//EN
CALSCALE:GREGORIAN
BEGIN:VTIMEZONE
TZID:America/Denver
BEGIN:DAYLIGHT
DTSTART:20250309T030000
TZOFFSETFROM:-0700
TZOFFSETTO:-0600
RRULE:FREQ=YEARLY;BYDAY=2SU;BYMONTH=3
TZNAME:MDT
END:DAYLIGHT
BEGIN:STANDARD
DTSTART:20251102T010000
TZOFFSETFROM:-0600
TZOFFSETTO:-0700
RRULE:FREQ=YEARLY;BYDAY=1SU;BYMONTH=11
TZNAME:MST
END:STANDARD
END:VTIMEZONE
BEGIN:VEVENT
DTSTAMP:20250508T101046Z
UID:A1C5BC04-FAA0-408F-A751-F5EFE7E5702B
DTSTART;TZID=America/Denver:20250512T110000
DTEND;TZID=America/Denver:20250512T131500
DESCRIPTION:🚀 IEEE Pikes Peak Section Monthly of STEM/STEAM TEAMS Outrea
 ch and Mentorship Initiative—Join Us ! (Please Bring Your Laptop!):\n\nT
 he IEEE Pikes Peak Section is excited to kick off a dynamic STEM/STEAM (Sc
 ience\, Technology\, Engineering\, Arts/AI\, and Mathematics) initiative d
 esigned to foster innovation\, mentorship\, and hands-on learning. Whether
  you&#39;re an engineer\, educator\, student\, or industry professional\, this
  initiative is your chance to contribute to shaping the future of STEM/STE
 AM education.\n\n🎉 Be Part of Our Monthly Meeting!\n\nFirst Meeting Vid
 eos and Notes:\n\n📅 Date: Monday\, May 12 2025 (4th Monthly Meeting)\n
 🕔 Time: 11:00 am to 1:15 pm\n📍 Location: 21st Century Library\, ENT 
 Conference Room\n📍 Address: 1175 Chapel Hills Dr.\, Colorado Springs\, 
 CO 80920\n\nBelow are sample demos with more simulations &amp; more advanced d
 emos during the upcoming months\n\n[]\n\n🔹 Limited Seating – Register
  Now!\nOnly 16 spots available for this launch event. Once full\, registra
 tion closes! Future meetings will expand opportunities to participate. Sna
 cks provided!\n-----------------------------------------------------------
 ----\n\n🌟 What’s This All About?\n\nLed by Dr. John Santiago\, past I
 EEE Faculty Advisor (CTU\, 2007–2019) and IEEE Pikes Peak Chair (2019–
 2023)\, this initiative will focus on:\n\n✅ Developing 10 interactive wo
 rkstations for the educational community outreach\, featuring hands-on dem
 onstrations from past student projects and new STEM/STEAM experiments.\n\n
 ✅ Participating in local STEM/STEAM outreach programs\, including:\n\n- 
 Cool Science\n- Engineering Summit\n- Space Foundation – Summer of Disco
 very\n- Job Fairs &amp; More!\n- District Libraries throughout Colorado Spring
 s &amp; Pueblo!\n\n🛠 What’s on the Agenda?\n\n🔹 Squishy Circuits Demo 
 – Build circuits using Play-Doh!\, See how simple Motors Work in Room C1
 \,\n🔹 Develop STEM/STEAM Kits – Brainstorm and test new educational a
 pplications.\n🔹 Review STEAM/STEM Kits in Room C2\n\n🔹Welcome new pe
 ople in Room C3\n\nMain Conference: Empowering members with AI-Assisted Ca
 mtasia (Introductory Tutorials)\, Strategizing and Education of applying m
 ore IEEE grants for next year\, Pyramid of Success (5 layers) to include t
 he Step-Ladder of Self-Leadership and the TEAM Leadership Triangle\, parti
 cipation in COOL Science events\,\n\n-------------------------------------
 --------------------------\n\n🌍 Why This Matters\n\nThis initiative ali
 gns with IEEE Region 5 goals to:\n✔ Build the Student-to-Young Professio
 nal Pipeline\n✔ Develop Leadership Among Volunteers\n✔ Strengthen Indu
 stry Engagement\n\nSupports IEEE Pikes Peak Section Strategic Goals:\n📌
  Enhancing professional skills\n📌 Increasing member engagement\n📌 Su
 pporting workforce development\n📌 Investing in STEM education\n--------
 -------------------------------------------------------\n\n🎤 Meet Our S
 peaker\n\n👨‍🏫 Dr. John Santiago (see [UPDATED: Example Application
  of AI-Assisted Content Generation with Camtasia](https://www.youtube.com/
 watch?v=wHXJDt8yu4Y))\n\n- IEEE Pikes Peak Section Webmaster (2015–Prese
 nt)\n- Former IEEE Faculty Advisor (CTU\, 2007–2019)\n- Past IEEE Pikes 
 Peak Section Chair (2019–2023)\n----------------------------------------
 -----------------------\n\n🚀 This is just the beginning of an exciting 
 journey to inspire\, educate\, and innovate in STEM/STEAM!\n\n📅 Save th
 e Date &amp; Register Today!\n\n🎯 Spots are limited—secure yours now!\n\n
 #STEM #STEAM #IEEE #Education #Engineering #AI #Technology #Mentorship #In
 novation #Leadership #ColoradoSprings\n\nCo-sponsored by: r500\n\nSpeaker(
 s): John\, \n\nAgenda: \n- Introductions\n- STEAM/STEM Demos and Hands-On 
 Activities\n- Scaling the Community Outreach\n- Practical AI Image-Generat
 ion Demos to close the meeting\n- Short Survey\n\nplus\n\n🔹 Squishy Cir
 cuits Demo – Build circuits using Play-Doh!\, See how simple Motors Work
  in Room C1\,\n🔹 Survey who wants STEM/STEAM Kits – Brainstorm and te
 st new educational applications.\n🔹 Review new STEAM/STEM Kits in Room 
 C2\n\n🔹Welcome new people in Room C3\n\nMain Conference: Empowering mem
 bers with AI-Assisted Camtasia (Introductory Tutorials)\, Strategizing and
  Education of applying more IEEE grants for next year\, Pyramid of Success
  (5 layers) to include the Step-Ladder of Self-Leadership and the TEAM Lea
 dership Triangle\, participation in COOL Science events\,\n\nRoom: ENT Con
 ference Room\, Bldg: 21st Century Library\, 1175 Chapel Hills Dr.\, ENT Co
 nference Room\, Colorado Springs\, Colorado\, United States\, 80920
LOCATION:Room: ENT Conference Room\, Bldg: 21st Century Library\, 1175 Chap
 el Hills Dr.\, ENT Conference Room\, Colorado Springs\, Colorado\, United 
 States\, 80920
ORGANIZER:john.santiago@ieee.org
SEQUENCE:13
SUMMARY:STEAM-TEAMS Outreach Initiative: STEAM-TEAMS-RV-Mobile Planning\, D
 IY Demos\, Simulations\, ICP\, Awards Process\, Grant Applications
URL;VALUE=URI:https://events.vtools.ieee.org/m/480457
X-ALT-DESC:Description: &lt;br /&gt;&lt;h1 data-start=&quot;0&quot; data-end=&quot;74&quot;&gt;🚀 IEEE Pi
 kes Peak Section Monthly of STEM/STEAM TEAMS Outreach and Mentorship Initi
 ative&amp;mdash\;Join Us ! (Please Bring Your Laptop!):&amp;nbsp\;&lt;/h1&gt;\n&lt;p data-s
 tart=&quot;76&quot; data-end=&quot;464&quot;&gt;The &lt;strong data-start=&quot;80&quot; data-end=&quot;107&quot;&gt;IEEE P
 ikes Peak Section&lt;/strong&gt; is excited to kick off a dynamic &lt;strong data-s
 tart=&quot;141&quot; data-end=&quot;227&quot;&gt;STEM/STEAM (Science\, Technology\, Engineering\,
  Arts/AI\, and Mathematics) initiative&lt;/strong&gt; designed to &lt;strong data-s
 tart=&quot;240&quot; data-end=&quot;297&quot;&gt;foster innovation\, mentorship\, and hands-on le
 arning.&lt;/strong&gt; Whether you&#39;re an engineer\, educator\, student\, or indu
 stry professional\, this initiative is your chance to contribute to shapin
 g the future of STEM/STEAM education.&lt;/p&gt;\n&lt;h2 data-start=&quot;466&quot; data-end=&quot;
 515&quot;&gt;🎉 &lt;strong data-start=&quot;472&quot; data-end=&quot;513&quot;&gt;Be Part of Our Monthly M
 eeting!&amp;nbsp\;&amp;nbsp\;&lt;/strong&gt;&lt;/h2&gt;\n&lt;p&gt;&lt;strong data-start=&quot;472&quot; data-end=
 &quot;513&quot;&gt;First Meeting Videos and Notes:&amp;nbsp\;&amp;nbsp\;&lt;/strong&gt;&lt;/p&gt;\n&lt;p data-
 start=&quot;517&quot; data-end=&quot;704&quot;&gt;📅 &lt;strong data-start=&quot;520&quot; data-end=&quot;529&quot;&gt;Da
 te:&lt;/strong&gt; Monday\, May 12 2025 (4th Monthly Meeting)&lt;br data-start=&quot;552
 &quot; data-end=&quot;555&quot;&gt;🕔 &lt;strong data-start=&quot;558&quot; data-end=&quot;567&quot;&gt;Time: &lt;/stro
 ng&gt;11:00 am to 1:15 pm&lt;br data-start=&quot;585&quot; data-end=&quot;588&quot;&gt;📍 &lt;strong dat
 a-start=&quot;591&quot; data-end=&quot;604&quot;&gt;Location:&lt;/strong&gt; 21st Century Library\, ENT
  Conference Room&lt;br data-start=&quot;634&quot; data-end=&quot;637&quot;&gt;📍 &lt;strong data-star
 t=&quot;640&quot; data-end=&quot;652&quot;&gt;Address:&lt;/strong&gt; 1175 Chapel Hills Dr.\, Colorado 
 Springs\, CO 80920&lt;/p&gt;\n&lt;p data-start=&quot;517&quot; data-end=&quot;704&quot;&gt;&amp;nbsp\;&lt;/p&gt;\n&lt;p
  data-start=&quot;517&quot; data-end=&quot;704&quot;&gt;Below are sample demos with more simulati
 ons &amp;amp\; more advanced demos during the upcoming months&lt;/p&gt;\n&lt;p data-sta
 rt=&quot;517&quot; data-end=&quot;704&quot;&gt;&lt;img style=&quot;display: block\; margin-left: auto\; m
 argin-right: auto\;&quot; src=&quot;https://events.vtools.ieee.org/vtools_ui/media/d
 isplay/da66ab29-5d86-406d-b5ec-c20e21cf90ce&quot; alt=&quot;&quot; width=&quot;853&quot; height=&quot;48
 0&quot;&gt;&lt;/p&gt;\n&lt;p data-start=&quot;706&quot; data-end=&quot;910&quot;&gt;🔹 &lt;strong data-start=&quot;709&quot; 
 data-end=&quot;744&quot;&gt;Limited Seating &amp;ndash\; Register Now!&lt;/strong&gt;&lt;br data-sta
 rt=&quot;744&quot; data-end=&quot;747&quot;&gt;Only &lt;strong data-start=&quot;752&quot; data-end=&quot;774&quot;&gt;16 sp
 ots available&lt;/strong&gt; for this launch event. Once full\, registration clo
 ses! Future meetings will expand opportunities to participate. &lt;strong dat
 a-start=&quot;888&quot; data-end=&quot;908&quot;&gt;Snacks provided!&lt;/strong&gt;&lt;/p&gt;\n&lt;hr data-start
 =&quot;980&quot; data-end=&quot;985&quot;&gt;\n&lt;h2 data-start=&quot;987&quot; data-end=&quot;1021&quot;&gt;🌟 &lt;strong 
 data-start=&quot;993&quot; data-end=&quot;1019&quot;&gt;What&amp;rsquo\;s This All About?&lt;/strong&gt;&lt;/h
 2&gt;\n&lt;p data-start=&quot;1023&quot; data-end=&quot;1171&quot;&gt;Led by &lt;strong data-start=&quot;1030&quot; 
 data-end=&quot;1051&quot;&gt;Dr. John Santiago&lt;/strong&gt;\, &lt;strong data-start=&quot;1053&quot; dat
 a-end=&quot;1137&quot;&gt;past IEEE Faculty Advisor (CTU\, 2007&amp;ndash\;2019) and IEEE P
 ikes Peak Chair (2019&amp;ndash\;2023)&lt;/strong&gt;\, this initiative will focus o
 n:&lt;/p&gt;\n&lt;p data-start=&quot;1173&quot; data-end=&quot;1362&quot;&gt;✅ Developing &lt;strong data-s
 tart=&quot;1186&quot; data-end=&quot;1217&quot;&gt;10 interactive workstations&lt;/strong&gt; for the &lt;
 strong&gt;educational community outreach&lt;/strong&gt;\, featuring hands-on demons
 trations from past student projects and new STEM/STEAM experiments.&lt;/p&gt;\n&lt;
 p data-start=&quot;1364&quot; data-end=&quot;1435&quot;&gt;✅ Participating in &lt;strong data-star
 t=&quot;1383&quot; data-end=&quot;1421&quot;&gt;local STEM/STEAM outreach programs&lt;/strong&gt;\, inc
 luding:&lt;/p&gt;\n&lt;ul data-start=&quot;1436&quot; data-end=&quot;1556&quot;&gt;\n&lt;li data-start=&quot;1436&quot;
  data-end=&quot;1456&quot;&gt;&lt;strong data-start=&quot;1438&quot; data-end=&quot;1454&quot;&gt;Cool Science&lt;/s
 trong&gt;&lt;/li&gt;\n&lt;li data-start=&quot;1457&quot; data-end=&quot;1483&quot;&gt;&lt;strong data-start=&quot;145
 9&quot; data-end=&quot;1481&quot;&gt;Engineering Summit&lt;/strong&gt;&lt;/li&gt;\n&lt;li data-start=&quot;1484&quot;
  data-end=&quot;1530&quot;&gt;&lt;strong data-start=&quot;1486&quot; data-end=&quot;1528&quot;&gt;Space Foundatio
 n &amp;ndash\; Summer of Discovery&lt;/strong&gt;&lt;/li&gt;\n&lt;li data-start=&quot;1531&quot; data-e
 nd=&quot;1556&quot;&gt;&lt;strong data-start=&quot;1533&quot; data-end=&quot;1554&quot;&gt;Job Fairs &amp;amp\; More!
 &lt;/strong&gt;&lt;/li&gt;\n&lt;li data-start=&quot;1531&quot; data-end=&quot;1556&quot;&gt;&lt;strong data-start=&quot;
 1533&quot; data-end=&quot;1554&quot;&gt;District Libraries throughout Colorado Springs &amp;amp\
 ; Pueblo!&lt;/strong&gt;&lt;/li&gt;\n&lt;/ul&gt;\n&lt;h2 data-start=&quot;1558&quot; data-end=&quot;1591&quot;&gt;🛠
  &lt;strong data-start=&quot;1564&quot; data-end=&quot;1589&quot;&gt;What&amp;rsquo\;s on the Agenda?&lt;/s
 trong&gt;&lt;/h2&gt;\n&lt;p data-start=&quot;1593&quot; data-end=&quot;1785&quot;&gt;🔹 &lt;strong data-start=
 &quot;1596&quot; data-end=&quot;1621&quot;&gt;Squishy Circuits Demo&lt;/strong&gt; &amp;ndash\; Build circu
 its using Play-Doh!\, See how simple Motors Work in Room C1\,&lt;br data-star
 t=&quot;1654&quot; data-end=&quot;1657&quot;&gt;🔹 &lt;strong data-start=&quot;1660&quot; data-end=&quot;1687&quot;&gt;De
 velop STEM/STEAM Kits&lt;/strong&gt; &amp;ndash\; Brainstorm and test new educationa
 l applications.&lt;br data-start=&quot;1739&quot; data-end=&quot;1742&quot;&gt;🔹 &lt;strong&gt;Review S
 TEAM/STEM Kits in Room C2&lt;/strong&gt;&lt;/p&gt;\n&lt;p data-start=&quot;1593&quot; data-end=&quot;178
 5&quot;&gt;&lt;strong&gt;🔹Welcome new people in Room C3&lt;/strong&gt;&lt;/p&gt;\n&lt;p data-start=&quot;
 1593&quot; data-end=&quot;1785&quot;&gt;&lt;strong&gt;Main Conference:&amp;nbsp\; Empowering members w
 ith AI-Assisted Camtasia (Introductory Tutorials)\, Strategizing and Educa
 tion of applying more IEEE grants for next year\, Pyramid of Success (5 la
 yers) to include the Step-Ladder of Self-Leadership and the TEAM Leadershi
 p Triangle\, participation in COOL Science events\,&lt;/strong&gt;&lt;/p&gt;\n&lt;p data-
 start=&quot;1593&quot; data-end=&quot;1785&quot;&gt;&amp;nbsp\;&lt;/p&gt;\n&lt;p data-start=&quot;1593&quot; data-end=&quot;1
 785&quot;&gt;&amp;nbsp\;&lt;/p&gt;\n&lt;hr data-start=&quot;2054&quot; data-end=&quot;2059&quot;&gt;\n&lt;h2 data-start=&quot;
 2061&quot; data-end=&quot;2089&quot;&gt;🌍 &lt;strong data-start=&quot;2067&quot; data-end=&quot;2087&quot;&gt;Why T
 his Matters&lt;/strong&gt;&lt;/h2&gt;\n&lt;p data-start=&quot;2091&quot; data-end=&quot;2288&quot;&gt;This initi
 ative aligns with &lt;strong data-start=&quot;2119&quot; data-end=&quot;2142&quot;&gt;IEEE Region 5 
 goals&lt;/strong&gt; to:&lt;br data-start=&quot;2146&quot; data-end=&quot;2149&quot;&gt;✔ Build the &lt;str
 ong data-start=&quot;2161&quot; data-end=&quot;2203&quot;&gt;Student-to-Young Professional Pipeli
 ne&lt;/strong&gt;&lt;br data-start=&quot;2203&quot; data-end=&quot;2206&quot;&gt;✔ Develop &lt;strong data-
 start=&quot;2216&quot; data-end=&quot;2247&quot;&gt;Leadership Among Volunteers&lt;/strong&gt;&lt;br data-
 start=&quot;2247&quot; data-end=&quot;2250&quot;&gt;✔ Strengthen &lt;strong data-start=&quot;2263&quot; data
 -end=&quot;2286&quot;&gt;Industry Engagement&lt;/strong&gt;&lt;/p&gt;\n&lt;p data-start=&quot;2290&quot; data-en
 d=&quot;2501&quot;&gt;&lt;strong data-start=&quot;2290&quot; data-end=&quot;2343&quot;&gt;Supports IEEE Pikes Pea
 k Section Strategic Goals:&lt;/strong&gt;&lt;br data-start=&quot;2343&quot; data-end=&quot;2346&quot;&gt;
 📌 &lt;strong data-start=&quot;2349&quot; data-end=&quot;2382&quot;&gt;Enhancing professional skil
 ls&lt;/strong&gt;&lt;br data-start=&quot;2382&quot; data-end=&quot;2385&quot;&gt;📌 &lt;strong data-start=&quot;
 2388&quot; data-end=&quot;2420&quot;&gt;Increasing member engagement&lt;/strong&gt;&lt;br data-start=
 &quot;2420&quot; data-end=&quot;2423&quot;&gt;📌 &lt;strong data-start=&quot;2426&quot; data-end=&quot;2462&quot;&gt;Supp
 orting workforce development&lt;/strong&gt;&lt;br data-start=&quot;2462&quot; data-end=&quot;2465&quot;
 &gt;📌 &lt;strong data-start=&quot;2468&quot; data-end=&quot;2499&quot;&gt;Investing in STEM educatio
 n&lt;/strong&gt;&lt;/p&gt;\n&lt;hr data-start=&quot;2503&quot; data-end=&quot;2508&quot;&gt;\n&lt;h2 data-start=&quot;25
 10&quot; data-end=&quot;2538&quot;&gt;🎤 &lt;strong data-start=&quot;2516&quot; data-end=&quot;2536&quot;&gt;Meet Ou
 r Speaker&lt;/strong&gt;&lt;/h2&gt;\n&lt;p data-start=&quot;2540&quot; data-end=&quot;2569&quot;&gt;👨&amp;zwj\;
 🏫 &lt;strong data-start=&quot;2546&quot; data-end=&quot;2567&quot;&gt;Dr. John Santiago&amp;nbsp\; (s
 ee &lt;a href=&quot;https://www.youtube.com/watch?v=wHXJDt8yu4Y&quot;&gt;UPDATED: Example 
 Application of AI-Assisted Content Generation with Camtasia&lt;/a&gt;)&lt;/strong&gt;&lt;
 /p&gt;\n&lt;ul data-start=&quot;2570&quot; data-end=&quot;2734&quot;&gt;\n&lt;li data-start=&quot;2570&quot; data-en
 d=&quot;2626&quot;&gt;IEEE Pikes Peak Section &lt;strong data-start=&quot;2596&quot; data-end=&quot;2624&quot;
 &gt;Webmaster (2015&amp;ndash\;Present)&lt;/strong&gt;&lt;/li&gt;\n&lt;li data-start=&quot;2627&quot; data
 -end=&quot;2679&quot;&gt;Former IEEE Faculty Advisor &lt;strong data-start=&quot;2657&quot; data-end
 =&quot;2677&quot;&gt;(CTU\, 2007&amp;ndash\;2019)&lt;/strong&gt;&lt;/li&gt;\n&lt;li data-start=&quot;2680&quot; data
 -end=&quot;2734&quot;&gt;Past IEEE Pikes Peak Section &lt;strong data-start=&quot;2711&quot; data-en
 d=&quot;2732&quot;&gt;Chair (2019&amp;ndash\;2023)&lt;/strong&gt;&lt;/li&gt;\n&lt;/ul&gt;\n&lt;hr data-start=&quot;27
 36&quot; data-end=&quot;2741&quot;&gt;\n&lt;p data-start=&quot;2743&quot; data-end=&quot;2850&quot;&gt;🚀 &lt;strong da
 ta-start=&quot;2746&quot; data-end=&quot;2848&quot;&gt;This is just the beginning of an exciting 
 journey to inspire\, educate\, and innovate in STEM/STEAM!&lt;/strong&gt;&lt;/p&gt;\n&lt;
 p data-start=&quot;2852&quot; data-end=&quot;2942&quot;&gt;📅 &lt;strong data-start=&quot;2855&quot; data-en
 d=&quot;2890&quot;&gt;Save the Date &amp;amp\; Register Today!&lt;/strong&gt;&lt;/p&gt;\n&lt;p data-start=
 &quot;2944&quot; data-end=&quot;2988&quot;&gt;🎯 &lt;strong data-start=&quot;2947&quot; data-end=&quot;2986&quot;&gt;Spot
 s are limited&amp;mdash\;secure yours now!&lt;/strong&gt;&lt;/p&gt;\n&lt;p data-start=&quot;2990&quot; 
 data-end=&quot;3101&quot; data-is-last-node=&quot;&quot; data-is-only-node=&quot;&quot;&gt;#STEM #STEAM #IE
 EE #Education #Engineering #AI #Technology #Mentorship #Innovation #Leader
 ship #ColoradoSprings&lt;/p&gt;&lt;br /&gt;&lt;br /&gt;Agenda: &lt;br /&gt;&lt;ul&gt;\n&lt;li&gt;&lt;strong&gt;Intro
 ductions&lt;/strong&gt;&lt;/li&gt;\n&lt;li&gt;&lt;strong&gt;STEAM/STEM Demos and Hands-On Activiti
 es&lt;/strong&gt;&lt;/li&gt;\n&lt;li&gt;&lt;strong&gt;Scaling the Community Outreach&lt;/strong&gt;&lt;/li&gt;
 \n&lt;li&gt;&lt;strong&gt;Practical AI Image-Generation Demos to close the meeting&lt;/st
 rong&gt;&lt;/li&gt;\n&lt;li&gt;&lt;strong&gt;Short Survey&lt;/strong&gt;&lt;/li&gt;\n&lt;/ul&gt;\n&lt;p&gt;&lt;strong&gt;plus
 &lt;/strong&gt;&lt;/p&gt;\n&lt;p data-start=&quot;1593&quot; data-end=&quot;1785&quot;&gt;🔹 &lt;strong data-star
 t=&quot;1596&quot; data-end=&quot;1621&quot;&gt;Squishy Circuits Demo&lt;/strong&gt; &amp;ndash\; Build cir
 cuits using Play-Doh!\, See how simple Motors Work in Room C1\,&lt;br data-st
 art=&quot;1654&quot; data-end=&quot;1657&quot;&gt;🔹 &lt;strong data-start=&quot;1660&quot; data-end=&quot;1687&quot;&gt;
 Survey who wants STEM/STEAM Kits&lt;/strong&gt; &amp;ndash\; Brainstorm and test new
  educational applications.&lt;br data-start=&quot;1739&quot; data-end=&quot;1742&quot;&gt;🔹 &lt;stro
 ng&gt;Review new STEAM/STEM Kits in Room C2&lt;/strong&gt;&lt;/p&gt;\n&lt;p data-start=&quot;1593
 &quot; data-end=&quot;1785&quot;&gt;&lt;strong&gt;🔹Welcome new people in Room C3&lt;/strong&gt;&lt;/p&gt;\n
 &lt;p data-start=&quot;1593&quot; data-end=&quot;1785&quot;&gt;&lt;strong&gt;Main Conference:&amp;nbsp\; Empow
 ering members with AI-Assisted Camtasia (Introductory Tutorials)\, Strateg
 izing and Education of applying more IEEE grants for next year\, Pyramid o
 f Success (5 layers) to include the Step-Ladder of Self-Leadership and the
  TEAM Leadership Triangle\, participation in COOL Science events\,&lt;/strong
 &gt;&lt;/p&gt;
END:VEVENT
END:VCALENDAR

