BEGIN:VCALENDAR
VERSION:2.0
PRODID:IEEE vTools.Events//EN
CALSCALE:GREGORIAN
BEGIN:VTIMEZONE
TZID:America/New_York
BEGIN:DAYLIGHT
DTSTART:20250309T030000
TZOFFSETFROM:-0500
TZOFFSETTO:-0400
RRULE:FREQ=YEARLY;BYDAY=2SU;BYMONTH=3
TZNAME:EDT
END:DAYLIGHT
BEGIN:STANDARD
DTSTART:20251102T010000
TZOFFSETFROM:-0400
TZOFFSETTO:-0500
RRULE:FREQ=YEARLY;BYDAY=1SU;BYMONTH=11
TZNAME:EST
END:STANDARD
END:VTIMEZONE
BEGIN:VEVENT
DTSTAMP:20250420T134222Z
UID:A83BCA6B-3801-485D-92C7-94E50E2FBF02
DTSTART;TZID=America/New_York:20250419T110000
DTEND;TZID=America/New_York:20250419T143000
DESCRIPTION:This is the inaugural IEEE CT Section Capstone Competition for 
 IEEE-related senior projects in Connecticut colleges and universities.\nTh
 e competition will take place at a different venue from initially advertis
 ed:\n\nRoom 808CD Chapman Hall\nCT State Community College\, Middlesex\, C
 T 06457\n\nPresentations will be talks + slides\, not posters\, so be prep
 ared for that format.\n\n11:00 Arrive/lunch/Social time\n11:30 Brief Intro
 duction\n11:35 Mars Rover\, University of New Haven\n12:05 Taurus - A Quad
 rupedal Robot Platform\, University of Hartford\n12:35 Design and implemen
 tation of a sign language robotic hand\, Trinity College\n1:05 Power Quali
 ty Monitoring for Critical Equipment\, University of Connecticut\n1:35 Jud
 ges Consult\, Social time\n1:45 Awards and Farewell\n\nAim for each presen
 tation to be for 15 minutes with 5 to 10 minutes for questions.\n\nWhile d
 emonstrations are encouraged\, be aware that each team only has a limited 
 time to present so have a backup video or other way to show the work.\n\nN
 otes:\n\n- Lunch sandwiches will be provided. Please let us know if there 
 are any dietary restrictions to be catered for.\n- Each student can claim 
 a $50 &quot;mileage&quot; reimbursement for travel to the event.\n- Parking is best 
 had at the bottom car park (green rectangle). The entrance for this parkin
 g is at the green circle.\n- The venue is Chapman Hall (magenta rectangle)
 .\n- There is extra parking at the orange rectangle.\n\n[]\n\nRoom: 808CD\
 , Bldg: Chapman \, 100 Training Hill Rd\, Middletown\, Connecticut\, Unite
 d States\, 06457
LOCATION:Room: 808CD\, Bldg: Chapman \, 100 Training Hill Rd\, Middletown\,
  Connecticut\, United States\, 06457
ORGANIZER:p.kootsookos@ieee.org
SEQUENCE:20
SUMMARY:IEEE CT Section Capstone Competition
URL;VALUE=URI:https://events.vtools.ieee.org/m/480563
X-ALT-DESC:Description: &lt;br /&gt;&lt;p&gt;This is the inaugural IEEE CT Section Caps
 tone Competition for IEEE-related senior projects in Connecticut colleges 
 and universities.&lt;/p&gt;\n&lt;div&gt;The competition will take place at a different
  venue from initially advertised:&lt;/div&gt;\n&lt;div&gt;&amp;nbsp\;&lt;/div&gt;\n&lt;div style=&quot;m
 argin-left: 40px\;&quot;&gt;Room 808CD Chapman Hall&lt;/div&gt;\n&lt;div style=&quot;margin-left
 : 40px\;&quot;&gt;CT State Community College\, Middlesex\, CT 06457&lt;/div&gt;\n&lt;div&gt;&amp;n
 bsp\;&lt;/div&gt;\n&lt;div&gt;Presentations will be talks + slides\, not posters\, so 
 be prepared for that format.&lt;/div&gt;\n&lt;div&gt;\n&lt;div&gt;&amp;nbsp\;&lt;/div&gt;\n&lt;div style=
 &quot;margin-left: 40px\;&quot;&gt;11:00 Arrive/lunch/Social time&lt;br&gt;11:30 Brief Introd
 uction&lt;/div&gt;\n&lt;div style=&quot;margin-left: 40px\;&quot;&gt;11:35 &lt;em&gt;Mars Rover&lt;/em&gt;\,
  University of New Haven&lt;/div&gt;\n&lt;div style=&quot;margin-left: 40px\;&quot;&gt;12:05&amp;nbs
 p\;&lt;em&gt;Taurus - A Quadrupedal Robot Platform&lt;/em&gt;\, University of Hartford
 &lt;br&gt;12:35&amp;nbsp\;&lt;em&gt;Design and implementation of a sign language robotic h
 and&lt;/em&gt;\, Trinity College&lt;/div&gt;\n&lt;div style=&quot;margin-left: 40px\;&quot;&gt;1:05&amp;nb
 sp\;&lt;em&gt;Power Quality Monitoring for Critical Equipment&lt;/em&gt;\, University 
 of Connecticut&lt;br&gt;1:35 Judges Consult\, Social time&lt;br&gt;1:45 Awards and Far
 ewell&lt;/div&gt;\n&lt;div style=&quot;margin-left: 40px\;&quot;&gt;&amp;nbsp\;&lt;/div&gt;\n&lt;/div&gt;\n&lt;div&gt;
 Aim for each presentation to be for 15 minutes with 5 to 10 minutes for qu
 estions.&lt;/div&gt;\n&lt;div&gt;&amp;nbsp\;&lt;/div&gt;\n&lt;div&gt;While demonstrations are encourag
 ed\, be aware that each team only has a limited time to present so have a 
 backup video or other way to show the work.&lt;/div&gt;\n&lt;div&gt;&amp;nbsp\;&lt;/div&gt;\n&lt;di
 v&gt;Notes:&lt;/div&gt;\n&lt;div&gt;\n&lt;ul&gt;\n&lt;li&gt;Lunch sandwiches will be provided. Please
  let us know if there are any dietary restrictions to be catered for.&lt;/li&gt;
 \n&lt;li&gt;Each student can claim a $50 &quot;mileage&quot; reimbursement for travel to t
 he event.&amp;nbsp\;&lt;/li&gt;\n&lt;li&gt;Parking is best had at the bottom car park (gre
 en rectangle). The entrance for this parking is at the green circle.&lt;/li&gt;\
 n&lt;li&gt;The venue is Chapman Hall (magenta rectangle).&lt;/li&gt;\n&lt;li&gt;There is ext
 ra parking at the orange rectangle.&lt;/li&gt;\n&lt;/ul&gt;\n&lt;p&gt;&lt;img src=&quot;https://even
 ts.vtools.ieee.org/vtools_ui/media/display/d5fb6b27-f1a9-487f-84c7-181674f
 11180&quot; alt=&quot;&quot; width=&quot;988&quot; height=&quot;852&quot;&gt;&lt;/p&gt;\n&lt;/div&gt;\n&lt;div&gt;&amp;nbsp\;&lt;/div&gt;\n&lt;
 div&gt;&amp;nbsp\;&lt;/div&gt;
END:VEVENT
END:VCALENDAR

