BEGIN:VCALENDAR
VERSION:2.0
PRODID:IEEE vTools.Events//EN
CALSCALE:GREGORIAN
BEGIN:VTIMEZONE
TZID:Asia/Kolkata
BEGIN:STANDARD
DTSTART:19451014T230000
TZOFFSETFROM:+0630
TZOFFSETTO:+0530
TZNAME:IST
END:STANDARD
END:VTIMEZONE
BEGIN:VEVENT
DTSTAMP:20250411T133158Z
UID:51821918-7F18-4A29-9CDE-A1769B1BA996
DTSTART;TZID=Asia/Kolkata:20250321T081200
DTEND;TZID=Asia/Kolkata:20250322T181200
DESCRIPTION:The 3rd International Conference on “Device Intelligence\, Co
 mputing and Communication Technologies” (DICCT-2025) aims to bring toget
 her intellectuals\, leading scientists\, research scholars\, and students 
 across the globe to exchange and share their research ideas in the fields 
 of device intelligence\, computing technologies\, next generation communic
 ation and networking. The growing need to accommodate an exponentially inc
 reasing number of intelligent devices along with maintaining highly effici
 ent communication system laid down the foundation behind the motivation fo
 r this conference. Although\, a considerable research effort has been made
  by numerous young and experienced minds in these domains\, but still ther
 e is much more waiting for the community to get benefitted.\n\nCo-sponsore
 d by: IEEE UP Section\n\nSpeaker(s): \, Shri L C Mangal\, Prof. R. K. Sinh
 a\, Prof. Manav R. Bhatnagar\, Prof. Sudeb Dasgupta\, Dr. Ashutosh Dutta\,
  Prof. (Dr.) M. Jaleel Akhtar\, Dr. Sanjay Kumar\, Prof. Mahesh Kumar\, Pr
 of. Ghanshyam Singh\n\nAgenda: \nSelected themes for the DICCT-2025 procee
 dings are mainly comprising of the topics focusing on the new trends in th
 e field of Device Intelligence\, Computing and Communication Technologies.
 \n\nDICCT-2025 does not include any non-engineering topics outside the sco
 pe of IEEE Xplore. When submitting papers\, the topics must be within the 
 scope of the conference and failure to meet this requirement could result 
 in a rejection of your paper.\n\nFollowing are the topics to be included i
 n call for paper:\n\nDevice Intelligence\n\n- Electronic Devices\n- VLSI D
 esign\n- Biosensors and Bioelectronics\n- Opto-Electronic Devices\n- RF ME
 MS devices\n- Flexible Electronics\n- Actuators\, Sensing Devices\n- Smart
  Electronic Materials\n- Sensor technologies\n\nComputing Technologies\n\n
 - Embedded Systems\n- Intelligent Robotics\n- Internet of Things and its a
 pplications\n- Artificial Intelligence and applications\n- Soft Computing\
 n- Neural Network and Machine Learning\n- Speech Signal Processing\n- Imag
 e and Video Processing\n- Biomedical Signal computing\n- Convex Optimizati
 on\n- Metaheuristic Optimization techniques and applications\n\nNext gener
 ation Communication and Networking\n\n- MIMO Systems\n- 5G and beyond comm
 unication technologies\n- Advances in Microwave Communications\n- Wireless
  sensors and Ad Hoc Networks\n- Antenna design for advance communication s
 ystems\n- Vehicular Communications and Networks\n- Software Defined Radio\
 n- Cognitive Radio and Spectrum Management\n- Intelligent Protocols for Co
 mmunication Systems and Networks\n- Machine-to-Machine Communications\n- C
 ommunication Networks\n\nBldg: Department of Electronics and Communication
  Engineering\, Graphic Era (Deemed to be University)\, 566/6 Bell Road Cle
 ment Town\, Dehradun\, Uttaranchal\, India\, 248002\, Virtual: https://eve
 nts.vtools.ieee.org/m/480745
LOCATION:Bldg: Department of Electronics and Communication Engineering\, Gr
 aphic Era (Deemed to be University)\, 566/6 Bell Road Clement Town\, Dehra
 dun\, Uttaranchal\, India\, 248002\, Virtual: https://events.vtools.ieee.o
 rg/m/480745
ORGANIZER:gverma.ece@geu.ac.in
SEQUENCE:23
SUMMARY: 3rd International Conference on “Device Intelligence\, Computing
  and Communication Technologies” (DICCT-2025) 
URL;VALUE=URI:https://events.vtools.ieee.org/m/480745
X-ALT-DESC:Description: &lt;br /&gt;&lt;p&gt;The 3rd International Conference on &amp;ldquo
 \;Device Intelligence\, Computing and Communication Technologies&amp;rdquo\; (
 DICCT-2025) aims to bring together intellectuals\, leading scientists\, re
 search scholars\, and students across the globe to exchange and share thei
 r research ideas in the fields of device intelligence\, computing technolo
 gies\, next generation communication and networking. The growing need to a
 ccommodate an exponentially increasing number of intelligent devices along
  with maintaining highly efficient communication system laid down the foun
 dation behind the motivation for this conference. Although\, a considerabl
 e research effort has been made by numerous young and experienced minds in
  these domains\, but still there is much more waiting for the community to
  get benefitted.&lt;/p&gt;&lt;br /&gt;&lt;br /&gt;Agenda: &lt;br /&gt;&lt;div class=&quot;elementor-elemen
 t elementor-element-bb1bfa3 elementor-widget elementor-widget-text-editor&quot;
  data-id=&quot;bb1bfa3&quot; data-element_type=&quot;widget&quot; data-widget_type=&quot;text-edito
 r.default&quot;&gt;\n&lt;div class=&quot;elementor-widget-container&quot;&gt;\n&lt;p&gt;Selected themes 
 for the DICCT-2025 proceedings are mainly comprising of the topics focusin
 g on the new trends in the field of Device Intelligence\, Computing and Co
 mmunication Technologies.&amp;nbsp\;&lt;/p&gt;\n&lt;p&gt;&lt;strong&gt;DICCT-2025 does not inclu
 de any non-engineering topics outside the scope of IEEE Xplore.&amp;nbsp\; Whe
 n submitting papers\, the topics must be within the scope of the conferenc
 e and failure to meet this requirement could result in a rejection of your
  paper.&lt;/strong&gt;&lt;/p&gt;\n&lt;p&gt;Following are the topics to be included in call f
 or paper:&lt;/p&gt;\n&lt;/div&gt;\n&lt;/div&gt;\n&lt;section class=&quot;elementor-section elementor
 -inner-section elementor-element elementor-element-d003f6b elementor-secti
 on-boxed elementor-section-height-default elementor-section-height-default
 &quot; data-id=&quot;d003f6b&quot; data-element_type=&quot;section&quot;&gt;\n&lt;div class=&quot;elementor-co
 ntainer elementor-column-gap-default&quot;&gt;\n&lt;div class=&quot;elementor-column eleme
 ntor-col-50 elementor-inner-column elementor-element elementor-element-f77
 e2dd&quot; data-id=&quot;f77e2dd&quot; data-element_type=&quot;column&quot;&gt;\n&lt;div class=&quot;elementor
 -widget-wrap elementor-element-populated&quot;&gt;\n&lt;div class=&quot;elementor-element 
 elementor-element-0619524 elementor-widget elementor-widget-text-editor&quot; d
 ata-id=&quot;0619524&quot; data-element_type=&quot;widget&quot; data-widget_type=&quot;text-editor.
 default&quot;&gt;\n&lt;div class=&quot;elementor-widget-container&quot;&gt;\n&lt;p&gt;&lt;strong&gt;Device Int
 elligence&lt;/strong&gt;&lt;/p&gt;\n&lt;ol&gt;\n&lt;li&gt;Electronic Devices&lt;/li&gt;\n&lt;li&gt;VLSI Design
 &lt;/li&gt;\n&lt;li&gt;Biosensors and Bioelectronics&lt;/li&gt;\n&lt;li&gt;Opto-Electronic Devices
 &lt;/li&gt;\n&lt;li&gt;RF MEMS devices&lt;/li&gt;\n&lt;li&gt;Flexible Electronics&lt;/li&gt;\n&lt;li&gt;Actuat
 ors\, Sensing Devices&lt;/li&gt;\n&lt;li&gt;Smart Electronic Materials&lt;/li&gt;\n&lt;li&gt;Senso
 r technologies&lt;/li&gt;\n&lt;/ol&gt;\n&lt;/div&gt;\n&lt;/div&gt;\n&lt;/div&gt;\n&lt;/div&gt;\n&lt;div class=&quot;el
 ementor-column elementor-col-50 elementor-inner-column elementor-element e
 lementor-element-43bf756&quot; data-id=&quot;43bf756&quot; data-element_type=&quot;column&quot;&gt;\n&lt;
 div class=&quot;elementor-widget-wrap elementor-element-populated&quot;&gt;\n&lt;div class
 =&quot;elementor-element elementor-element-02c5ba8 elementor-widget elementor-w
 idget-text-editor&quot; data-id=&quot;02c5ba8&quot; data-element_type=&quot;widget&quot; data-widge
 t_type=&quot;text-editor.default&quot;&gt;\n&lt;div class=&quot;elementor-widget-container&quot;&gt;\n&lt;
 p&gt;&lt;strong&gt;Computing Technologies&lt;/strong&gt;&lt;/p&gt;\n&lt;ul&gt;\n&lt;li&gt;Embedded Systems&lt;
 /li&gt;\n&lt;li&gt;Intelligent Robotics&lt;/li&gt;\n&lt;li&gt;Internet of Things and its applic
 ations&lt;/li&gt;\n&lt;li&gt;Artificial Intelligence and applications&lt;/li&gt;\n&lt;li&gt;Soft C
 omputing&lt;/li&gt;\n&lt;li&gt;Neural Network and Machine Learning&lt;/li&gt;\n&lt;li&gt;Speech Si
 gnal Processing&lt;/li&gt;\n&lt;li&gt;Image and Video Processing&lt;/li&gt;\n&lt;li&gt;Biomedical 
 Signal computing&lt;/li&gt;\n&lt;li&gt;Convex Optimization&lt;/li&gt;\n&lt;li&gt;Metaheuristic Opt
 imization techniques and applications&lt;/li&gt;\n&lt;/ul&gt;\n&lt;/div&gt;\n&lt;/div&gt;\n&lt;/div&gt;\
 n&lt;/div&gt;\n&lt;/div&gt;\n&lt;/section&gt;\n&lt;div class=&quot;elementor-element elementor-eleme
 nt-6543770 elementor-widget elementor-widget-text-editor&quot; data-id=&quot;6543770
 &quot; data-element_type=&quot;widget&quot; data-widget_type=&quot;text-editor.default&quot;&gt;\n&lt;div
  class=&quot;elementor-widget-container&quot;&gt;\n&lt;p&gt;&lt;strong&gt;Next generation Communica
 tion and Networking&lt;/strong&gt;&lt;/p&gt;\n&lt;ul&gt;\n&lt;li&gt;MIMO Systems&lt;/li&gt;\n&lt;li&gt;5G and 
 beyond communication technologies&lt;/li&gt;\n&lt;li&gt;Advances in Microwave Communic
 ations&lt;/li&gt;\n&lt;li&gt;Wireless sensors and Ad Hoc Networks&lt;/li&gt;\n&lt;li&gt;Antenna de
 sign for advance communication systems&lt;/li&gt;\n&lt;li&gt;Vehicular Communications 
 and Networks&lt;/li&gt;\n&lt;li&gt;Software Defined Radio&lt;/li&gt;\n&lt;li&gt;Cognitive Radio an
 d Spectrum Management&lt;/li&gt;\n&lt;li&gt;Intelligent Protocols for Communication Sy
 stems and Networks&lt;/li&gt;\n&lt;li&gt;Machine-to-Machine Communications&lt;/li&gt;\n&lt;li&gt;C
 ommunication Networks&lt;/li&gt;\n&lt;/ul&gt;\n&lt;/div&gt;\n&lt;/div&gt;
END:VEVENT
END:VCALENDAR

