BEGIN:VCALENDAR
VERSION:2.0
PRODID:IEEE vTools.Events//EN
CALSCALE:GREGORIAN
BEGIN:VTIMEZONE
TZID:America/New_York
BEGIN:DAYLIGHT
DTSTART:20250309T030000
TZOFFSETFROM:-0500
TZOFFSETTO:-0400
RRULE:FREQ=YEARLY;BYDAY=2SU;BYMONTH=3
TZNAME:EDT
END:DAYLIGHT
BEGIN:STANDARD
DTSTART:20251102T010000
TZOFFSETFROM:-0400
TZOFFSETTO:-0500
RRULE:FREQ=YEARLY;BYDAY=1SU;BYMONTH=11
TZNAME:EST
END:STANDARD
END:VTIMEZONE
BEGIN:VEVENT
DTSTAMP:20250827T011208Z
UID:0A32CBE7-0DEE-4210-84F8-DA7C7B3FE74E
DTSTART;TZID=America/New_York:20250628T090000
DTEND;TZID=America/New_York:20250628T140000
DESCRIPTION:Join us in the 2025 WIE Day Celebrations for the IEEE TT Branch
 !\n\n👩🏽‍💻✨ WIE Day 2025 is here! ✨👩🏽‍💻\nOn June 
 28th\, we gather at UTT Chaguanas to spotlight the incredible women shapin
 g the future of engineering\, innovation\, and cybersecurity.\n\nWe&#39;re pro
 ud to join global WIE Day 2025 celebrations\, which run from June 23 to Ju
 ly 7\, under the Institute of Electrical and Electronics Engineer (IEEE) T
 his initiative began 28 years ago on June 29\, 1997 - since then\, WIE Day
  serves to highlight the many women\, not just within the engineering indu
 stry\, but STEM as a whole who are leaders in research and innovation\, en
 trepreneurship\, and more! 🌍💪🏽\n\nThis year&#39;s feature address\, &quot;
 Illuminating AI Governance: Applying Standards to Secure the Future of Cyb
 erspace\,&quot; explores one of the most critical conversations of our time\, h
 ow we guide the development of AI with accountability\, ethics\, and resil
 ience at its core. 🔐🤖\n\nJoin us as we:\n✅ Celebrate women in engi
 neering\n✅ Dive into tech leadership and AI policy\n✅ Connect across g
 enerations and disciplines\n\nThis is a call for: engineers\, students\, i
 nnovators.\n\n📅 28th June 2025 | 9am to 12pm\n📍 UTT Chaguanas\, Trin
 idad and Tobago\n\nRegister here: https://forms.gle/ZYBzCi9xdtd6ksCz6\n\nS
 peaker(s): Kwailan Bridgewater\, \n\nThe University of Trinidad and Tobago
  \, Chaguanas \, Trinidad &amp; Tobago\, Trinidad &amp; Tobago\, 000000\, Virtual:
  https://events.vtools.ieee.org/m/480906
LOCATION:The University of Trinidad and Tobago \, Chaguanas \, Trinidad &amp; T
 obago\, Trinidad &amp; Tobago\, 000000\, Virtual: https://events.vtools.ieee.o
 rg/m/480906
ORGANIZER:ieee.yptt@gmail.com
SEQUENCE:11
SUMMARY:IEEE TT Women in Engineering Day Celebrations 2025 - Illuminating A
 I Governance: Applying Standards to Secure the Future of Cyberspace
URL;VALUE=URI:https://events.vtools.ieee.org/m/480906
X-ALT-DESC:Description: &lt;br /&gt;&lt;p&gt;Join us in the 2025 WIE Day Celebrations f
 or the IEEE TT Branch!&amp;nbsp\;&lt;/p&gt;\n&lt;p&gt;👩🏽&amp;zwj\;💻✨ WIE Day 2025 i
 s here! ✨👩🏽&amp;zwj\;💻&lt;br&gt;On June 28th\, we gather at UTT Chaguanas
  to spotlight the incredible women shaping the future of engineering\, inn
 ovation\, and cybersecurity.&lt;/p&gt;\n&lt;p&gt;We&#39;re proud to join global WIE Day 20
 25 celebrations\, which run from June 23 to July 7\, under the Institute o
 f Electrical and Electronics Engineer (IEEE) This initiative began 28 year
 s ago on June 29\, 1997 - since then\, WIE Day serves to highlight the man
 y women\, not just within the engineering industry\, but STEM as a whole w
 ho are leaders in research and innovation\, entrepreneurship\, and more! 
 🌍💪🏽&lt;/p&gt;\n&lt;p&gt;This year&#39;s feature address\, &quot;Illuminating AI Govern
 ance: Applying Standards to Secure the Future of Cyberspace\,&quot; explores on
 e of the most critical conversations of our time\, how we guide the develo
 pment of AI with accountability\, ethics\, and resilience at its core. 
 🔐🤖&lt;/p&gt;\n&lt;p&gt;Join us as we:&lt;br&gt;✅ Celebrate women in engineering&lt;br&gt;
 ✅ Dive into tech leadership and AI policy&lt;br&gt;✅ Connect across generati
 ons and disciplines&lt;/p&gt;\n&lt;p&gt;This is a call for: engineers\, students\, inn
 ovators.&lt;/p&gt;\n&lt;p&gt;📅 28th June 2025 | 9am to 12pm&lt;br&gt;📍 UTT Chaguanas\,
  Trinidad and Tobago&lt;/p&gt;\n&lt;p&gt;Register here: https://forms.gle/ZYBzCi9xdtd6
 ksCz6&lt;/p&gt;
END:VEVENT
END:VCALENDAR

