BEGIN:VCALENDAR
VERSION:2.0
PRODID:IEEE vTools.Events//EN
CALSCALE:GREGORIAN
BEGIN:VTIMEZONE
TZID:America/New_York
BEGIN:DAYLIGHT
DTSTART:20250309T030000
TZOFFSETFROM:-0500
TZOFFSETTO:-0400
RRULE:FREQ=YEARLY;BYDAY=2SU;BYMONTH=3
TZNAME:EDT
END:DAYLIGHT
BEGIN:STANDARD
DTSTART:20251102T010000
TZOFFSETFROM:-0400
TZOFFSETTO:-0500
RRULE:FREQ=YEARLY;BYDAY=1SU;BYMONTH=11
TZNAME:EST
END:STANDARD
END:VTIMEZONE
BEGIN:VEVENT
DTSTAMP:20250501T114021Z
UID:557CDD14-3F1D-414E-95D9-E30E26BC1D7B
DTSTART;TZID=America/New_York:20250428T170000
DTEND;TZID=America/New_York:20250428T180000
DESCRIPTION:Coastal South Carolina Section April ExCom\n\nIn-Person at the 
 Spring Social!\n\nAgenda: \n0500 Attendance\n\n0505. Old Business\n\n0530 
 New Business\n\n0600 Adjourn\n\nBenny Rinaldi&#39;s\, 1079 E Montague Ave\, No
 rth Charleston\, South Carolina\, United States\, 29405
LOCATION:Benny Rinaldi&#39;s\, 1079 E Montague Ave\, North Charleston\, South C
 arolina\, United States\, 29405
ORGANIZER:nttsai@iee.org
SEQUENCE:12
SUMMARY:April ExCom
URL;VALUE=URI:https://events.vtools.ieee.org/m/481013
X-ALT-DESC:Description: &lt;br /&gt;&lt;p&gt;Coastal South Carolina Section April ExCom
 &lt;/p&gt;\n&lt;p&gt;In-Person at the Spring Social!&lt;/p&gt;&lt;br /&gt;&lt;br /&gt;Agenda: &lt;br /&gt;&lt;p&gt;0
 500&amp;nbsp\; Attendance&lt;/p&gt;\n&lt;p&gt;0505. Old Business&lt;/p&gt;\n&lt;p&gt;0530&amp;nbsp\; New B
 usiness&lt;/p&gt;\n&lt;p&gt;0600&amp;nbsp\; Adjourn&lt;/p&gt;\n&lt;p&gt;&amp;nbsp\;&lt;/p&gt;
END:VEVENT
END:VCALENDAR

