BEGIN:VCALENDAR
VERSION:2.0
PRODID:IEEE vTools.Events//EN
CALSCALE:GREGORIAN
BEGIN:VTIMEZONE
TZID:America/St_Johns
BEGIN:DAYLIGHT
DTSTART:20250309T030000
TZOFFSETFROM:-0430
TZOFFSETTO:-0330
RRULE:FREQ=YEARLY;BYDAY=2SU;BYMONTH=3
TZNAME:NDT
END:DAYLIGHT
BEGIN:STANDARD
DTSTART:20251102T010000
TZOFFSETFROM:-0330
TZOFFSETTO:-0430
RRULE:FREQ=YEARLY;BYDAY=1SU;BYMONTH=11
TZNAME:NST
END:STANDARD
END:VTIMEZONE
BEGIN:VEVENT
DTSTAMP:20250525T162504Z
UID:24AACED8-AE13-44AA-8223-6AB8042A01AC
DTSTART;TZID=America/St_Johns:20250522T150000
DTEND;TZID=America/St_Johns:20250522T160000
DESCRIPTION:The title of the talk:\n\n&quot;Advancing Marine Robotics in Complex
  Environments &quot;\n\nAbstract:\n\nMarine robotic platforms have been increas
 ingly used in oceanography and marine science research to study complex pr
 ocesses in challenging environments. In this seminar\, the speaker will pr
 esent the recent the development of a highly customizable control and miss
 ion management system\, and autonomy systems for marine robotic platforms 
 conducting complicated missions\, such as ice-water interface exploration\
 , iceberg mapping\, underwater docking and multi-agent coordination.\n\nPr
 esenter:\n\nDr. Mingxi Zhou\n\nMingxi&#39;s brief bio:\n\nMingxi Zhou is an As
 sociate Professor at Graduate School of Oceanography\, University of Rhode
  Island. Prior to his appointment\, he was a postdoctoral researcher at Me
 morial University of Newfoundland from 2017 to 2018. He received his PhD a
 nd M.Eng degree from Memorial University of Newfoundland in 2017 and 2012\
 , and holds a bachelor’s degree in engineering from Central South Univer
 sity in China.\n\nHis research is focused on marine autonomy\, underwater 
 navigation\, and open-access hardware development\, especially for operati
 ons in complex environments\, such as under-ice and rapidly changing coast
 al waters. He is an NSF CAREER Award recipient in 2023.\n\nTime:\n\nMay 22
 \, 2025 from 3:00 pm - 4:00 pm (NL time)\n\nWebex link: https://mun.webex.
 com/meet/weimin\n\nSpeaker(s): Mingxi Zhou\, \n\nVirtual: https://events.v
 tools.ieee.org/m/481014
LOCATION:Virtual: https://events.vtools.ieee.org/m/481014
ORGANIZER:weimin@mun.ca
SEQUENCE:27
SUMMARY:IEEE OES-GRSS NL chapter Invited Talk 1
URL;VALUE=URI:https://events.vtools.ieee.org/m/481014
X-ALT-DESC:Description: &lt;br /&gt;&lt;p class=&quot;MsoNormal&quot; style=&quot;mso-margin-top-al
 t: auto\; mso-margin-bottom-alt: auto\;&quot;&gt;&lt;strong&gt;&lt;span lang=&quot;EN-CA&quot; style=
 &quot;font-size: 13.5pt\; font-family: &#39;Calibri&#39;\,sans-serif\; color: #212121\;
  mso-ansi-language: EN-CA\;&quot;&gt;The title of the talk:&lt;/span&gt;&lt;/strong&gt;&lt;/p&gt;\n&lt;
 p class=&quot;MsoNormal&quot; style=&quot;mso-margin-top-alt: auto\; mso-margin-bottom-al
 t: auto\;&quot;&gt;&lt;span lang=&quot;EN-CA&quot; style=&quot;font-size: 13.5pt\; color: #212121\; 
 mso-ansi-language: EN-CA\;&quot;&gt;&quot;&lt;strong&gt;&lt;span style=&quot;font-size: 12.0pt\; line
 -height: 115%\; font-family: &#39;Aptos&#39;\,sans-serif\; mso-ascii-theme-font: m
 inor-latin\; mso-fareast-font-family: DengXian\; mso-fareast-theme-font: m
 inor-fareast\; mso-hansi-theme-font: minor-latin\; mso-bidi-font-family: &#39;
 Times New Roman&#39;\; mso-bidi-theme-font: minor-bidi\; mso-ansi-language: EN
 -US\; mso-fareast-language: ZH-CN\; mso-bidi-language: AR-SA\;&quot;&gt;Advancing 
 Marine Robotics in Complex Environments &lt;/span&gt;&lt;/strong&gt;&quot;&lt;/span&gt;&lt;/p&gt;\n&lt;p c
 lass=&quot;MsoNormal&quot; style=&quot;mso-margin-top-alt: auto\; mso-margin-bottom-alt: 
 auto\;&quot;&gt;&lt;span lang=&quot;EN-CA&quot; style=&quot;font-size: 13.5pt\; color: black\; mso-a
 nsi-language: EN-CA\;&quot;&gt;&amp;nbsp\;&lt;/span&gt;&lt;/p&gt;\n&lt;p class=&quot;MsoNormal&quot; style=&quot;mso
 -margin-top-alt: auto\; mso-margin-bottom-alt: auto\;&quot;&gt;&lt;strong&gt;&lt;span lang=
 &quot;EN-CA&quot; style=&quot;font-size: 13.5pt\; font-family: &#39;Calibri&#39;\,sans-serif\; co
 lor: #212121\; mso-ansi-language: EN-CA\;&quot;&gt;Abstract:&lt;/span&gt;&lt;/strong&gt;&lt;/p&gt;\n
 &lt;p class=&quot;MsoNormal&quot; style=&quot;mso-margin-top-alt: auto\; mso-margin-bottom-a
 lt: auto\;&quot;&gt;&lt;span style=&quot;font-size: 12.0pt\; line-height: 115%\; font-fami
 ly: &#39;Aptos&#39;\,sans-serif\; mso-ascii-theme-font: minor-latin\; mso-fareast-
 font-family: DengXian\; mso-fareast-theme-font: minor-fareast\; mso-hansi-
 theme-font: minor-latin\; mso-bidi-font-family: &#39;Times New Roman&#39;\; mso-bi
 di-theme-font: minor-bidi\; mso-ansi-language: EN-US\; mso-fareast-languag
 e: ZH-CN\; mso-bidi-language: AR-SA\;&quot;&gt;Marine robotic platforms have been 
 increasingly used in oceanography and marine science research to study com
 plex processes in challenging environments. In this seminar\, the speaker 
 will present &lt;/span&gt;&lt;span style=&quot;font-size: 11.0pt\; line-height: 115%\; f
 ont-family: &#39;Arial&#39;\,sans-serif\; mso-fareast-font-family: &#39;Libre Franklin
 &#39;\; mso-ansi-language: EN-US\; mso-fareast-language: ZH-CN\; mso-bidi-lang
 uage: AR-SA\;&quot;&gt;the recent the development of a highly customizable control
  and mission management system\, and autonomy systems for marine robotic p
 latforms conducting complicated missions\,&lt;/span&gt;&lt;span style=&quot;font-size: 1
 2.0pt\; line-height: 115%\; font-family: &#39;Aptos&#39;\,sans-serif\; mso-ascii-t
 heme-font: minor-latin\; mso-fareast-font-family: DengXian\; mso-fareast-t
 heme-font: minor-fareast\; mso-hansi-theme-font: minor-latin\; mso-bidi-fo
 nt-family: &#39;Times New Roman&#39;\; mso-bidi-theme-font: minor-bidi\; mso-ansi-
 language: EN-US\; mso-fareast-language: ZH-CN\; mso-bidi-language: AR-SA\;
 &quot;&gt; &lt;/span&gt;&lt;span style=&quot;font-size: 11.0pt\; line-height: 115%\; font-family
 : &#39;Arial&#39;\,sans-serif\; mso-fareast-font-family: &#39;Libre Franklin&#39;\; mso-an
 si-language: EN-US\; mso-fareast-language: ZH-CN\; mso-bidi-language: AR-S
 A\;&quot;&gt;such as ice-water interface exploration\, iceberg mapping\, underwate
 r docking and multi-agent coordination.&lt;/span&gt;&lt;/p&gt;\n&lt;p class=&quot;MsoNormal&quot; s
 tyle=&quot;mso-margin-top-alt: auto\; mso-margin-bottom-alt: auto\;&quot;&gt;&lt;span lang
 =&quot;EN-CA&quot; style=&quot;font-size: 13.5pt\; color: black\; mso-ansi-language: EN-C
 A\;&quot;&gt;&amp;nbsp\;&lt;/span&gt;&lt;/p&gt;\n&lt;p class=&quot;MsoNormal&quot; style=&quot;mso-margin-top-alt: a
 uto\; mso-margin-bottom-alt: auto\;&quot;&gt;&lt;strong&gt;&lt;span lang=&quot;EN-CA&quot; style=&quot;fon
 t-size: 13.5pt\; font-family: &#39;Calibri&#39;\,sans-serif\; color: #212121\; mso
 -ansi-language: EN-CA\;&quot;&gt;Presenter:&lt;/span&gt;&lt;/strong&gt;&lt;/p&gt;\n&lt;p class=&quot;MsoNorm
 al&quot; style=&quot;mso-margin-top-alt: auto\; mso-margin-bottom-alt: auto\;&quot;&gt;&lt;span
  lang=&quot;EN-CA&quot; style=&quot;font-size: 12.0pt\; color: #212121\; mso-ansi-languag
 e: EN-CA\;&quot;&gt;Dr. Mingxi Zhou&lt;/span&gt;&lt;/p&gt;\n&lt;p class=&quot;MsoNormal&quot; style=&quot;mso-ma
 rgin-top-alt: auto\; mso-margin-bottom-alt: auto\;&quot;&gt;&lt;span lang=&quot;EN-CA&quot; sty
 le=&quot;font-size: 13.5pt\; color: black\; mso-ansi-language: EN-CA\;&quot;&gt;&amp;nbsp\;
 &lt;/span&gt;&lt;/p&gt;\n&lt;p class=&quot;MsoNormal&quot; style=&quot;mso-margin-top-alt: auto\; mso-ma
 rgin-bottom-alt: auto\;&quot;&gt;&lt;strong&gt;&lt;span lang=&quot;EN-CA&quot; style=&quot;font-size: 13.5
 pt\; font-family: &#39;Calibri&#39;\,sans-serif\; color: #212121\; mso-ansi-langua
 ge: EN-CA\;&quot;&gt;Mingxi&#39;s brief bio:&amp;nbsp\;&lt;/span&gt;&lt;/strong&gt;&lt;/p&gt;\n&lt;p class=&quot;Mso
 Normal&quot;&gt;Mingxi Zhou is an Associate Professor at Graduate School of Oceano
 graphy\, University of Rhode Island. Prior to his appointment\, he was a p
 ostdoctoral researcher at Memorial University of Newfoundland from 2017 to
  2018. He received his PhD and M.Eng degree from Memorial University of Ne
 wfoundland in 2017 and 2012\, and holds a bachelor&amp;rsquo\;s degree in engi
 neering from Central South University in China.&lt;/p&gt;\n&lt;p class=&quot;MsoNormal&quot; 
 style=&quot;mso-margin-top-alt: auto\; mso-margin-bottom-alt: auto\;&quot;&gt;&lt;span lan
 g=&quot;EN-CA&quot; style=&quot;font-size: 13.5pt\; color: #212121\; mso-ansi-language: E
 N-CA\;&quot;&gt;&lt;span style=&quot;font-size: 12.0pt\; line-height: 115%\; font-family: 
 &#39;Aptos&#39;\,sans-serif\; mso-ascii-theme-font: minor-latin\; mso-fareast-font
 -family: DengXian\; mso-fareast-theme-font: minor-fareast\; mso-hansi-them
 e-font: minor-latin\; mso-bidi-font-family: &#39;Times New Roman&#39;\; mso-bidi-t
 heme-font: minor-bidi\; mso-ansi-language: EN-US\; mso-fareast-language: Z
 H-CN\; mso-bidi-language: AR-SA\;&quot;&gt;His research is focused on marine auton
 omy\, underwater navigation\, and open-access hardware development\, espec
 ially for operations in complex environments\, such as under-ice and rapid
 ly changing coastal waters. He is an NSF CAREER Award recipient in 2023&lt;/s
 pan&gt;.&lt;/span&gt;&lt;/p&gt;\n&lt;p class=&quot;MsoNormal&quot; style=&quot;mso-margin-top-alt: auto\; m
 so-margin-bottom-alt: auto\;&quot;&gt;&lt;span lang=&quot;EN-CA&quot; style=&quot;font-size: 13.5pt\
 ; color: black\; mso-ansi-language: EN-CA\;&quot;&gt;&amp;nbsp\;&lt;/span&gt;&lt;/p&gt;\n&lt;p class=
 &quot;MsoNormal&quot; style=&quot;mso-margin-top-alt: auto\; mso-margin-bottom-alt: auto\
 ;&quot;&gt;&lt;strong&gt;&lt;span lang=&quot;EN-CA&quot; style=&quot;font-size: 13.5pt\; font-family: &#39;Cal
 ibri&#39;\,sans-serif\; color: #212121\; mso-ansi-language: EN-CA\;&quot;&gt;Time:&lt;/sp
 an&gt;&lt;/strong&gt;&lt;/p&gt;\n&lt;p class=&quot;MsoNormal&quot; style=&quot;mso-margin-top-alt: auto\; m
 so-margin-bottom-alt: auto\;&quot;&gt;&lt;span lang=&quot;EN-CA&quot; style=&quot;font-size: 13.5pt\
 ; color: #212121\; mso-ansi-language: EN-CA\;&quot;&gt;May 22\, 2025 from 3:00 pm 
 - 4:00 pm (NL time)&lt;/span&gt;&lt;/p&gt;\n&lt;p class=&quot;MsoNormal&quot; style=&quot;mso-margin-top
 -alt: auto\; mso-margin-bottom-alt: auto\;&quot;&gt;&amp;nbsp\;&lt;/p&gt;\n&lt;p class=&quot;MsoNorm
 al&quot; style=&quot;mso-margin-top-alt: auto\; mso-margin-bottom-alt: auto\;&quot;&gt;&lt;span
  lang=&quot;EN-CA&quot; style=&quot;font-size: 13.5pt\; color: black\; mso-ansi-language:
  EN-CA\;&quot;&gt;Webex link: &lt;a href=&quot;https://mun.webex.com/meet/weimin&quot;&gt;https://
 mun.webex.com/meet/weimin&lt;/a&gt;&amp;nbsp\;&lt;/span&gt;&lt;/p&gt;
END:VEVENT
END:VCALENDAR

