BEGIN:VCALENDAR
VERSION:2.0
PRODID:IEEE vTools.Events//EN
CALSCALE:GREGORIAN
BEGIN:VTIMEZONE
TZID:America/Bogota
BEGIN:DAYLIGHT
DTSTART:20380118T221407
TZOFFSETFROM:-0500
TZOFFSETTO:-0500
RRULE:FREQ=YEARLY;BYDAY=3MO;BYMONTH=1
TZNAME:-05
END:DAYLIGHT
BEGIN:STANDARD
DTSTART:19930206T230000
TZOFFSETFROM:-0400
TZOFFSETTO:-0500
RRULE:FREQ=YEARLY;BYDAY=1SA;BYMONTH=2
TZNAME:-05
END:STANDARD
END:VTIMEZONE
BEGIN:VEVENT
DTSTAMP:20250810T221113Z
UID:94A1AE1C-C1B7-45DB-940E-19AC564D178F
DTSTART;TZID=America/Bogota:20250711T200000
DTEND;TZID=America/Bogota:20250712T150000
DESCRIPTION:🚀 ¡Llega EMPRENDIEEE 2025 – Guayaquil! 🌟\n\nÚnete a u
 n hackathon único donde la creatividad y la innovación se unen para gene
 rar soluciones de emprendimiento social que apoyen a personas en situació
 n de vulnerabilidad 💡🤝.\n\n📅 Fecha: 31 de julio de 2025\n📍 Lug
 ar: Centro de Convenciones Baguanchi\, Guayaquil\n🎯 Modalidad: Presenci
 al\n\nOrganizado por IEEE Young Professionals Ecuador en conjunto con la R
 ama Estudiantil IEEE UPS Cuenca\, la Rama Estudiantil IEEE Guayaquil\, la 
 Universidad Politécnica Salesiana y la FEUPS\, este evento es mucho más 
 que una competencia: es una oportunidad para crear impacto real en comunid
 ades mientras fortaleces tus habilidades blandas y aprendes de expertos 
 🚀📚.\n\n💼 ¿Qué te espera?\n✨ Talleres prácticos de emprendimi
 ento social y liderazgo.\n🧠 Mentorías personalizadas con profesionales
  y líderes de IEEE.\n🤝 Trabajo en equipo para desarrollar soluciones i
 nnovadoras.\n🏆 Oportunidad de presentar tu proyecto en el DemoDay del E
 TCM\, el congreso IEEE más grande de Ecuador.\n\n🎟 Cupos limitados →
  ¡Asegura tu lugar ahora y sé parte del cambio! 🌍\n\nAgenda: \nDurant
 e el evento EMPRENDIEEE 2025\, los participantes vivirán un programa inte
 nsivo de formación y desarrollo de proyectos de base tecnológica con imp
 acto social\, ambiental y económico. Las actividades se desarrollarán en
  dos días:\n\n-\n💡 Día 1 — Workshops de Formación y Prototipado:\n
 Los participantes trabajarán en:\n\n-\nIdentificación de problemas y opo
 rtunidades alineadas a los Objetivos de Desarrollo Sostenible (ODS).\n\n-\
 nTécnicas de ideación y prototipado rápido para transformar ideas en so
 luciones concretas.\n\n-\nHerramientas prácticas para la validación de p
 roductos\, servicios y modelos de negocio.\n\n-\n🎤 Día 2 — Preparaci
 ón y Competencia de Pitch:\nLos equipos recibirán capacitación en:\n\n-
 \nEstructura profesional de un pitch y storytelling para comunicar su prop
 uesta de valor.\n\n-\nDesarrollo de presentaciones efectivas orientadas a 
 público técnico y jurado.\n\nEl evento finalizará con una Competencia d
 e Pitch\, donde los proyectos serán presentados ante un jurado de experto
 s\, permitiendo a los equipos demostrar sus capacidades\, recibir retroali
 mentación y conectarse con el ecosistema de emprendimiento.\n\nGuayaquil\
 , Guayas\, Ecuador
LOCATION:Guayaquil\, Guayas\, Ecuador
ORGANIZER:pedropinedafdc@ieee.org
SEQUENCE:2
SUMMARY:Programa de Emprendimiento EMPRENDIEEE 2025 Guayaquil
URL;VALUE=URI:https://events.vtools.ieee.org/m/481129
X-ALT-DESC:Description: &lt;br /&gt;&lt;p data-start=&quot;149&quot; data-end=&quot;197&quot;&gt;🚀 &lt;stro
 ng data-start=&quot;152&quot; data-end=&quot;192&quot;&gt;&amp;iexcl\;Llega EMPRENDIEEE 2025 &amp;ndash\;
  Guayaquil!&lt;/strong&gt; 🌟&lt;/p&gt;\n&lt;p data-start=&quot;199&quot; data-end=&quot;388&quot;&gt;&amp;Uacute\
 ;nete a un &lt;strong data-start=&quot;210&quot; data-end=&quot;229&quot;&gt;hackathon &amp;uacute\;nico
 &lt;/strong&gt; donde la creatividad y la innovaci&amp;oacute\;n se unen para genera
 r &lt;strong data-start=&quot;288&quot; data-end=&quot;327&quot;&gt;soluciones de emprendimiento soc
 ial&lt;/strong&gt; que apoyen a personas en situaci&amp;oacute\;n de vulnerabilidad 
 💡🤝.&lt;/p&gt;\n&lt;p data-start=&quot;390&quot; data-end=&quot;516&quot;&gt;📅 &lt;strong data-start=
 &quot;393&quot; data-end=&quot;403&quot;&gt;Fecha:&lt;/strong&gt; 31 de julio de 2025&lt;br data-start=&quot;42
 3&quot; data-end=&quot;426&quot;&gt;📍 &lt;strong data-start=&quot;429&quot; data-end=&quot;439&quot;&gt;Lugar:&lt;/str
 ong&gt; Centro de Convenciones Baguanchi\, Guayaquil&lt;br data-start=&quot;483&quot; data
 -end=&quot;486&quot;&gt;🎯 &lt;strong data-start=&quot;489&quot; data-end=&quot;503&quot;&gt;Modalidad:&lt;/strong
 &gt; Presencial&lt;/p&gt;\n&lt;p data-start=&quot;518&quot; data-end=&quot;906&quot;&gt;Organizado por &lt;stron
 g data-start=&quot;533&quot; data-end=&quot;569&quot;&gt;IEEE Young Professionals Ecuador&lt;/strong
 &gt; en conjunto con la &lt;strong data-start=&quot;589&quot; data-end=&quot;625&quot;&gt;Rama Estudian
 til IEEE UPS Cuenca&lt;/strong&gt;\, la &lt;strong data-start=&quot;630&quot; data-end=&quot;665&quot;&gt;
 Rama Estudiantil IEEE Guayaquil&lt;/strong&gt;\, la &lt;strong data-start=&quot;670&quot; dat
 a-end=&quot;707&quot;&gt;Universidad Polit&amp;eacute\;cnica Salesiana&lt;/strong&gt; y la &lt;stron
 g data-start=&quot;713&quot; data-end=&quot;722&quot;&gt;FEUPS&lt;/strong&gt;\, este evento es mucho m&amp;
 aacute\;s que una competencia: es una oportunidad para &lt;strong data-start=
 &quot;794&quot; data-end=&quot;831&quot;&gt;crear impacto real en comunidades&lt;/strong&gt; mientras f
 ortaleces tus habilidades blandas y aprendes de expertos 🚀📚.&lt;/p&gt;\n&lt;p
  data-start=&quot;908&quot; data-end=&quot;1234&quot;&gt;💼 &lt;strong data-start=&quot;911&quot; data-end=&quot;
 930&quot;&gt;&amp;iquest\;Qu&amp;eacute\; te espera?&lt;/strong&gt;&lt;br data-start=&quot;930&quot; data-end
 =&quot;933&quot;&gt;✨ Talleres pr&amp;aacute\;cticos de emprendimiento social y liderazgo
 .&lt;br data-start=&quot;991&quot; data-end=&quot;994&quot;&gt;🧠 Mentor&amp;iacute\;as personalizadas
  con profesionales y l&amp;iacute\;deres de IEEE.&lt;br data-start=&quot;1058&quot; data-en
 d=&quot;1061&quot;&gt;🤝 Trabajo en equipo para desarrollar soluciones innovadoras.&lt;b
 r data-start=&quot;1122&quot; data-end=&quot;1125&quot;&gt;🏆 Oportunidad de presentar tu proye
 cto en el &lt;strong data-start=&quot;1171&quot; data-end=&quot;1191&quot;&gt;DemoDay del ETCM&lt;/stro
 ng&gt;\, el congreso IEEE m&amp;aacute\;s grande de Ecuador.&lt;/p&gt;\n&lt;p data-start=&quot;
 1236&quot; data-end=&quot;1312&quot;&gt;🎟 &lt;strong data-start=&quot;1239&quot; data-end=&quot;1258&quot;&gt;Cupos
  limitados&lt;/strong&gt; &amp;rarr\; &amp;iexcl\;Asegura tu lugar ahora y s&amp;eacute\; pa
 rte del cambio! 🌍&lt;/p&gt;\n&lt;p data-start=&quot;1236&quot; data-end=&quot;1312&quot;&gt;&amp;nbsp\;&lt;/p&gt;
 \n&lt;p data-start=&quot;1236&quot; data-end=&quot;1312&quot;&gt;&lt;img src=&quot;https://events.vtools.iee
 e.org/vtools_ui/media/display/34c73250-1e80-4cd6-97e8-675f121fc30a&quot; width=
 &quot;500&quot; height=&quot;500&quot;&gt;&lt;/p&gt;&lt;br /&gt;&lt;br /&gt;Agenda: &lt;br /&gt;&lt;p class=&quot;&quot; data-start=&quot;1
 31&quot; data-end=&quot;371&quot;&gt;Durante el evento EMPRENDIEEE 2025\, los participantes 
 vivir&amp;aacute\;n un programa intensivo de formaci&amp;oacute\;n y desarrollo de
  proyectos de base tecnol&amp;oacute\;gica con impacto social\, ambiental y ec
 on&amp;oacute\;mico. Las actividades se desarrollar&amp;aacute\;n en dos d&amp;iacute\
 ;as:&lt;/p&gt;\n&lt;ul data-start=&quot;373&quot; data-end=&quot;1029&quot;&gt;\n&lt;li class=&quot;&quot; data-start=&quot;
 373&quot; data-end=&quot;758&quot;&gt;\n&lt;p class=&quot;&quot; data-start=&quot;375&quot; data-end=&quot;462&quot;&gt;💡 &lt;em
  data-start=&quot;378&quot; data-end=&quot;424&quot;&gt;D&amp;iacute\;a 1 &amp;mdash\; Workshops de Forma
 ci&amp;oacute\;n y Prototipado&lt;/em&gt;:&lt;br data-start=&quot;425&quot; data-end=&quot;428&quot;&gt;Los pa
 rticipantes trabajar&amp;aacute\;n en:&lt;/p&gt;\n&lt;ul data-start=&quot;465&quot; data-end=&quot;758
 &quot;&gt;\n&lt;li class=&quot;&quot; data-start=&quot;465&quot; data-end=&quot;570&quot;&gt;\n&lt;p class=&quot;&quot; data-start=
 &quot;467&quot; data-end=&quot;570&quot;&gt;Identificaci&amp;oacute\;n de problemas y oportunidades a
 lineadas a los Objetivos de Desarrollo Sostenible (ODS).&lt;/p&gt;\n&lt;/li&gt;\n&lt;li c
 lass=&quot;&quot; data-start=&quot;573&quot; data-end=&quot;666&quot;&gt;\n&lt;p class=&quot;&quot; data-start=&quot;575&quot; dat
 a-end=&quot;666&quot;&gt;T&amp;eacute\;cnicas de ideaci&amp;oacute\;n y prototipado r&amp;aacute\;p
 ido para transformar ideas en soluciones concretas.&lt;/p&gt;\n&lt;/li&gt;\n&lt;li class=
 &quot;&quot; data-start=&quot;669&quot; data-end=&quot;758&quot;&gt;\n&lt;p class=&quot;&quot; data-start=&quot;671&quot; data-end
 =&quot;758&quot;&gt;Herramientas pr&amp;aacute\;cticas para la validaci&amp;oacute\;n de produc
 tos\, servicios y modelos de negocio.&lt;/p&gt;\n&lt;/li&gt;\n&lt;/ul&gt;\n&lt;/li&gt;\n&lt;li class=
 &quot;&quot; data-start=&quot;760&quot; data-end=&quot;1029&quot;&gt;\n&lt;p class=&quot;&quot; data-start=&quot;762&quot; data-en
 d=&quot;853&quot;&gt;🎤 &lt;em data-start=&quot;765&quot; data-end=&quot;809&quot;&gt;D&amp;iacute\;a 2 &amp;mdash\; Pr
 eparaci&amp;oacute\;n y Competencia de Pitch&lt;/em&gt;:&lt;br data-start=&quot;810&quot; data-en
 d=&quot;813&quot;&gt;Los equipos recibir&amp;aacute\;n capacitaci&amp;oacute\;n en:&lt;/p&gt;\n&lt;ul da
 ta-start=&quot;856&quot; data-end=&quot;1029&quot;&gt;\n&lt;li class=&quot;&quot; data-start=&quot;856&quot; data-end=&quot;9
 47&quot;&gt;\n&lt;p class=&quot;&quot; data-start=&quot;858&quot; data-end=&quot;947&quot;&gt;Estructura profesional d
 e un pitch y storytelling para comunicar su propuesta de valor.&lt;/p&gt;\n&lt;/li&gt;
 \n&lt;li class=&quot;&quot; data-start=&quot;950&quot; data-end=&quot;1029&quot;&gt;\n&lt;p class=&quot;&quot; data-start=&quot;
 952&quot; data-end=&quot;1029&quot;&gt;Desarrollo de presentaciones efectivas orientadas a p
 &amp;uacute\;blico t&amp;eacute\;cnico y jurado.&lt;/p&gt;\n&lt;/li&gt;\n&lt;/ul&gt;\n&lt;/li&gt;\n&lt;/ul&gt;\n
 &lt;p class=&quot;&quot; data-start=&quot;1031&quot; data-end=&quot;1278&quot;&gt;El evento finalizar&amp;aacute\;
  con una &lt;em data-start=&quot;1060&quot; data-end=&quot;1082&quot;&gt;Competencia de Pitch&lt;/em&gt;\,
  donde los proyectos ser&amp;aacute\;n presentados ante un jurado de expertos\
 , permitiendo a los equipos demostrar sus capacidades\, recibir retroalime
 ntaci&amp;oacute\;n y conectarse con el ecosistema de emprendimiento.&lt;/p&gt;
END:VEVENT
END:VCALENDAR

