BEGIN:VCALENDAR
VERSION:2.0
PRODID:IEEE vTools.Events//EN
CALSCALE:GREGORIAN
BEGIN:VTIMEZONE
TZID:America/Chicago
BEGIN:DAYLIGHT
DTSTART:20250309T030000
TZOFFSETFROM:-0600
TZOFFSETTO:-0500
RRULE:FREQ=YEARLY;BYDAY=2SU;BYMONTH=3
TZNAME:CDT
END:DAYLIGHT
BEGIN:STANDARD
DTSTART:20251102T010000
TZOFFSETFROM:-0500
TZOFFSETTO:-0600
RRULE:FREQ=YEARLY;BYDAY=1SU;BYMONTH=11
TZNAME:CST
END:STANDARD
END:VTIMEZONE
BEGIN:VEVENT
DTSTAMP:20250414T172143Z
UID:32EBBC75-6685-4290-A155-AB2C5FC058DE
DTSTART;TZID=America/Chicago:20250415T180000
DTEND;TZID=America/Chicago:20250415T190000
DESCRIPTION:Come join us to get some free food and learn about the career o
 pportunities that Parsons is offering to students. If you are an Aerospace
 \, Computer\, Electrical\, or Mechanical engineering student\, or happen t
 o be in the Computer Science\, Physics\, or Math departments\, please come
 ! Parsons will have a speaker discuss the technical aspects of their work 
 along with the internship and job opportunities they have available. Every
 one from freshmen to graduate students will find something of interest.\n\
 nIf you want to learn more about the company before coming\, please visit 
 https://www.parsons.com/.\n\nThis event is Sponsored by IEEE\, AIAA\, ACM\
 , SPS\, WiP\, SPIE\, Optica\, and is open to all UAH students and alumni.\
 n\nCo-sponsored by: AIAA\, ACM\, SPS\, WiP\, SPIE\, and Optica at UAH\n\nS
 peaker(s): \, John\n\nRoom: 126\, Bldg: Conference Training Center\, 1410 
 Ben Graves Dr NW\, Huntsville\, Alabama\, United States\, 35816
LOCATION:Room: 126\, Bldg: Conference Training Center\, 1410 Ben Graves Dr 
 NW\, Huntsville\, Alabama\, United States\, 35816
ORGANIZER:quin.goins@ieee.org
SEQUENCE:31
SUMMARY:Networking Night with Parsons
URL;VALUE=URI:https://events.vtools.ieee.org/m/481243
X-ALT-DESC:Description: &lt;br /&gt;&lt;p&gt;Come join us to get some free food and lea
 rn about the career opportunities that Parsons is offering to students. If
  you are an Aerospace\, Computer\, Electrical\, or Mechanical engineering 
 student\, or happen to be in the Computer Science\, Physics\, or Math depa
 rtments\, please come! Parsons will have a speaker discuss the technical a
 spects of their work along with the internship and job opportunities they 
 have available. Everyone from freshmen to graduate students will find some
 thing of interest.&lt;/p&gt;\n&lt;p&gt;&lt;br&gt;If you want to learn more about the company
  before coming\, please visit https://www.parsons.com/.&lt;/p&gt;\n&lt;p&gt;This event
  is Sponsored by IEEE\, AIAA\, ACM\, SPS\, WiP\, SPIE\, Optica\, and is op
 en to all UAH students and alumni.&lt;/p&gt;
END:VEVENT
END:VCALENDAR

