BEGIN:VCALENDAR
VERSION:2.0
PRODID:IEEE vTools.Events//EN
CALSCALE:GREGORIAN
BEGIN:VTIMEZONE
TZID:America/La_Paz
BEGIN:DAYLIGHT
DTSTART:20380118T231407
TZOFFSETFROM:-0400
TZOFFSETTO:-0400
RRULE:FREQ=YEARLY;BYDAY=3MO;BYMONTH=1
TZNAME:-04
END:DAYLIGHT
BEGIN:STANDARD
DTSTART:19320320T233236
TZOFFSETFROM:-0427
TZOFFSETTO:-0400
RRULE:FREQ=YEARLY;BYDAY=3SU;BYMONTH=3
TZNAME:-04
END:STANDARD
END:VTIMEZONE
BEGIN:VEVENT
DTSTAMP:20250715T022730Z
UID:36F3B336-2E96-47A0-9D7A-8BCAE9E0E5D7
DTSTART;TZID=America/La_Paz:20250615T180000
DTEND;TZID=America/La_Paz:20250615T220000
DESCRIPTION:Join us for ConnectUp: Speed Networking by IEEE\, a dynamic hyb
 rid event designed to build meaningful professional connections among IEEE
  Young Professionals and students from around the world. This initiative w
 ill feature two engaging sessions:\n\n- Virtual Knowledge Exchange Day –
  Participate in international discussions\, share insights\, and explore g
 lobal opportunities in engineering\, technology\, and innovation.\n- In-Pe
 rson Speed Networking Session – Meet face-to-face with professionals in 
 your region through fast-paced conversations that promote collaboration\, 
 mentorship\, and career growth.\n\nWhether you&#39;re a student transitioning 
 into the professional world or an early-career engineer looking to expand 
 your network\, ConnectUp offers a unique space to connect\, collaborate\, 
 and grow.\n\nDon’t miss the chance to meet like-minded individuals\, exc
 hange ideas\, and discover new paths within the global IEEE community!\n\n
 Cochabamba\, Cochabamba\, Bolivia\, 0000\, Virtual: https://events.vtools.
 ieee.org/m/481320
LOCATION:Cochabamba\, Cochabamba\, Bolivia\, 0000\, Virtual: https://events
 .vtools.ieee.org/m/481320
ORGANIZER:raquelcalderon@ieee.org
SEQUENCE:30
SUMMARY:ConnectUp: Speed Networking by IEEE
URL;VALUE=URI:https://events.vtools.ieee.org/m/481320
X-ALT-DESC:Description: &lt;br /&gt;&lt;p&gt;Join us for &lt;strong data-start=&quot;264&quot; data-
 end=&quot;307&quot;&gt;ConnectUp: Speed Networking by IEEE&lt;/strong&gt;\, a dynamic hybrid 
 event designed to build meaningful professional connections among IEEE You
 ng Professionals and students from around the world. This initiative will 
 feature two engaging sessions:&lt;/p&gt;\n&lt;ul&gt;\n&lt;li data-start=&quot;508&quot; data-end=&quot;6
 84&quot;&gt;&lt;strong data-start=&quot;511&quot; data-end=&quot;545&quot;&gt;Virtual Knowledge Exchange Day
 &lt;/strong&gt; &amp;ndash\; Participate in international discussions\, share insigh
 ts\, and explore global opportunities in engineering\, technology\, and in
 novation.&lt;/li&gt;\n&lt;li data-start=&quot;508&quot; data-end=&quot;684&quot;&gt;&lt;strong data-start=&quot;68
 9&quot; data-end=&quot;727&quot;&gt;In-Person Speed Networking Session&lt;/strong&gt; &amp;ndash\; Mee
 t face-to-face with professionals in your region through fast-paced conver
 sations that promote collaboration\, mentorship\, and career growth.&lt;/li&gt;\
 n&lt;/ul&gt;\n&lt;p class=&quot;&quot; data-start=&quot;877&quot; data-end=&quot;1076&quot;&gt;Whether you&#39;re a stud
 ent transitioning into the professional world or an early-career engineer 
 looking to expand your network\, &lt;strong data-start=&quot;1004&quot; data-end=&quot;1017&quot;
 &gt;ConnectUp&lt;/strong&gt; offers a unique space to connect\, collaborate\, and g
 row.&lt;/p&gt;\n&lt;p class=&quot;&quot; data-start=&quot;1078&quot; data-end=&quot;1205&quot;&gt;Don&amp;rsquo\;t miss 
 the chance to meet like-minded individuals\, exchange ideas\, and discover
  new paths within the global IEEE community!&lt;/p&gt;
END:VEVENT
END:VCALENDAR

